BEGIN:VCALENDAR
VERSION:2.0
PRODID:-//Club OODAZU - ECPv6.15.18//NONSGML v1.0//EN
CALSCALE:GREGORIAN
METHOD:PUBLISH
X-WR-CALNAME:Club OODAZU
X-ORIGINAL-URL:https://cluboodazu.com
X-WR-CALDESC:Events for Club OODAZU
REFRESH-INTERVAL;VALUE=DURATION:PT1H
X-Robots-Tag:noindex
X-PUBLISHED-TTL:PT1H
BEGIN:VTIMEZONE
TZID:America/New_York
BEGIN:DAYLIGHT
TZOFFSETFROM:-0500
TZOFFSETTO:-0400
TZNAME:EDT
DTSTART:20250309T070000
END:DAYLIGHT
BEGIN:STANDARD
TZOFFSETFROM:-0400
TZOFFSETTO:-0500
TZNAME:EST
DTSTART:20251102T060000
END:STANDARD
BEGIN:DAYLIGHT
TZOFFSETFROM:-0500
TZOFFSETTO:-0400
TZNAME:EDT
DTSTART:20260308T070000
END:DAYLIGHT
BEGIN:STANDARD
TZOFFSETFROM:-0400
TZOFFSETTO:-0500
TZNAME:EST
DTSTART:20261101T060000
END:STANDARD
BEGIN:DAYLIGHT
TZOFFSETFROM:-0500
TZOFFSETTO:-0400
TZNAME:EDT
DTSTART:20270314T070000
END:DAYLIGHT
BEGIN:STANDARD
TZOFFSETFROM:-0400
TZOFFSETTO:-0500
TZNAME:EST
DTSTART:20271107T060000
END:STANDARD
END:VTIMEZONE
BEGIN:VEVENT
DTSTART;TZID=America/New_York:20260423T100000
DTEND;TZID=America/New_York:20260423T150000
DTSTAMP:20260423T143743
CREATED:20260115T035201Z
LAST-MODIFIED:20260407T161131Z
UID:10001979-1776938400-1776956400@cluboodazu.com
SUMMARY:Adult Open Play - Weekdays
DESCRIPTION:Grown-ups get their own time on the courts with dedicated Adult Open Play sessions featuring pickleball\, basketball\, futsal (indoor soccer)\, and volleyball (Mondays only). A great way to stay active\, play socially\, and enjoy our sports facilities without joining a league. \nLearn More & Register: \nhttps://ecom.roller.app/oodazudecatur/openplay/en-us/products
URL:https://cluboodazu.com/program/adult-open-play-weekdays/2026-04-23/
LOCATION:Club OODAZU\, 421 Dekalb Industrial Way\, Decatur\, Georgia\, 30030\, United States
CATEGORIES:Adult Open Play,Open Play
END:VEVENT
BEGIN:VEVENT
DTSTART;TZID=America/New_York:20260423T100000
DTEND;TZID=America/New_York:20260423T190000
DTSTAMP:20260423T143743
CREATED:20260115T032455Z
LAST-MODIFIED:20260407T161556Z
UID:10013183-1776938400-1776970800@cluboodazu.com
SUMMARY:Kids Open Play - Weekday
DESCRIPTION:Let the Fun Begin!Our Kids Open Play is the perfect place for children to burn off energy\, explore new activities\, and make friends in a safe\, supervised environment. Whether it’s climbing\, running\, jumping\, or imaginative play\, our space is designed to help kids stay active and have a blast — while parents relax knowing they’re in a secure\, clean facility. Open Play is great for drop‑in sessions\, casual playdates\, and just a fun way to spend time together as a family at Club OODAZU! \nRegister at the link below: \nhttps://ecom.roller.app/oodazudecatur/openplay/en-us/products
URL:https://cluboodazu.com/program/kids-open-play-weekday/2026-04-23/
LOCATION:Club OODAZU\, 421 Dekalb Industrial Way\, Decatur\, Georgia\, 30030\, United States
CATEGORIES:Kids Open Play,Open Play
END:VEVENT
BEGIN:VEVENT
DTSTART;TZID=America/New_York:20260423T100000
DTEND;TZID=America/New_York:20260423T210000
DTSTAMP:20260423T143743
CREATED:20260115T043415Z
LAST-MODIFIED:20260407T161330Z
UID:10008562-1776938400-1776978000@cluboodazu.com
SUMMARY:Batting Cages - Weekday
DESCRIPTION:Secure your cage rental for 30 or 60 minutes! – You can book up to 7 days in advance. PLEASE pre-book to ensure availability. \nWe’re thrilled to introduce Indoor Batting Cage Rentals @ Club OODAZU\, the perfect way for players of all levels to get extra reps\, refine their swing\, and build confidence at the plate — rain or shine! \nOur indoor batting cages offer a safe\, climate-controlled environment where athletes can train year-round. Whether you’re a beginner learning the fundamentals or a seasoned player fine-tuning your hitting mechanics\, our setup provides the space and equipment you need for productive\, focused training sessions. \nEach rental includes access to premium baseball and softball training equipment\, ensuring every player can make the most of their time in the cage. \nWhat’s Included:\nWhen you book a cage rental at Club OODAZU\, we provide everything you need for a high-quality hitting session — no extra fees or setup required! Each rental includes: \n\nA bucket of baseballs or softballs\nA batting tee for solo or coach-assisted work\nL-screens for protection during live toss or coach pitching\nPitching mounds available for both baseball and softball use\n\n*No pitching machines available; solo or coach-assisted only\n\nIdeal For: \n\nBaseball and softball players of all ages and skill levels\nIndividual hitting practice or small-group sessions\nPre-season prep\, skill development\, or post-season tune-ups\n\nLearn More & Reserve: \nhttps://ecom.roller.app/oodazudecatur/battingcages/en-us/products
URL:https://cluboodazu.com/program/batting-cages-weekday/2026-04-23/
LOCATION:Club OODAZU\, 421 Dekalb Industrial Way\, Decatur\, Georgia\, 30030\, United States
CATEGORIES:Batting Cages
END:VEVENT
BEGIN:VEVENT
DTSTART;TZID=America/New_York:20260423T143000
DTEND;TZID=America/New_York:20260423T180000
DTSTAMP:20260423T143743
CREATED:20260115T150722Z
LAST-MODIFIED:20260407T161806Z
UID:10015930-1776954600-1776967200@cluboodazu.com
SUMMARY:Afternoon Enrichment
DESCRIPTION:Club OODAZU’s Afternoon Enrichment Program offers the perfect mix of active play\, creative learning\, and social growth — all in a safe\, structured\, and inspiring environment designed just for kids. You have the option for full-time or part-time! \nThe program is $550/month and a non refundable deposit of $550 (first month’s payment) is due at registration. You will be charged $550 each month (beginning the second month) through May (unless 30 days cancellation notice is provided). The program begins on January 6th\, so please select January 6th in the date selector below. If you select part-time\, you will be charged the first month’s payment as the deposit. \nAfter the school day ends\, we will transport your student(s) into our dynamic space where they can recharge\, explore\, and thrive. Guided by our dedicated enrichment team\, each afternoon combines movement\, creativity\, and discovery to support the whole child — mind\, body\, and spirit. We have MULTIPLE add-on options (available on the previous screen) ranging from sports to STEAM and everything in-between! \n🏃What’s Included:\n \n\nTransportation from Fernbank Elementary and all City Schools of Decatur serving PK – 5th grade to our facility.\nActive Play & Movement: Kids enjoy time in OODAZU’s exciting indoor play zones\, sports courts\, climbing areas\, and obstacle courses.\nCreative Enrichment: Hands-on activities spark imagination and problem-solving through art and themed projects.\nTeam Games & Collaboration: Group activities build social skills\, teamwork\, and confidence in a positive\, supportive setting.\nMindful Transitions: Quiet time for reflection\, journaling\, or calm creative projects helps kids reset after a busy school day.\nSupervised Free Play: Structured and unstructured time gives children space to connect\, make friends\, and have fun safely.\nClub OODAZU Tshirt\n\n🕓 Program Details:\n \n\nDesigned for elementary-age students (PK–5)\nOffered Monday through Friday\nIncludes daily snack\, supervised transitions\, and coordinated pick-up routines\nHosted inside OODAZU’s 67\,000 sq ft indoor facility — a clean\, secure space built for play and growth\n$550/mo charged monthly (full-time)\n\n💡 Why Families Love It\n \n\nA healthy balance of movement\, creativity\, and social connection\nSafe\, dependable care from a trusted team that knows kids\nFlexible scheduling for busy families\nEncourages independence\, confidence\, and curiosity — in a fun\, nurturing setting\n\nAdditional Enrichment Options:\nMake their experience even more fun with our add-on enrichment programs! From sports to dance\, art\, music\, and theatre — there’s something for everyone. Check out all the options on the previous screen and register today! \nRegister at the link below: \nhttps://ecom.roller.app/oodazudecatur/afternoonenrichment/en-us/home
URL:https://cluboodazu.com/program/afternoon-enrichment/2026-04-23/
LOCATION:Georgia
CATEGORIES:Afternoon Enrichment
END:VEVENT
BEGIN:VEVENT
DTSTART;TZID=America/New_York:20260423T160000
DTEND;TZID=America/New_York:20260423T165500
DTSTAMP:20260423T143743
CREATED:20260223T042828Z
LAST-MODIFIED:20260407T155638Z
UID:10019168-1776960000-1776963300@cluboodazu.com
SUMMARY:Speed & Agility - Ages 6-17 (Spring 2026 - Thursdays)
DESCRIPTION:This is a 55 minute\, once a week program (10 sessions) on Thursdays at 4pm. Please enter your child’s name in the “Ticket Holder” field at check-out. Runs Thursdays from Feb 26th – May 7th (excluding week of April 6th). \nProgram Overview\nThe Youth Speed & Agility Program @ Club OODAZU is designed to help young athletes move better\, feel stronger\, and gain confidence in every step. This fun\, movement-based class focuses on building the athletic foundation essential for all sports—and for lifelong fitness. Led by experienced Club OODAZU coaches\, each session emphasizes speed\, agility\, coordination\, balance\, and body control in an engaging and supportive environment. \nAthletes will participate in structured drills\, movement games\, and age-appropriate plyometrics—such as jumping\, hopping\, landing\, and quick takeoff movements—designed to safely build power\, coordination\, and movement efficiency. Activities are tailored to be fun\, safe\, and developmentally appropriate for each age group. Our mission is simple: make movement FUN while helping every child build confidence\, athletic ability\, and joy in being active. \nProgram Format\nEach session combines age-appropriate speed\, agility\, and plyometric training—along with fun relays and games that develop quickness\, balance\, coordination\, and power in a supportive and energetic environment. \nAges 6-9\nYoung athletes are introduced to the fundamentals of athletic movement through playful\, engaging activities. The focus is on building body control\, balance\, and confidence while developing teamwork and listening skills—all while having fun! \n Ages 10-17\nOlder participants focus on improving running form\, speed\, and agility through short sprints\, reaction drills\, and change-of-direction exercises. Sessions also include introductory\, developmentally safe plyometric exercises to enhance power\, coordination\, and core strength—supporting all sports and physical activities. \nFees:  \n\n$20 per session\nComplimentary for Club OODAZU members\n\nRegister at the link below: https://ecom.roller.app/oodazudecatur/speedagility/en-us/products
URL:https://cluboodazu.com/program/speed-agility-ages-6-17-spring-2026-thursdays/2026-04-23/
LOCATION:Club OODAZU\, 421 Dekalb Industrial Way\, Decatur\, Georgia\, 30030\, United States
CATEGORIES:Speed & Agility,Youth Sports
END:VEVENT
BEGIN:VEVENT
DTSTART;TZID=America/New_York:20260423T160000
DTEND;TZID=America/New_York:20260423T180000
DTSTAMP:20260423T143743
CREATED:20260115T044254Z
LAST-MODIFIED:20260115T044505Z
UID:10012938-1776960000-1776967200@cluboodazu.com
SUMMARY:Cheer & Tumbling
DESCRIPTION:Cheer 101A high-energy class where kids learn motions\, jumps\, stunts\, and tumbling while building confidence and making new friends! Led by ATL Xtreme\, a USASF Certified Allstar Cheer program\, students will learn a routine to perform for parents at the end of the semester. \nThursdays: 4:00-5:00pm \nTumblingA fun\, active class where kids learn tumbling skills at their own pace\, meet new friends\, and stay moving! Also led by ATL Xtreme\, this class focuses on building strength\, coordination\, and confidence. \nThursday: 5:00-6:00pm \nBoth classes are 55 minutes\, once a week on Thursdays. For ages Prek – 5th Grade. Classes began in January with rolling registration through May 21st. Click the link below for full details and registration!  \nLearn More & Register: \nhttps://ecom.roller.app/oodazudecatur/cheertumbling/en-us/products
URL:https://cluboodazu.com/program/cheer-tumbling/2026-04-23/
LOCATION:Club OODAZU\, 421 Dekalb Industrial Way\, Decatur\, Georgia\, 30030\, United States
CATEGORIES:Cheer & Tumbling,Youth Sports
END:VEVENT
BEGIN:VEVENT
DTSTART;TZID=America/New_York:20260423T170000
DTEND;TZID=America/New_York:20260423T175500
DTSTAMP:20260423T143743
CREATED:20260115T034702Z
LAST-MODIFIED:20260223T044023Z
UID:10017945-1776963600-1776966900@cluboodazu.com
SUMMARY:Basketball Train & Play - Ages 6-17 (Spring 2026)
DESCRIPTION:This is a 55 minute\, once a week program on Thursdays (10 sessions) running from February 26th – May 7th. Enter your child’s name in the “Ticket Holder” field at check-out. \nProgram Overview\nClub OODAZU is excited to offer Youth Basketball Train & Play sessions designed to help athletes build skills\, confidence\, and a love for the game in a fun\, structured environment. \nThis 55-minute program runs every Thursday (excluding major holidays) and is open to athletes ages 6–17\, with dedicated age-based time slots. Each session blends skill-focused training with organized gameplay\, giving players the opportunity to learn\, practice\, and apply basketball fundamentals in real game situations. \nAll Skill Levels Welcome\nThis program is intentionally designed for all levels\, from beginners learning basketball for the first time to club and competitive players seeking additional training and scrimmage opportunities. Our coaches tailor instruction to meet athletes where they are and will group players by age and skill level as needed to ensure appropriate challenge\, safety\, and development for everyone. \nProgram Format\nEach session follows a Train & Play model: \n\nSkill Training (approx. 25 minutes):\nFocus on basketball fundamentals including ball handling\, passing\, shooting form\, footwork\, defense\, spacing\, and basketball IQ.\nStructured Gameplay (approx. 30 minutes):\nSmall-sided games and controlled scrimmages that emphasize decision-making\, teamwork\, and applying learned skills in live play.\n\nSchedule\nThursdays at 5:00pm \nPricing \n\n$20 per session\nComplimentary for Club OODAZU members\n\nLearn More & Register: \nhttps://ecom.roller.app/oodazudecatur/basketball/en-us/products
URL:https://cluboodazu.com/program/basketball-train-play-ages-13-17-spring-2026/2026-04-23/
LOCATION:Club OODAZU\, 421 Dekalb Industrial Way\, Decatur\, Georgia\, 30030\, United States
CATEGORIES:Youth Basketball,Youth Sports
END:VEVENT
BEGIN:VEVENT
DTSTART;TZID=America/New_York:20260423T180000
DTEND;TZID=America/New_York:20260423T210000
DTSTAMP:20260423T143743
CREATED:20260115T035400Z
LAST-MODIFIED:20260407T161922Z
UID:10016658-1776967200-1776978000@cluboodazu.com
SUMMARY:Adult Open Play - Weeknight
DESCRIPTION:Grown-ups get their own time on the courts with dedicated Adult Open Play sessions featuring pickleball\, basketball\, futsal (indoor soccer)\, pickleball\, and volleyball. A great way to stay active\, play socially\, and enjoy our sports facilities without joining a league. \nLearn More & Register: \nhttps://ecom.roller.app/oodazudecatur/openplay/en-us/products
URL:https://cluboodazu.com/program/adult-open-play-weeknight/2026-04-23/
LOCATION:Club OODAZU\, 421 Dekalb Industrial Way\, Decatur\, Georgia\, 30030\, United States
CATEGORIES:Adult Open Play,Open Play
END:VEVENT
END:VCALENDAR