BEGIN:VCALENDAR
VERSION:2.0
PRODID:-//Club OODAZU - ECPv6.15.18//NONSGML v1.0//EN
CALSCALE:GREGORIAN
METHOD:PUBLISH
X-WR-CALNAME:Club OODAZU
X-ORIGINAL-URL:https://cluboodazu.com
X-WR-CALDESC:Events for Club OODAZU
REFRESH-INTERVAL;VALUE=DURATION:PT1H
X-Robots-Tag:noindex
X-PUBLISHED-TTL:PT1H
BEGIN:VTIMEZONE
TZID:America/New_York
BEGIN:DAYLIGHT
TZOFFSETFROM:-0500
TZOFFSETTO:-0400
TZNAME:EDT
DTSTART:20250309T070000
END:DAYLIGHT
BEGIN:STANDARD
TZOFFSETFROM:-0400
TZOFFSETTO:-0500
TZNAME:EST
DTSTART:20251102T060000
END:STANDARD
BEGIN:DAYLIGHT
TZOFFSETFROM:-0500
TZOFFSETTO:-0400
TZNAME:EDT
DTSTART:20260308T070000
END:DAYLIGHT
BEGIN:STANDARD
TZOFFSETFROM:-0400
TZOFFSETTO:-0500
TZNAME:EST
DTSTART:20261101T060000
END:STANDARD
BEGIN:DAYLIGHT
TZOFFSETFROM:-0500
TZOFFSETTO:-0400
TZNAME:EDT
DTSTART:20270314T070000
END:DAYLIGHT
BEGIN:STANDARD
TZOFFSETFROM:-0400
TZOFFSETTO:-0500
TZNAME:EST
DTSTART:20271107T060000
END:STANDARD
END:VTIMEZONE
BEGIN:VEVENT
DTSTART;TZID=America/New_York:20260513T170000
DTEND;TZID=America/New_York:20260513T175500
DTSTAMP:20260423T201325
CREATED:20260407T145436Z
LAST-MODIFIED:20260407T145436Z
UID:10019325-1778691600-1778694900@cluboodazu.com
SUMMARY:Flag Football Play & Learn - Ages K-2nd Grade (Summer 2026)
DESCRIPTION:This is a 55 minute\, once a week program (10 sessions) on Wednesdays. Please enter your child’s name in the “Ticket Holder” field at check-out. \nRuns Wednesdays from May 13th – July 29th (excludes weeks of May 25th & June 29th). \nProgram Overview\nClub OODAZU’s Youth Flag Football program is a fun\, introductory learn-and-play experience designed to introduce young athletes to the game in a positive\, age-appropriate environment. \nEach session is facilitated by Club OODAZU coaches and takes place on our indoor turf. Classes blend foundational instruction with active play\, helping kids learn the basics of flag football while staying engaged and moving. \nAthletes will be introduced to key skills such as throwing\, catching\, running routes\, defensive positioning\, teamwork\, and game awareness. Skills are reinforced through small-sided games and fun drills that promote confidence\, coordination\, and sportsmanship. \nThis program is ideal for beginners trying flag football for the first time\, as well as young athletes looking to build athletic fundamentals and enjoy a team-based sport in a supportive setting. \nSchedule:\nWednesdays at 5:00 PM\nAge Group: Kindergarten – 2nd Grade\nSession Length: 55 minutes\nLocation: Club OODAZU indoor turf\nFormat: Instruction + small-sided games\n\nFees \n\n$20 per session\nIncluded at no additional cost for Club OODAZU members\n\nRegister Below: \nhttps://ecom.roller.app/oodazudecatur/flagfootball/en-us/product/1852379?date=2026-05-13
URL:https://cluboodazu.com/program/flag-football-play-learn-ages-k-2nd-grade-summer-2026/2026-05-13/
LOCATION:Club OODAZU\, 421 Dekalb Industrial Way\, Decatur\, Georgia\, 30030\, United States
CATEGORIES:Flag Football,Youth Sports
END:VEVENT
BEGIN:VEVENT
DTSTART;TZID=America/New_York:20260520T170000
DTEND;TZID=America/New_York:20260520T175500
DTSTAMP:20260423T201325
CREATED:20260407T145436Z
LAST-MODIFIED:20260407T145436Z
UID:10019326-1779296400-1779299700@cluboodazu.com
SUMMARY:Flag Football Play & Learn - Ages K-2nd Grade (Summer 2026)
DESCRIPTION:This is a 55 minute\, once a week program (10 sessions) on Wednesdays. Please enter your child’s name in the “Ticket Holder” field at check-out. \nRuns Wednesdays from May 13th – July 29th (excludes weeks of May 25th & June 29th). \nProgram Overview\nClub OODAZU’s Youth Flag Football program is a fun\, introductory learn-and-play experience designed to introduce young athletes to the game in a positive\, age-appropriate environment. \nEach session is facilitated by Club OODAZU coaches and takes place on our indoor turf. Classes blend foundational instruction with active play\, helping kids learn the basics of flag football while staying engaged and moving. \nAthletes will be introduced to key skills such as throwing\, catching\, running routes\, defensive positioning\, teamwork\, and game awareness. Skills are reinforced through small-sided games and fun drills that promote confidence\, coordination\, and sportsmanship. \nThis program is ideal for beginners trying flag football for the first time\, as well as young athletes looking to build athletic fundamentals and enjoy a team-based sport in a supportive setting. \nSchedule:\nWednesdays at 5:00 PM\nAge Group: Kindergarten – 2nd Grade\nSession Length: 55 minutes\nLocation: Club OODAZU indoor turf\nFormat: Instruction + small-sided games\n\nFees \n\n$20 per session\nIncluded at no additional cost for Club OODAZU members\n\nRegister Below: \nhttps://ecom.roller.app/oodazudecatur/flagfootball/en-us/product/1852379?date=2026-05-13
URL:https://cluboodazu.com/program/flag-football-play-learn-ages-k-2nd-grade-summer-2026/2026-05-20/
LOCATION:Club OODAZU\, 421 Dekalb Industrial Way\, Decatur\, Georgia\, 30030\, United States
CATEGORIES:Flag Football,Youth Sports
END:VEVENT
BEGIN:VEVENT
DTSTART;TZID=America/New_York:20260603T170000
DTEND;TZID=America/New_York:20260603T175500
DTSTAMP:20260423T201325
CREATED:20260407T145436Z
LAST-MODIFIED:20260407T145436Z
UID:10019327-1780506000-1780509300@cluboodazu.com
SUMMARY:Flag Football Play & Learn - Ages K-2nd Grade (Summer 2026)
DESCRIPTION:This is a 55 minute\, once a week program (10 sessions) on Wednesdays. Please enter your child’s name in the “Ticket Holder” field at check-out. \nRuns Wednesdays from May 13th – July 29th (excludes weeks of May 25th & June 29th). \nProgram Overview\nClub OODAZU’s Youth Flag Football program is a fun\, introductory learn-and-play experience designed to introduce young athletes to the game in a positive\, age-appropriate environment. \nEach session is facilitated by Club OODAZU coaches and takes place on our indoor turf. Classes blend foundational instruction with active play\, helping kids learn the basics of flag football while staying engaged and moving. \nAthletes will be introduced to key skills such as throwing\, catching\, running routes\, defensive positioning\, teamwork\, and game awareness. Skills are reinforced through small-sided games and fun drills that promote confidence\, coordination\, and sportsmanship. \nThis program is ideal for beginners trying flag football for the first time\, as well as young athletes looking to build athletic fundamentals and enjoy a team-based sport in a supportive setting. \nSchedule:\nWednesdays at 5:00 PM\nAge Group: Kindergarten – 2nd Grade\nSession Length: 55 minutes\nLocation: Club OODAZU indoor turf\nFormat: Instruction + small-sided games\n\nFees \n\n$20 per session\nIncluded at no additional cost for Club OODAZU members\n\nRegister Below: \nhttps://ecom.roller.app/oodazudecatur/flagfootball/en-us/product/1852379?date=2026-05-13
URL:https://cluboodazu.com/program/flag-football-play-learn-ages-k-2nd-grade-summer-2026/2026-06-03/
LOCATION:Club OODAZU\, 421 Dekalb Industrial Way\, Decatur\, Georgia\, 30030\, United States
CATEGORIES:Flag Football,Youth Sports
END:VEVENT
BEGIN:VEVENT
DTSTART;TZID=America/New_York:20260610T170000
DTEND;TZID=America/New_York:20260610T175500
DTSTAMP:20260423T201325
CREATED:20260407T145436Z
LAST-MODIFIED:20260407T145436Z
UID:10019328-1781110800-1781114100@cluboodazu.com
SUMMARY:Flag Football Play & Learn - Ages K-2nd Grade (Summer 2026)
DESCRIPTION:This is a 55 minute\, once a week program (10 sessions) on Wednesdays. Please enter your child’s name in the “Ticket Holder” field at check-out. \nRuns Wednesdays from May 13th – July 29th (excludes weeks of May 25th & June 29th). \nProgram Overview\nClub OODAZU’s Youth Flag Football program is a fun\, introductory learn-and-play experience designed to introduce young athletes to the game in a positive\, age-appropriate environment. \nEach session is facilitated by Club OODAZU coaches and takes place on our indoor turf. Classes blend foundational instruction with active play\, helping kids learn the basics of flag football while staying engaged and moving. \nAthletes will be introduced to key skills such as throwing\, catching\, running routes\, defensive positioning\, teamwork\, and game awareness. Skills are reinforced through small-sided games and fun drills that promote confidence\, coordination\, and sportsmanship. \nThis program is ideal for beginners trying flag football for the first time\, as well as young athletes looking to build athletic fundamentals and enjoy a team-based sport in a supportive setting. \nSchedule:\nWednesdays at 5:00 PM\nAge Group: Kindergarten – 2nd Grade\nSession Length: 55 minutes\nLocation: Club OODAZU indoor turf\nFormat: Instruction + small-sided games\n\nFees \n\n$20 per session\nIncluded at no additional cost for Club OODAZU members\n\nRegister Below: \nhttps://ecom.roller.app/oodazudecatur/flagfootball/en-us/product/1852379?date=2026-05-13
URL:https://cluboodazu.com/program/flag-football-play-learn-ages-k-2nd-grade-summer-2026/2026-06-10/
LOCATION:Club OODAZU\, 421 Dekalb Industrial Way\, Decatur\, Georgia\, 30030\, United States
CATEGORIES:Flag Football,Youth Sports
END:VEVENT
BEGIN:VEVENT
DTSTART;TZID=America/New_York:20260617T170000
DTEND;TZID=America/New_York:20260617T175500
DTSTAMP:20260423T201325
CREATED:20260407T145436Z
LAST-MODIFIED:20260407T145436Z
UID:10019329-1781715600-1781718900@cluboodazu.com
SUMMARY:Flag Football Play & Learn - Ages K-2nd Grade (Summer 2026)
DESCRIPTION:This is a 55 minute\, once a week program (10 sessions) on Wednesdays. Please enter your child’s name in the “Ticket Holder” field at check-out. \nRuns Wednesdays from May 13th – July 29th (excludes weeks of May 25th & June 29th). \nProgram Overview\nClub OODAZU’s Youth Flag Football program is a fun\, introductory learn-and-play experience designed to introduce young athletes to the game in a positive\, age-appropriate environment. \nEach session is facilitated by Club OODAZU coaches and takes place on our indoor turf. Classes blend foundational instruction with active play\, helping kids learn the basics of flag football while staying engaged and moving. \nAthletes will be introduced to key skills such as throwing\, catching\, running routes\, defensive positioning\, teamwork\, and game awareness. Skills are reinforced through small-sided games and fun drills that promote confidence\, coordination\, and sportsmanship. \nThis program is ideal for beginners trying flag football for the first time\, as well as young athletes looking to build athletic fundamentals and enjoy a team-based sport in a supportive setting. \nSchedule:\nWednesdays at 5:00 PM\nAge Group: Kindergarten – 2nd Grade\nSession Length: 55 minutes\nLocation: Club OODAZU indoor turf\nFormat: Instruction + small-sided games\n\nFees \n\n$20 per session\nIncluded at no additional cost for Club OODAZU members\n\nRegister Below: \nhttps://ecom.roller.app/oodazudecatur/flagfootball/en-us/product/1852379?date=2026-05-13
URL:https://cluboodazu.com/program/flag-football-play-learn-ages-k-2nd-grade-summer-2026/2026-06-17/
LOCATION:Club OODAZU\, 421 Dekalb Industrial Way\, Decatur\, Georgia\, 30030\, United States
CATEGORIES:Flag Football,Youth Sports
END:VEVENT
BEGIN:VEVENT
DTSTART;TZID=America/New_York:20260624T170000
DTEND;TZID=America/New_York:20260624T175500
DTSTAMP:20260423T201325
CREATED:20260407T145436Z
LAST-MODIFIED:20260407T145436Z
UID:10019330-1782320400-1782323700@cluboodazu.com
SUMMARY:Flag Football Play & Learn - Ages K-2nd Grade (Summer 2026)
DESCRIPTION:This is a 55 minute\, once a week program (10 sessions) on Wednesdays. Please enter your child’s name in the “Ticket Holder” field at check-out. \nRuns Wednesdays from May 13th – July 29th (excludes weeks of May 25th & June 29th). \nProgram Overview\nClub OODAZU’s Youth Flag Football program is a fun\, introductory learn-and-play experience designed to introduce young athletes to the game in a positive\, age-appropriate environment. \nEach session is facilitated by Club OODAZU coaches and takes place on our indoor turf. Classes blend foundational instruction with active play\, helping kids learn the basics of flag football while staying engaged and moving. \nAthletes will be introduced to key skills such as throwing\, catching\, running routes\, defensive positioning\, teamwork\, and game awareness. Skills are reinforced through small-sided games and fun drills that promote confidence\, coordination\, and sportsmanship. \nThis program is ideal for beginners trying flag football for the first time\, as well as young athletes looking to build athletic fundamentals and enjoy a team-based sport in a supportive setting. \nSchedule:\nWednesdays at 5:00 PM\nAge Group: Kindergarten – 2nd Grade\nSession Length: 55 minutes\nLocation: Club OODAZU indoor turf\nFormat: Instruction + small-sided games\n\nFees \n\n$20 per session\nIncluded at no additional cost for Club OODAZU members\n\nRegister Below: \nhttps://ecom.roller.app/oodazudecatur/flagfootball/en-us/product/1852379?date=2026-05-13
URL:https://cluboodazu.com/program/flag-football-play-learn-ages-k-2nd-grade-summer-2026/2026-06-24/
LOCATION:Club OODAZU\, 421 Dekalb Industrial Way\, Decatur\, Georgia\, 30030\, United States
CATEGORIES:Flag Football,Youth Sports
END:VEVENT
BEGIN:VEVENT
DTSTART;TZID=America/New_York:20260708T170000
DTEND;TZID=America/New_York:20260708T175500
DTSTAMP:20260423T201325
CREATED:20260407T145436Z
LAST-MODIFIED:20260407T145436Z
UID:10019331-1783530000-1783533300@cluboodazu.com
SUMMARY:Flag Football Play & Learn - Ages K-2nd Grade (Summer 2026)
DESCRIPTION:This is a 55 minute\, once a week program (10 sessions) on Wednesdays. Please enter your child’s name in the “Ticket Holder” field at check-out. \nRuns Wednesdays from May 13th – July 29th (excludes weeks of May 25th & June 29th). \nProgram Overview\nClub OODAZU’s Youth Flag Football program is a fun\, introductory learn-and-play experience designed to introduce young athletes to the game in a positive\, age-appropriate environment. \nEach session is facilitated by Club OODAZU coaches and takes place on our indoor turf. Classes blend foundational instruction with active play\, helping kids learn the basics of flag football while staying engaged and moving. \nAthletes will be introduced to key skills such as throwing\, catching\, running routes\, defensive positioning\, teamwork\, and game awareness. Skills are reinforced through small-sided games and fun drills that promote confidence\, coordination\, and sportsmanship. \nThis program is ideal for beginners trying flag football for the first time\, as well as young athletes looking to build athletic fundamentals and enjoy a team-based sport in a supportive setting. \nSchedule:\nWednesdays at 5:00 PM\nAge Group: Kindergarten – 2nd Grade\nSession Length: 55 minutes\nLocation: Club OODAZU indoor turf\nFormat: Instruction + small-sided games\n\nFees \n\n$20 per session\nIncluded at no additional cost for Club OODAZU members\n\nRegister Below: \nhttps://ecom.roller.app/oodazudecatur/flagfootball/en-us/product/1852379?date=2026-05-13
URL:https://cluboodazu.com/program/flag-football-play-learn-ages-k-2nd-grade-summer-2026/2026-07-08/
LOCATION:Club OODAZU\, 421 Dekalb Industrial Way\, Decatur\, Georgia\, 30030\, United States
CATEGORIES:Flag Football,Youth Sports
END:VEVENT
BEGIN:VEVENT
DTSTART;TZID=America/New_York:20260715T170000
DTEND;TZID=America/New_York:20260715T175500
DTSTAMP:20260423T201325
CREATED:20260407T145436Z
LAST-MODIFIED:20260407T145436Z
UID:10019332-1784134800-1784138100@cluboodazu.com
SUMMARY:Flag Football Play & Learn - Ages K-2nd Grade (Summer 2026)
DESCRIPTION:This is a 55 minute\, once a week program (10 sessions) on Wednesdays. Please enter your child’s name in the “Ticket Holder” field at check-out. \nRuns Wednesdays from May 13th – July 29th (excludes weeks of May 25th & June 29th). \nProgram Overview\nClub OODAZU’s Youth Flag Football program is a fun\, introductory learn-and-play experience designed to introduce young athletes to the game in a positive\, age-appropriate environment. \nEach session is facilitated by Club OODAZU coaches and takes place on our indoor turf. Classes blend foundational instruction with active play\, helping kids learn the basics of flag football while staying engaged and moving. \nAthletes will be introduced to key skills such as throwing\, catching\, running routes\, defensive positioning\, teamwork\, and game awareness. Skills are reinforced through small-sided games and fun drills that promote confidence\, coordination\, and sportsmanship. \nThis program is ideal for beginners trying flag football for the first time\, as well as young athletes looking to build athletic fundamentals and enjoy a team-based sport in a supportive setting. \nSchedule:\nWednesdays at 5:00 PM\nAge Group: Kindergarten – 2nd Grade\nSession Length: 55 minutes\nLocation: Club OODAZU indoor turf\nFormat: Instruction + small-sided games\n\nFees \n\n$20 per session\nIncluded at no additional cost for Club OODAZU members\n\nRegister Below: \nhttps://ecom.roller.app/oodazudecatur/flagfootball/en-us/product/1852379?date=2026-05-13
URL:https://cluboodazu.com/program/flag-football-play-learn-ages-k-2nd-grade-summer-2026/2026-07-15/
LOCATION:Club OODAZU\, 421 Dekalb Industrial Way\, Decatur\, Georgia\, 30030\, United States
CATEGORIES:Flag Football,Youth Sports
END:VEVENT
BEGIN:VEVENT
DTSTART;TZID=America/New_York:20260722T170000
DTEND;TZID=America/New_York:20260722T175500
DTSTAMP:20260423T201325
CREATED:20260407T145436Z
LAST-MODIFIED:20260407T145436Z
UID:10019333-1784739600-1784742900@cluboodazu.com
SUMMARY:Flag Football Play & Learn - Ages K-2nd Grade (Summer 2026)
DESCRIPTION:This is a 55 minute\, once a week program (10 sessions) on Wednesdays. Please enter your child’s name in the “Ticket Holder” field at check-out. \nRuns Wednesdays from May 13th – July 29th (excludes weeks of May 25th & June 29th). \nProgram Overview\nClub OODAZU’s Youth Flag Football program is a fun\, introductory learn-and-play experience designed to introduce young athletes to the game in a positive\, age-appropriate environment. \nEach session is facilitated by Club OODAZU coaches and takes place on our indoor turf. Classes blend foundational instruction with active play\, helping kids learn the basics of flag football while staying engaged and moving. \nAthletes will be introduced to key skills such as throwing\, catching\, running routes\, defensive positioning\, teamwork\, and game awareness. Skills are reinforced through small-sided games and fun drills that promote confidence\, coordination\, and sportsmanship. \nThis program is ideal for beginners trying flag football for the first time\, as well as young athletes looking to build athletic fundamentals and enjoy a team-based sport in a supportive setting. \nSchedule:\nWednesdays at 5:00 PM\nAge Group: Kindergarten – 2nd Grade\nSession Length: 55 minutes\nLocation: Club OODAZU indoor turf\nFormat: Instruction + small-sided games\n\nFees \n\n$20 per session\nIncluded at no additional cost for Club OODAZU members\n\nRegister Below: \nhttps://ecom.roller.app/oodazudecatur/flagfootball/en-us/product/1852379?date=2026-05-13
URL:https://cluboodazu.com/program/flag-football-play-learn-ages-k-2nd-grade-summer-2026/2026-07-22/
LOCATION:Club OODAZU\, 421 Dekalb Industrial Way\, Decatur\, Georgia\, 30030\, United States
CATEGORIES:Flag Football,Youth Sports
END:VEVENT
BEGIN:VEVENT
DTSTART;TZID=America/New_York:20260729T170000
DTEND;TZID=America/New_York:20260729T175500
DTSTAMP:20260423T201325
CREATED:20260407T145436Z
LAST-MODIFIED:20260407T145436Z
UID:10019334-1785344400-1785347700@cluboodazu.com
SUMMARY:Flag Football Play & Learn - Ages K-2nd Grade (Summer 2026)
DESCRIPTION:This is a 55 minute\, once a week program (10 sessions) on Wednesdays. Please enter your child’s name in the “Ticket Holder” field at check-out. \nRuns Wednesdays from May 13th – July 29th (excludes weeks of May 25th & June 29th). \nProgram Overview\nClub OODAZU’s Youth Flag Football program is a fun\, introductory learn-and-play experience designed to introduce young athletes to the game in a positive\, age-appropriate environment. \nEach session is facilitated by Club OODAZU coaches and takes place on our indoor turf. Classes blend foundational instruction with active play\, helping kids learn the basics of flag football while staying engaged and moving. \nAthletes will be introduced to key skills such as throwing\, catching\, running routes\, defensive positioning\, teamwork\, and game awareness. Skills are reinforced through small-sided games and fun drills that promote confidence\, coordination\, and sportsmanship. \nThis program is ideal for beginners trying flag football for the first time\, as well as young athletes looking to build athletic fundamentals and enjoy a team-based sport in a supportive setting. \nSchedule:\nWednesdays at 5:00 PM\nAge Group: Kindergarten – 2nd Grade\nSession Length: 55 minutes\nLocation: Club OODAZU indoor turf\nFormat: Instruction + small-sided games\n\nFees \n\n$20 per session\nIncluded at no additional cost for Club OODAZU members\n\nRegister Below: \nhttps://ecom.roller.app/oodazudecatur/flagfootball/en-us/product/1852379?date=2026-05-13
URL:https://cluboodazu.com/program/flag-football-play-learn-ages-k-2nd-grade-summer-2026/2026-07-29/
LOCATION:Club OODAZU\, 421 Dekalb Industrial Way\, Decatur\, Georgia\, 30030\, United States
CATEGORIES:Flag Football,Youth Sports
END:VEVENT
END:VCALENDAR