BEGIN:VCALENDAR
VERSION:2.0
PRODID:-//Club OODAZU - ECPv6.15.18//NONSGML v1.0//EN
CALSCALE:GREGORIAN
METHOD:PUBLISH
X-WR-CALNAME:Club OODAZU
X-ORIGINAL-URL:https://cluboodazu.com
X-WR-CALDESC:Events for Club OODAZU
REFRESH-INTERVAL;VALUE=DURATION:PT1H
X-Robots-Tag:noindex
X-PUBLISHED-TTL:PT1H
BEGIN:VTIMEZONE
TZID:America/New_York
BEGIN:DAYLIGHT
TZOFFSETFROM:-0500
TZOFFSETTO:-0400
TZNAME:EDT
DTSTART:20250309T070000
END:DAYLIGHT
BEGIN:STANDARD
TZOFFSETFROM:-0400
TZOFFSETTO:-0500
TZNAME:EST
DTSTART:20251102T060000
END:STANDARD
BEGIN:DAYLIGHT
TZOFFSETFROM:-0500
TZOFFSETTO:-0400
TZNAME:EDT
DTSTART:20260308T070000
END:DAYLIGHT
BEGIN:STANDARD
TZOFFSETFROM:-0400
TZOFFSETTO:-0500
TZNAME:EST
DTSTART:20261101T060000
END:STANDARD
BEGIN:DAYLIGHT
TZOFFSETFROM:-0500
TZOFFSETTO:-0400
TZNAME:EDT
DTSTART:20270314T070000
END:DAYLIGHT
BEGIN:STANDARD
TZOFFSETFROM:-0400
TZOFFSETTO:-0500
TZNAME:EST
DTSTART:20271107T060000
END:STANDARD
END:VTIMEZONE
BEGIN:VEVENT
DTSTART;TZID=America/New_York:20260516T090000
DTEND;TZID=America/New_York:20260516T094500
DTSTAMP:20260424T075340
CREATED:20260407T151149Z
LAST-MODIFIED:20260407T151149Z
UID:10019345-1778922000-1778924700@cluboodazu.com
SUMMARY:OODAZU First Sports: Ages 3.5 - 5 years (Summer 2026)
DESCRIPTION:This is a 45 minute\, once a week program on Saturdays (10 sessions) at 9AM running from May 16th – August 1st (excluding May 23rd & July 4th). Age groups are based on the age children are at the time of the first session. Please enter your child’s name in the “Ticket Holder” field at check-out. \nOODAZU First Sports is a multi-sport introduction program designed for young children ages 3.5–5 who are ready to explore movement and sports in a structured\, age-appropriate group setting. This program helps children develop confidence\, coordination\, and a love for being active — all while having fun. \nEach session rotates through foundational skills from a variety of sports commonly played in the U.S.\, including soccer\, basketball\, baseball\, football\, and racquet sports. Activities focus on core movement patterns such as running\, jumping\, kicking\, throwing\, catching\, striking\, balancing\, and changing direction. \nUsing a combination of turf and hard courts\, Club OODAZU staff lead kids through engaging games\, stations\, and mini-challenges that promote learning through play. The environment is energetic\, supportive\, and structured to help children learn how to participate in group activities\, follow directions\, and interact with peers. \nThis program is ideal for kids that are new to organized sports and are ready to participate more independently while still receiving guidance and encouragement. \nGoals of the Program:\n \n\nDevelop fundamental movement and coordination skills\nIntroduce multiple sports in a fun\, non-competitive way\nBuild confidence\, listening skills\, and social interaction\nEncourage teamwork\, turn-taking\, and positive participation\nHelp children discover the joy of movement and active play\n\nThis is not a drop-off program. A parent or guardian must remain on the premises during the session and may observe from designated viewing areas\, café\, or gym. \nFees:\n \n\n$20 per session\nComplimentary for Club OODAZU members\n\nRegister at the link below: \nhttps://ecom.roller.app/oodazudecatur/oodazufirstsports/en-us/product/1852397?date=2026-05-16
URL:https://cluboodazu.com/program/oodazu-first-sports-ages-3-5-5-years-summer-2026/2026-05-16/
LOCATION:Club OODAZU\, 421 Dekalb Industrial Way\, Decatur\, Georgia\, 30030\, United States
CATEGORIES:OODAZU First Sports,Youth Sports
END:VEVENT
BEGIN:VEVENT
DTSTART;TZID=America/New_York:20260530T090000
DTEND;TZID=America/New_York:20260530T094500
DTSTAMP:20260424T075340
CREATED:20260407T151149Z
LAST-MODIFIED:20260407T151149Z
UID:10019346-1780131600-1780134300@cluboodazu.com
SUMMARY:OODAZU First Sports: Ages 3.5 - 5 years (Summer 2026)
DESCRIPTION:This is a 45 minute\, once a week program on Saturdays (10 sessions) at 9AM running from May 16th – August 1st (excluding May 23rd & July 4th). Age groups are based on the age children are at the time of the first session. Please enter your child’s name in the “Ticket Holder” field at check-out. \nOODAZU First Sports is a multi-sport introduction program designed for young children ages 3.5–5 who are ready to explore movement and sports in a structured\, age-appropriate group setting. This program helps children develop confidence\, coordination\, and a love for being active — all while having fun. \nEach session rotates through foundational skills from a variety of sports commonly played in the U.S.\, including soccer\, basketball\, baseball\, football\, and racquet sports. Activities focus on core movement patterns such as running\, jumping\, kicking\, throwing\, catching\, striking\, balancing\, and changing direction. \nUsing a combination of turf and hard courts\, Club OODAZU staff lead kids through engaging games\, stations\, and mini-challenges that promote learning through play. The environment is energetic\, supportive\, and structured to help children learn how to participate in group activities\, follow directions\, and interact with peers. \nThis program is ideal for kids that are new to organized sports and are ready to participate more independently while still receiving guidance and encouragement. \nGoals of the Program:\n \n\nDevelop fundamental movement and coordination skills\nIntroduce multiple sports in a fun\, non-competitive way\nBuild confidence\, listening skills\, and social interaction\nEncourage teamwork\, turn-taking\, and positive participation\nHelp children discover the joy of movement and active play\n\nThis is not a drop-off program. A parent or guardian must remain on the premises during the session and may observe from designated viewing areas\, café\, or gym. \nFees:\n \n\n$20 per session\nComplimentary for Club OODAZU members\n\nRegister at the link below: \nhttps://ecom.roller.app/oodazudecatur/oodazufirstsports/en-us/product/1852397?date=2026-05-16
URL:https://cluboodazu.com/program/oodazu-first-sports-ages-3-5-5-years-summer-2026/2026-05-30/
LOCATION:Club OODAZU\, 421 Dekalb Industrial Way\, Decatur\, Georgia\, 30030\, United States
CATEGORIES:OODAZU First Sports,Youth Sports
END:VEVENT
BEGIN:VEVENT
DTSTART;TZID=America/New_York:20260606T090000
DTEND;TZID=America/New_York:20260606T094500
DTSTAMP:20260424T075340
CREATED:20260407T151149Z
LAST-MODIFIED:20260407T151149Z
UID:10019347-1780736400-1780739100@cluboodazu.com
SUMMARY:OODAZU First Sports: Ages 3.5 - 5 years (Summer 2026)
DESCRIPTION:This is a 45 minute\, once a week program on Saturdays (10 sessions) at 9AM running from May 16th – August 1st (excluding May 23rd & July 4th). Age groups are based on the age children are at the time of the first session. Please enter your child’s name in the “Ticket Holder” field at check-out. \nOODAZU First Sports is a multi-sport introduction program designed for young children ages 3.5–5 who are ready to explore movement and sports in a structured\, age-appropriate group setting. This program helps children develop confidence\, coordination\, and a love for being active — all while having fun. \nEach session rotates through foundational skills from a variety of sports commonly played in the U.S.\, including soccer\, basketball\, baseball\, football\, and racquet sports. Activities focus on core movement patterns such as running\, jumping\, kicking\, throwing\, catching\, striking\, balancing\, and changing direction. \nUsing a combination of turf and hard courts\, Club OODAZU staff lead kids through engaging games\, stations\, and mini-challenges that promote learning through play. The environment is energetic\, supportive\, and structured to help children learn how to participate in group activities\, follow directions\, and interact with peers. \nThis program is ideal for kids that are new to organized sports and are ready to participate more independently while still receiving guidance and encouragement. \nGoals of the Program:\n \n\nDevelop fundamental movement and coordination skills\nIntroduce multiple sports in a fun\, non-competitive way\nBuild confidence\, listening skills\, and social interaction\nEncourage teamwork\, turn-taking\, and positive participation\nHelp children discover the joy of movement and active play\n\nThis is not a drop-off program. A parent or guardian must remain on the premises during the session and may observe from designated viewing areas\, café\, or gym. \nFees:\n \n\n$20 per session\nComplimentary for Club OODAZU members\n\nRegister at the link below: \nhttps://ecom.roller.app/oodazudecatur/oodazufirstsports/en-us/product/1852397?date=2026-05-16
URL:https://cluboodazu.com/program/oodazu-first-sports-ages-3-5-5-years-summer-2026/2026-06-06/
LOCATION:Club OODAZU\, 421 Dekalb Industrial Way\, Decatur\, Georgia\, 30030\, United States
CATEGORIES:OODAZU First Sports,Youth Sports
END:VEVENT
BEGIN:VEVENT
DTSTART;TZID=America/New_York:20260613T090000
DTEND;TZID=America/New_York:20260613T094500
DTSTAMP:20260424T075340
CREATED:20260407T151149Z
LAST-MODIFIED:20260407T151149Z
UID:10019348-1781341200-1781343900@cluboodazu.com
SUMMARY:OODAZU First Sports: Ages 3.5 - 5 years (Summer 2026)
DESCRIPTION:This is a 45 minute\, once a week program on Saturdays (10 sessions) at 9AM running from May 16th – August 1st (excluding May 23rd & July 4th). Age groups are based on the age children are at the time of the first session. Please enter your child’s name in the “Ticket Holder” field at check-out. \nOODAZU First Sports is a multi-sport introduction program designed for young children ages 3.5–5 who are ready to explore movement and sports in a structured\, age-appropriate group setting. This program helps children develop confidence\, coordination\, and a love for being active — all while having fun. \nEach session rotates through foundational skills from a variety of sports commonly played in the U.S.\, including soccer\, basketball\, baseball\, football\, and racquet sports. Activities focus on core movement patterns such as running\, jumping\, kicking\, throwing\, catching\, striking\, balancing\, and changing direction. \nUsing a combination of turf and hard courts\, Club OODAZU staff lead kids through engaging games\, stations\, and mini-challenges that promote learning through play. The environment is energetic\, supportive\, and structured to help children learn how to participate in group activities\, follow directions\, and interact with peers. \nThis program is ideal for kids that are new to organized sports and are ready to participate more independently while still receiving guidance and encouragement. \nGoals of the Program:\n \n\nDevelop fundamental movement and coordination skills\nIntroduce multiple sports in a fun\, non-competitive way\nBuild confidence\, listening skills\, and social interaction\nEncourage teamwork\, turn-taking\, and positive participation\nHelp children discover the joy of movement and active play\n\nThis is not a drop-off program. A parent or guardian must remain on the premises during the session and may observe from designated viewing areas\, café\, or gym. \nFees:\n \n\n$20 per session\nComplimentary for Club OODAZU members\n\nRegister at the link below: \nhttps://ecom.roller.app/oodazudecatur/oodazufirstsports/en-us/product/1852397?date=2026-05-16
URL:https://cluboodazu.com/program/oodazu-first-sports-ages-3-5-5-years-summer-2026/2026-06-13/
LOCATION:Club OODAZU\, 421 Dekalb Industrial Way\, Decatur\, Georgia\, 30030\, United States
CATEGORIES:OODAZU First Sports,Youth Sports
END:VEVENT
BEGIN:VEVENT
DTSTART;TZID=America/New_York:20260620T090000
DTEND;TZID=America/New_York:20260620T094500
DTSTAMP:20260424T075340
CREATED:20260407T151149Z
LAST-MODIFIED:20260407T151149Z
UID:10019349-1781946000-1781948700@cluboodazu.com
SUMMARY:OODAZU First Sports: Ages 3.5 - 5 years (Summer 2026)
DESCRIPTION:This is a 45 minute\, once a week program on Saturdays (10 sessions) at 9AM running from May 16th – August 1st (excluding May 23rd & July 4th). Age groups are based on the age children are at the time of the first session. Please enter your child’s name in the “Ticket Holder” field at check-out. \nOODAZU First Sports is a multi-sport introduction program designed for young children ages 3.5–5 who are ready to explore movement and sports in a structured\, age-appropriate group setting. This program helps children develop confidence\, coordination\, and a love for being active — all while having fun. \nEach session rotates through foundational skills from a variety of sports commonly played in the U.S.\, including soccer\, basketball\, baseball\, football\, and racquet sports. Activities focus on core movement patterns such as running\, jumping\, kicking\, throwing\, catching\, striking\, balancing\, and changing direction. \nUsing a combination of turf and hard courts\, Club OODAZU staff lead kids through engaging games\, stations\, and mini-challenges that promote learning through play. The environment is energetic\, supportive\, and structured to help children learn how to participate in group activities\, follow directions\, and interact with peers. \nThis program is ideal for kids that are new to organized sports and are ready to participate more independently while still receiving guidance and encouragement. \nGoals of the Program:\n \n\nDevelop fundamental movement and coordination skills\nIntroduce multiple sports in a fun\, non-competitive way\nBuild confidence\, listening skills\, and social interaction\nEncourage teamwork\, turn-taking\, and positive participation\nHelp children discover the joy of movement and active play\n\nThis is not a drop-off program. A parent or guardian must remain on the premises during the session and may observe from designated viewing areas\, café\, or gym. \nFees:\n \n\n$20 per session\nComplimentary for Club OODAZU members\n\nRegister at the link below: \nhttps://ecom.roller.app/oodazudecatur/oodazufirstsports/en-us/product/1852397?date=2026-05-16
URL:https://cluboodazu.com/program/oodazu-first-sports-ages-3-5-5-years-summer-2026/2026-06-20/
LOCATION:Club OODAZU\, 421 Dekalb Industrial Way\, Decatur\, Georgia\, 30030\, United States
CATEGORIES:OODAZU First Sports,Youth Sports
END:VEVENT
BEGIN:VEVENT
DTSTART;TZID=America/New_York:20260627T090000
DTEND;TZID=America/New_York:20260627T094500
DTSTAMP:20260424T075340
CREATED:20260407T151149Z
LAST-MODIFIED:20260407T151149Z
UID:10019350-1782550800-1782553500@cluboodazu.com
SUMMARY:OODAZU First Sports: Ages 3.5 - 5 years (Summer 2026)
DESCRIPTION:This is a 45 minute\, once a week program on Saturdays (10 sessions) at 9AM running from May 16th – August 1st (excluding May 23rd & July 4th). Age groups are based on the age children are at the time of the first session. Please enter your child’s name in the “Ticket Holder” field at check-out. \nOODAZU First Sports is a multi-sport introduction program designed for young children ages 3.5–5 who are ready to explore movement and sports in a structured\, age-appropriate group setting. This program helps children develop confidence\, coordination\, and a love for being active — all while having fun. \nEach session rotates through foundational skills from a variety of sports commonly played in the U.S.\, including soccer\, basketball\, baseball\, football\, and racquet sports. Activities focus on core movement patterns such as running\, jumping\, kicking\, throwing\, catching\, striking\, balancing\, and changing direction. \nUsing a combination of turf and hard courts\, Club OODAZU staff lead kids through engaging games\, stations\, and mini-challenges that promote learning through play. The environment is energetic\, supportive\, and structured to help children learn how to participate in group activities\, follow directions\, and interact with peers. \nThis program is ideal for kids that are new to organized sports and are ready to participate more independently while still receiving guidance and encouragement. \nGoals of the Program:\n \n\nDevelop fundamental movement and coordination skills\nIntroduce multiple sports in a fun\, non-competitive way\nBuild confidence\, listening skills\, and social interaction\nEncourage teamwork\, turn-taking\, and positive participation\nHelp children discover the joy of movement and active play\n\nThis is not a drop-off program. A parent or guardian must remain on the premises during the session and may observe from designated viewing areas\, café\, or gym. \nFees:\n \n\n$20 per session\nComplimentary for Club OODAZU members\n\nRegister at the link below: \nhttps://ecom.roller.app/oodazudecatur/oodazufirstsports/en-us/product/1852397?date=2026-05-16
URL:https://cluboodazu.com/program/oodazu-first-sports-ages-3-5-5-years-summer-2026/2026-06-27/
LOCATION:Club OODAZU\, 421 Dekalb Industrial Way\, Decatur\, Georgia\, 30030\, United States
CATEGORIES:OODAZU First Sports,Youth Sports
END:VEVENT
BEGIN:VEVENT
DTSTART;TZID=America/New_York:20260711T090000
DTEND;TZID=America/New_York:20260711T094500
DTSTAMP:20260424T075340
CREATED:20260407T151149Z
LAST-MODIFIED:20260407T151149Z
UID:10019351-1783760400-1783763100@cluboodazu.com
SUMMARY:OODAZU First Sports: Ages 3.5 - 5 years (Summer 2026)
DESCRIPTION:This is a 45 minute\, once a week program on Saturdays (10 sessions) at 9AM running from May 16th – August 1st (excluding May 23rd & July 4th). Age groups are based on the age children are at the time of the first session. Please enter your child’s name in the “Ticket Holder” field at check-out. \nOODAZU First Sports is a multi-sport introduction program designed for young children ages 3.5–5 who are ready to explore movement and sports in a structured\, age-appropriate group setting. This program helps children develop confidence\, coordination\, and a love for being active — all while having fun. \nEach session rotates through foundational skills from a variety of sports commonly played in the U.S.\, including soccer\, basketball\, baseball\, football\, and racquet sports. Activities focus on core movement patterns such as running\, jumping\, kicking\, throwing\, catching\, striking\, balancing\, and changing direction. \nUsing a combination of turf and hard courts\, Club OODAZU staff lead kids through engaging games\, stations\, and mini-challenges that promote learning through play. The environment is energetic\, supportive\, and structured to help children learn how to participate in group activities\, follow directions\, and interact with peers. \nThis program is ideal for kids that are new to organized sports and are ready to participate more independently while still receiving guidance and encouragement. \nGoals of the Program:\n \n\nDevelop fundamental movement and coordination skills\nIntroduce multiple sports in a fun\, non-competitive way\nBuild confidence\, listening skills\, and social interaction\nEncourage teamwork\, turn-taking\, and positive participation\nHelp children discover the joy of movement and active play\n\nThis is not a drop-off program. A parent or guardian must remain on the premises during the session and may observe from designated viewing areas\, café\, or gym. \nFees:\n \n\n$20 per session\nComplimentary for Club OODAZU members\n\nRegister at the link below: \nhttps://ecom.roller.app/oodazudecatur/oodazufirstsports/en-us/product/1852397?date=2026-05-16
URL:https://cluboodazu.com/program/oodazu-first-sports-ages-3-5-5-years-summer-2026/2026-07-11/
LOCATION:Club OODAZU\, 421 Dekalb Industrial Way\, Decatur\, Georgia\, 30030\, United States
CATEGORIES:OODAZU First Sports,Youth Sports
END:VEVENT
BEGIN:VEVENT
DTSTART;TZID=America/New_York:20260718T090000
DTEND;TZID=America/New_York:20260718T094500
DTSTAMP:20260424T075340
CREATED:20260407T151149Z
LAST-MODIFIED:20260407T151149Z
UID:10019352-1784365200-1784367900@cluboodazu.com
SUMMARY:OODAZU First Sports: Ages 3.5 - 5 years (Summer 2026)
DESCRIPTION:This is a 45 minute\, once a week program on Saturdays (10 sessions) at 9AM running from May 16th – August 1st (excluding May 23rd & July 4th). Age groups are based on the age children are at the time of the first session. Please enter your child’s name in the “Ticket Holder” field at check-out. \nOODAZU First Sports is a multi-sport introduction program designed for young children ages 3.5–5 who are ready to explore movement and sports in a structured\, age-appropriate group setting. This program helps children develop confidence\, coordination\, and a love for being active — all while having fun. \nEach session rotates through foundational skills from a variety of sports commonly played in the U.S.\, including soccer\, basketball\, baseball\, football\, and racquet sports. Activities focus on core movement patterns such as running\, jumping\, kicking\, throwing\, catching\, striking\, balancing\, and changing direction. \nUsing a combination of turf and hard courts\, Club OODAZU staff lead kids through engaging games\, stations\, and mini-challenges that promote learning through play. The environment is energetic\, supportive\, and structured to help children learn how to participate in group activities\, follow directions\, and interact with peers. \nThis program is ideal for kids that are new to organized sports and are ready to participate more independently while still receiving guidance and encouragement. \nGoals of the Program:\n \n\nDevelop fundamental movement and coordination skills\nIntroduce multiple sports in a fun\, non-competitive way\nBuild confidence\, listening skills\, and social interaction\nEncourage teamwork\, turn-taking\, and positive participation\nHelp children discover the joy of movement and active play\n\nThis is not a drop-off program. A parent or guardian must remain on the premises during the session and may observe from designated viewing areas\, café\, or gym. \nFees:\n \n\n$20 per session\nComplimentary for Club OODAZU members\n\nRegister at the link below: \nhttps://ecom.roller.app/oodazudecatur/oodazufirstsports/en-us/product/1852397?date=2026-05-16
URL:https://cluboodazu.com/program/oodazu-first-sports-ages-3-5-5-years-summer-2026/2026-07-18/
LOCATION:Club OODAZU\, 421 Dekalb Industrial Way\, Decatur\, Georgia\, 30030\, United States
CATEGORIES:OODAZU First Sports,Youth Sports
END:VEVENT
BEGIN:VEVENT
DTSTART;TZID=America/New_York:20260725T090000
DTEND;TZID=America/New_York:20260725T094500
DTSTAMP:20260424T075340
CREATED:20260407T151149Z
LAST-MODIFIED:20260407T151149Z
UID:10019353-1784970000-1784972700@cluboodazu.com
SUMMARY:OODAZU First Sports: Ages 3.5 - 5 years (Summer 2026)
DESCRIPTION:This is a 45 minute\, once a week program on Saturdays (10 sessions) at 9AM running from May 16th – August 1st (excluding May 23rd & July 4th). Age groups are based on the age children are at the time of the first session. Please enter your child’s name in the “Ticket Holder” field at check-out. \nOODAZU First Sports is a multi-sport introduction program designed for young children ages 3.5–5 who are ready to explore movement and sports in a structured\, age-appropriate group setting. This program helps children develop confidence\, coordination\, and a love for being active — all while having fun. \nEach session rotates through foundational skills from a variety of sports commonly played in the U.S.\, including soccer\, basketball\, baseball\, football\, and racquet sports. Activities focus on core movement patterns such as running\, jumping\, kicking\, throwing\, catching\, striking\, balancing\, and changing direction. \nUsing a combination of turf and hard courts\, Club OODAZU staff lead kids through engaging games\, stations\, and mini-challenges that promote learning through play. The environment is energetic\, supportive\, and structured to help children learn how to participate in group activities\, follow directions\, and interact with peers. \nThis program is ideal for kids that are new to organized sports and are ready to participate more independently while still receiving guidance and encouragement. \nGoals of the Program:\n \n\nDevelop fundamental movement and coordination skills\nIntroduce multiple sports in a fun\, non-competitive way\nBuild confidence\, listening skills\, and social interaction\nEncourage teamwork\, turn-taking\, and positive participation\nHelp children discover the joy of movement and active play\n\nThis is not a drop-off program. A parent or guardian must remain on the premises during the session and may observe from designated viewing areas\, café\, or gym. \nFees:\n \n\n$20 per session\nComplimentary for Club OODAZU members\n\nRegister at the link below: \nhttps://ecom.roller.app/oodazudecatur/oodazufirstsports/en-us/product/1852397?date=2026-05-16
URL:https://cluboodazu.com/program/oodazu-first-sports-ages-3-5-5-years-summer-2026/2026-07-25/
LOCATION:Club OODAZU\, 421 Dekalb Industrial Way\, Decatur\, Georgia\, 30030\, United States
CATEGORIES:OODAZU First Sports,Youth Sports
END:VEVENT
BEGIN:VEVENT
DTSTART;TZID=America/New_York:20260801T090000
DTEND;TZID=America/New_York:20260801T094500
DTSTAMP:20260424T075340
CREATED:20260407T151149Z
LAST-MODIFIED:20260407T151149Z
UID:10019354-1785574800-1785577500@cluboodazu.com
SUMMARY:OODAZU First Sports: Ages 3.5 - 5 years (Summer 2026)
DESCRIPTION:This is a 45 minute\, once a week program on Saturdays (10 sessions) at 9AM running from May 16th – August 1st (excluding May 23rd & July 4th). Age groups are based on the age children are at the time of the first session. Please enter your child’s name in the “Ticket Holder” field at check-out. \nOODAZU First Sports is a multi-sport introduction program designed for young children ages 3.5–5 who are ready to explore movement and sports in a structured\, age-appropriate group setting. This program helps children develop confidence\, coordination\, and a love for being active — all while having fun. \nEach session rotates through foundational skills from a variety of sports commonly played in the U.S.\, including soccer\, basketball\, baseball\, football\, and racquet sports. Activities focus on core movement patterns such as running\, jumping\, kicking\, throwing\, catching\, striking\, balancing\, and changing direction. \nUsing a combination of turf and hard courts\, Club OODAZU staff lead kids through engaging games\, stations\, and mini-challenges that promote learning through play. The environment is energetic\, supportive\, and structured to help children learn how to participate in group activities\, follow directions\, and interact with peers. \nThis program is ideal for kids that are new to organized sports and are ready to participate more independently while still receiving guidance and encouragement. \nGoals of the Program:\n \n\nDevelop fundamental movement and coordination skills\nIntroduce multiple sports in a fun\, non-competitive way\nBuild confidence\, listening skills\, and social interaction\nEncourage teamwork\, turn-taking\, and positive participation\nHelp children discover the joy of movement and active play\n\nThis is not a drop-off program. A parent or guardian must remain on the premises during the session and may observe from designated viewing areas\, café\, or gym. \nFees:\n \n\n$20 per session\nComplimentary for Club OODAZU members\n\nRegister at the link below: \nhttps://ecom.roller.app/oodazudecatur/oodazufirstsports/en-us/product/1852397?date=2026-05-16
URL:https://cluboodazu.com/program/oodazu-first-sports-ages-3-5-5-years-summer-2026/2026-08-01/
LOCATION:Club OODAZU\, 421 Dekalb Industrial Way\, Decatur\, Georgia\, 30030\, United States
CATEGORIES:OODAZU First Sports,Youth Sports
END:VEVENT
END:VCALENDAR