BEGIN:VCALENDAR
VERSION:2.0
PRODID:-//Club OODAZU - ECPv6.15.18//NONSGML v1.0//EN
CALSCALE:GREGORIAN
METHOD:PUBLISH
X-WR-CALNAME:Club OODAZU
X-ORIGINAL-URL:https://cluboodazu.com
X-WR-CALDESC:Events for Club OODAZU
REFRESH-INTERVAL;VALUE=DURATION:PT1H
X-Robots-Tag:noindex
X-PUBLISHED-TTL:PT1H
BEGIN:VTIMEZONE
TZID:America/New_York
BEGIN:DAYLIGHT
TZOFFSETFROM:-0500
TZOFFSETTO:-0400
TZNAME:EDT
DTSTART:20250309T070000
END:DAYLIGHT
BEGIN:STANDARD
TZOFFSETFROM:-0400
TZOFFSETTO:-0500
TZNAME:EST
DTSTART:20251102T060000
END:STANDARD
BEGIN:DAYLIGHT
TZOFFSETFROM:-0500
TZOFFSETTO:-0400
TZNAME:EDT
DTSTART:20260308T070000
END:DAYLIGHT
BEGIN:STANDARD
TZOFFSETFROM:-0400
TZOFFSETTO:-0500
TZNAME:EST
DTSTART:20261101T060000
END:STANDARD
BEGIN:DAYLIGHT
TZOFFSETFROM:-0500
TZOFFSETTO:-0400
TZNAME:EDT
DTSTART:20270314T070000
END:DAYLIGHT
BEGIN:STANDARD
TZOFFSETFROM:-0400
TZOFFSETTO:-0500
TZNAME:EST
DTSTART:20271107T060000
END:STANDARD
END:VTIMEZONE
BEGIN:VEVENT
DTSTART;TZID=America/New_York:20260516T090000
DTEND;TZID=America/New_York:20260516T093000
DTSTAMP:20260423T185831
CREATED:20260407T151448Z
LAST-MODIFIED:20260407T151448Z
UID:10019355-1778922000-1778923800@cluboodazu.com
SUMMARY:OODAZU First Sports: Adult & Me (18 - 42 Mo) - Summer 2026
DESCRIPTION:This is a 30 minute\, once a week program on Saturdays (10 sessions) running from May 16th – August 1st (excluding May 23rd and July 4th). Age groups are based on the age children are at the time of the first session. Please enter your child’s name in the “Ticket Holder” field at check-out. \nOODAZU First Sports: Adult & Me is a playful\, parent-participation program designed to introduce toddlers to the joy of movement and sports in a fun\, low-pressure environment. This class focuses on exploration\, bonding\, and foundational movement skills while caregivers actively participate alongside their child. \nEach session introduces basic elements of popular sports such as soccer\, basketball\, baseball\, football\, and racquet games through age-appropriate activities\, songs\, obstacle courses\, and simple games. The emphasis is on running\, kicking\, throwing\, rolling\, balancing\, and hand-eye coordination — all presented in a way that feels fun and engaging for young children. \nClasses are led by Club OODAZU staff who guide families through structured activities while encouraging curiosity\, confidence\, and positive social interaction. This program is perfect for toddlers who are just beginning to explore physical play and for caregivers looking to move\, play\, and learn together. \nGoals of the Program:\n \n\nBuild foundational movement and coordination skills\nIntroduce sports in a fun\, stress-free way\nEncourage caregiver-child bonding through active play\nFoster listening skills\, confidence\, and comfort in group settings\nCreate a positive first experience with sports and physical activity\n\nParent or caregiver participation is required for the entire session. \nFees:\n \n\n$20 per session\nComplimentary for Club OODAZU members\n\nRegister at the link below: \nhttps://ecom.roller.app/oodazudecatur/oodazufirstsports/en-us/product/1852388?date=2026-05-16
URL:https://cluboodazu.com/program/oodazu-first-sports-adult-me-18-42-mo-summer-2026/2026-05-16/
LOCATION:Club OODAZU\, 421 Dekalb Industrial Way\, Decatur\, Georgia\, 30030\, United States
CATEGORIES:OODAZU First Sports,Youth Sports
END:VEVENT
BEGIN:VEVENT
DTSTART;TZID=America/New_York:20260530T090000
DTEND;TZID=America/New_York:20260530T093000
DTSTAMP:20260423T185831
CREATED:20260407T151448Z
LAST-MODIFIED:20260407T151448Z
UID:10019356-1780131600-1780133400@cluboodazu.com
SUMMARY:OODAZU First Sports: Adult & Me (18 - 42 Mo) - Summer 2026
DESCRIPTION:This is a 30 minute\, once a week program on Saturdays (10 sessions) running from May 16th – August 1st (excluding May 23rd and July 4th). Age groups are based on the age children are at the time of the first session. Please enter your child’s name in the “Ticket Holder” field at check-out. \nOODAZU First Sports: Adult & Me is a playful\, parent-participation program designed to introduce toddlers to the joy of movement and sports in a fun\, low-pressure environment. This class focuses on exploration\, bonding\, and foundational movement skills while caregivers actively participate alongside their child. \nEach session introduces basic elements of popular sports such as soccer\, basketball\, baseball\, football\, and racquet games through age-appropriate activities\, songs\, obstacle courses\, and simple games. The emphasis is on running\, kicking\, throwing\, rolling\, balancing\, and hand-eye coordination — all presented in a way that feels fun and engaging for young children. \nClasses are led by Club OODAZU staff who guide families through structured activities while encouraging curiosity\, confidence\, and positive social interaction. This program is perfect for toddlers who are just beginning to explore physical play and for caregivers looking to move\, play\, and learn together. \nGoals of the Program:\n \n\nBuild foundational movement and coordination skills\nIntroduce sports in a fun\, stress-free way\nEncourage caregiver-child bonding through active play\nFoster listening skills\, confidence\, and comfort in group settings\nCreate a positive first experience with sports and physical activity\n\nParent or caregiver participation is required for the entire session. \nFees:\n \n\n$20 per session\nComplimentary for Club OODAZU members\n\nRegister at the link below: \nhttps://ecom.roller.app/oodazudecatur/oodazufirstsports/en-us/product/1852388?date=2026-05-16
URL:https://cluboodazu.com/program/oodazu-first-sports-adult-me-18-42-mo-summer-2026/2026-05-30/
LOCATION:Club OODAZU\, 421 Dekalb Industrial Way\, Decatur\, Georgia\, 30030\, United States
CATEGORIES:OODAZU First Sports,Youth Sports
END:VEVENT
BEGIN:VEVENT
DTSTART;TZID=America/New_York:20260606T090000
DTEND;TZID=America/New_York:20260606T093000
DTSTAMP:20260423T185831
CREATED:20260407T151448Z
LAST-MODIFIED:20260407T151448Z
UID:10019357-1780736400-1780738200@cluboodazu.com
SUMMARY:OODAZU First Sports: Adult & Me (18 - 42 Mo) - Summer 2026
DESCRIPTION:This is a 30 minute\, once a week program on Saturdays (10 sessions) running from May 16th – August 1st (excluding May 23rd and July 4th). Age groups are based on the age children are at the time of the first session. Please enter your child’s name in the “Ticket Holder” field at check-out. \nOODAZU First Sports: Adult & Me is a playful\, parent-participation program designed to introduce toddlers to the joy of movement and sports in a fun\, low-pressure environment. This class focuses on exploration\, bonding\, and foundational movement skills while caregivers actively participate alongside their child. \nEach session introduces basic elements of popular sports such as soccer\, basketball\, baseball\, football\, and racquet games through age-appropriate activities\, songs\, obstacle courses\, and simple games. The emphasis is on running\, kicking\, throwing\, rolling\, balancing\, and hand-eye coordination — all presented in a way that feels fun and engaging for young children. \nClasses are led by Club OODAZU staff who guide families through structured activities while encouraging curiosity\, confidence\, and positive social interaction. This program is perfect for toddlers who are just beginning to explore physical play and for caregivers looking to move\, play\, and learn together. \nGoals of the Program:\n \n\nBuild foundational movement and coordination skills\nIntroduce sports in a fun\, stress-free way\nEncourage caregiver-child bonding through active play\nFoster listening skills\, confidence\, and comfort in group settings\nCreate a positive first experience with sports and physical activity\n\nParent or caregiver participation is required for the entire session. \nFees:\n \n\n$20 per session\nComplimentary for Club OODAZU members\n\nRegister at the link below: \nhttps://ecom.roller.app/oodazudecatur/oodazufirstsports/en-us/product/1852388?date=2026-05-16
URL:https://cluboodazu.com/program/oodazu-first-sports-adult-me-18-42-mo-summer-2026/2026-06-06/
LOCATION:Club OODAZU\, 421 Dekalb Industrial Way\, Decatur\, Georgia\, 30030\, United States
CATEGORIES:OODAZU First Sports,Youth Sports
END:VEVENT
BEGIN:VEVENT
DTSTART;TZID=America/New_York:20260613T090000
DTEND;TZID=America/New_York:20260613T093000
DTSTAMP:20260423T185831
CREATED:20260407T151448Z
LAST-MODIFIED:20260407T151448Z
UID:10019358-1781341200-1781343000@cluboodazu.com
SUMMARY:OODAZU First Sports: Adult & Me (18 - 42 Mo) - Summer 2026
DESCRIPTION:This is a 30 minute\, once a week program on Saturdays (10 sessions) running from May 16th – August 1st (excluding May 23rd and July 4th). Age groups are based on the age children are at the time of the first session. Please enter your child’s name in the “Ticket Holder” field at check-out. \nOODAZU First Sports: Adult & Me is a playful\, parent-participation program designed to introduce toddlers to the joy of movement and sports in a fun\, low-pressure environment. This class focuses on exploration\, bonding\, and foundational movement skills while caregivers actively participate alongside their child. \nEach session introduces basic elements of popular sports such as soccer\, basketball\, baseball\, football\, and racquet games through age-appropriate activities\, songs\, obstacle courses\, and simple games. The emphasis is on running\, kicking\, throwing\, rolling\, balancing\, and hand-eye coordination — all presented in a way that feels fun and engaging for young children. \nClasses are led by Club OODAZU staff who guide families through structured activities while encouraging curiosity\, confidence\, and positive social interaction. This program is perfect for toddlers who are just beginning to explore physical play and for caregivers looking to move\, play\, and learn together. \nGoals of the Program:\n \n\nBuild foundational movement and coordination skills\nIntroduce sports in a fun\, stress-free way\nEncourage caregiver-child bonding through active play\nFoster listening skills\, confidence\, and comfort in group settings\nCreate a positive first experience with sports and physical activity\n\nParent or caregiver participation is required for the entire session. \nFees:\n \n\n$20 per session\nComplimentary for Club OODAZU members\n\nRegister at the link below: \nhttps://ecom.roller.app/oodazudecatur/oodazufirstsports/en-us/product/1852388?date=2026-05-16
URL:https://cluboodazu.com/program/oodazu-first-sports-adult-me-18-42-mo-summer-2026/2026-06-13/
LOCATION:Club OODAZU\, 421 Dekalb Industrial Way\, Decatur\, Georgia\, 30030\, United States
CATEGORIES:OODAZU First Sports,Youth Sports
END:VEVENT
BEGIN:VEVENT
DTSTART;TZID=America/New_York:20260620T090000
DTEND;TZID=America/New_York:20260620T093000
DTSTAMP:20260423T185831
CREATED:20260407T151448Z
LAST-MODIFIED:20260407T151448Z
UID:10019359-1781946000-1781947800@cluboodazu.com
SUMMARY:OODAZU First Sports: Adult & Me (18 - 42 Mo) - Summer 2026
DESCRIPTION:This is a 30 minute\, once a week program on Saturdays (10 sessions) running from May 16th – August 1st (excluding May 23rd and July 4th). Age groups are based on the age children are at the time of the first session. Please enter your child’s name in the “Ticket Holder” field at check-out. \nOODAZU First Sports: Adult & Me is a playful\, parent-participation program designed to introduce toddlers to the joy of movement and sports in a fun\, low-pressure environment. This class focuses on exploration\, bonding\, and foundational movement skills while caregivers actively participate alongside their child. \nEach session introduces basic elements of popular sports such as soccer\, basketball\, baseball\, football\, and racquet games through age-appropriate activities\, songs\, obstacle courses\, and simple games. The emphasis is on running\, kicking\, throwing\, rolling\, balancing\, and hand-eye coordination — all presented in a way that feels fun and engaging for young children. \nClasses are led by Club OODAZU staff who guide families through structured activities while encouraging curiosity\, confidence\, and positive social interaction. This program is perfect for toddlers who are just beginning to explore physical play and for caregivers looking to move\, play\, and learn together. \nGoals of the Program:\n \n\nBuild foundational movement and coordination skills\nIntroduce sports in a fun\, stress-free way\nEncourage caregiver-child bonding through active play\nFoster listening skills\, confidence\, and comfort in group settings\nCreate a positive first experience with sports and physical activity\n\nParent or caregiver participation is required for the entire session. \nFees:\n \n\n$20 per session\nComplimentary for Club OODAZU members\n\nRegister at the link below: \nhttps://ecom.roller.app/oodazudecatur/oodazufirstsports/en-us/product/1852388?date=2026-05-16
URL:https://cluboodazu.com/program/oodazu-first-sports-adult-me-18-42-mo-summer-2026/2026-06-20/
LOCATION:Club OODAZU\, 421 Dekalb Industrial Way\, Decatur\, Georgia\, 30030\, United States
CATEGORIES:OODAZU First Sports,Youth Sports
END:VEVENT
BEGIN:VEVENT
DTSTART;TZID=America/New_York:20260627T090000
DTEND;TZID=America/New_York:20260627T093000
DTSTAMP:20260423T185831
CREATED:20260407T151448Z
LAST-MODIFIED:20260407T151448Z
UID:10019360-1782550800-1782552600@cluboodazu.com
SUMMARY:OODAZU First Sports: Adult & Me (18 - 42 Mo) - Summer 2026
DESCRIPTION:This is a 30 minute\, once a week program on Saturdays (10 sessions) running from May 16th – August 1st (excluding May 23rd and July 4th). Age groups are based on the age children are at the time of the first session. Please enter your child’s name in the “Ticket Holder” field at check-out. \nOODAZU First Sports: Adult & Me is a playful\, parent-participation program designed to introduce toddlers to the joy of movement and sports in a fun\, low-pressure environment. This class focuses on exploration\, bonding\, and foundational movement skills while caregivers actively participate alongside their child. \nEach session introduces basic elements of popular sports such as soccer\, basketball\, baseball\, football\, and racquet games through age-appropriate activities\, songs\, obstacle courses\, and simple games. The emphasis is on running\, kicking\, throwing\, rolling\, balancing\, and hand-eye coordination — all presented in a way that feels fun and engaging for young children. \nClasses are led by Club OODAZU staff who guide families through structured activities while encouraging curiosity\, confidence\, and positive social interaction. This program is perfect for toddlers who are just beginning to explore physical play and for caregivers looking to move\, play\, and learn together. \nGoals of the Program:\n \n\nBuild foundational movement and coordination skills\nIntroduce sports in a fun\, stress-free way\nEncourage caregiver-child bonding through active play\nFoster listening skills\, confidence\, and comfort in group settings\nCreate a positive first experience with sports and physical activity\n\nParent or caregiver participation is required for the entire session. \nFees:\n \n\n$20 per session\nComplimentary for Club OODAZU members\n\nRegister at the link below: \nhttps://ecom.roller.app/oodazudecatur/oodazufirstsports/en-us/product/1852388?date=2026-05-16
URL:https://cluboodazu.com/program/oodazu-first-sports-adult-me-18-42-mo-summer-2026/2026-06-27/
LOCATION:Club OODAZU\, 421 Dekalb Industrial Way\, Decatur\, Georgia\, 30030\, United States
CATEGORIES:OODAZU First Sports,Youth Sports
END:VEVENT
BEGIN:VEVENT
DTSTART;TZID=America/New_York:20260711T090000
DTEND;TZID=America/New_York:20260711T093000
DTSTAMP:20260423T185831
CREATED:20260407T151448Z
LAST-MODIFIED:20260407T151448Z
UID:10019361-1783760400-1783762200@cluboodazu.com
SUMMARY:OODAZU First Sports: Adult & Me (18 - 42 Mo) - Summer 2026
DESCRIPTION:This is a 30 minute\, once a week program on Saturdays (10 sessions) running from May 16th – August 1st (excluding May 23rd and July 4th). Age groups are based on the age children are at the time of the first session. Please enter your child’s name in the “Ticket Holder” field at check-out. \nOODAZU First Sports: Adult & Me is a playful\, parent-participation program designed to introduce toddlers to the joy of movement and sports in a fun\, low-pressure environment. This class focuses on exploration\, bonding\, and foundational movement skills while caregivers actively participate alongside their child. \nEach session introduces basic elements of popular sports such as soccer\, basketball\, baseball\, football\, and racquet games through age-appropriate activities\, songs\, obstacle courses\, and simple games. The emphasis is on running\, kicking\, throwing\, rolling\, balancing\, and hand-eye coordination — all presented in a way that feels fun and engaging for young children. \nClasses are led by Club OODAZU staff who guide families through structured activities while encouraging curiosity\, confidence\, and positive social interaction. This program is perfect for toddlers who are just beginning to explore physical play and for caregivers looking to move\, play\, and learn together. \nGoals of the Program:\n \n\nBuild foundational movement and coordination skills\nIntroduce sports in a fun\, stress-free way\nEncourage caregiver-child bonding through active play\nFoster listening skills\, confidence\, and comfort in group settings\nCreate a positive first experience with sports and physical activity\n\nParent or caregiver participation is required for the entire session. \nFees:\n \n\n$20 per session\nComplimentary for Club OODAZU members\n\nRegister at the link below: \nhttps://ecom.roller.app/oodazudecatur/oodazufirstsports/en-us/product/1852388?date=2026-05-16
URL:https://cluboodazu.com/program/oodazu-first-sports-adult-me-18-42-mo-summer-2026/2026-07-11/
LOCATION:Club OODAZU\, 421 Dekalb Industrial Way\, Decatur\, Georgia\, 30030\, United States
CATEGORIES:OODAZU First Sports,Youth Sports
END:VEVENT
BEGIN:VEVENT
DTSTART;TZID=America/New_York:20260718T090000
DTEND;TZID=America/New_York:20260718T093000
DTSTAMP:20260423T185831
CREATED:20260407T151448Z
LAST-MODIFIED:20260407T151448Z
UID:10019362-1784365200-1784367000@cluboodazu.com
SUMMARY:OODAZU First Sports: Adult & Me (18 - 42 Mo) - Summer 2026
DESCRIPTION:This is a 30 minute\, once a week program on Saturdays (10 sessions) running from May 16th – August 1st (excluding May 23rd and July 4th). Age groups are based on the age children are at the time of the first session. Please enter your child’s name in the “Ticket Holder” field at check-out. \nOODAZU First Sports: Adult & Me is a playful\, parent-participation program designed to introduce toddlers to the joy of movement and sports in a fun\, low-pressure environment. This class focuses on exploration\, bonding\, and foundational movement skills while caregivers actively participate alongside their child. \nEach session introduces basic elements of popular sports such as soccer\, basketball\, baseball\, football\, and racquet games through age-appropriate activities\, songs\, obstacle courses\, and simple games. The emphasis is on running\, kicking\, throwing\, rolling\, balancing\, and hand-eye coordination — all presented in a way that feels fun and engaging for young children. \nClasses are led by Club OODAZU staff who guide families through structured activities while encouraging curiosity\, confidence\, and positive social interaction. This program is perfect for toddlers who are just beginning to explore physical play and for caregivers looking to move\, play\, and learn together. \nGoals of the Program:\n \n\nBuild foundational movement and coordination skills\nIntroduce sports in a fun\, stress-free way\nEncourage caregiver-child bonding through active play\nFoster listening skills\, confidence\, and comfort in group settings\nCreate a positive first experience with sports and physical activity\n\nParent or caregiver participation is required for the entire session. \nFees:\n \n\n$20 per session\nComplimentary for Club OODAZU members\n\nRegister at the link below: \nhttps://ecom.roller.app/oodazudecatur/oodazufirstsports/en-us/product/1852388?date=2026-05-16
URL:https://cluboodazu.com/program/oodazu-first-sports-adult-me-18-42-mo-summer-2026/2026-07-18/
LOCATION:Club OODAZU\, 421 Dekalb Industrial Way\, Decatur\, Georgia\, 30030\, United States
CATEGORIES:OODAZU First Sports,Youth Sports
END:VEVENT
BEGIN:VEVENT
DTSTART;TZID=America/New_York:20260725T090000
DTEND;TZID=America/New_York:20260725T093000
DTSTAMP:20260423T185831
CREATED:20260407T151448Z
LAST-MODIFIED:20260407T151448Z
UID:10019363-1784970000-1784971800@cluboodazu.com
SUMMARY:OODAZU First Sports: Adult & Me (18 - 42 Mo) - Summer 2026
DESCRIPTION:This is a 30 minute\, once a week program on Saturdays (10 sessions) running from May 16th – August 1st (excluding May 23rd and July 4th). Age groups are based on the age children are at the time of the first session. Please enter your child’s name in the “Ticket Holder” field at check-out. \nOODAZU First Sports: Adult & Me is a playful\, parent-participation program designed to introduce toddlers to the joy of movement and sports in a fun\, low-pressure environment. This class focuses on exploration\, bonding\, and foundational movement skills while caregivers actively participate alongside their child. \nEach session introduces basic elements of popular sports such as soccer\, basketball\, baseball\, football\, and racquet games through age-appropriate activities\, songs\, obstacle courses\, and simple games. The emphasis is on running\, kicking\, throwing\, rolling\, balancing\, and hand-eye coordination — all presented in a way that feels fun and engaging for young children. \nClasses are led by Club OODAZU staff who guide families through structured activities while encouraging curiosity\, confidence\, and positive social interaction. This program is perfect for toddlers who are just beginning to explore physical play and for caregivers looking to move\, play\, and learn together. \nGoals of the Program:\n \n\nBuild foundational movement and coordination skills\nIntroduce sports in a fun\, stress-free way\nEncourage caregiver-child bonding through active play\nFoster listening skills\, confidence\, and comfort in group settings\nCreate a positive first experience with sports and physical activity\n\nParent or caregiver participation is required for the entire session. \nFees:\n \n\n$20 per session\nComplimentary for Club OODAZU members\n\nRegister at the link below: \nhttps://ecom.roller.app/oodazudecatur/oodazufirstsports/en-us/product/1852388?date=2026-05-16
URL:https://cluboodazu.com/program/oodazu-first-sports-adult-me-18-42-mo-summer-2026/2026-07-25/
LOCATION:Club OODAZU\, 421 Dekalb Industrial Way\, Decatur\, Georgia\, 30030\, United States
CATEGORIES:OODAZU First Sports,Youth Sports
END:VEVENT
BEGIN:VEVENT
DTSTART;TZID=America/New_York:20260801T090000
DTEND;TZID=America/New_York:20260801T093000
DTSTAMP:20260423T185831
CREATED:20260407T151448Z
LAST-MODIFIED:20260407T151448Z
UID:10019364-1785574800-1785576600@cluboodazu.com
SUMMARY:OODAZU First Sports: Adult & Me (18 - 42 Mo) - Summer 2026
DESCRIPTION:This is a 30 minute\, once a week program on Saturdays (10 sessions) running from May 16th – August 1st (excluding May 23rd and July 4th). Age groups are based on the age children are at the time of the first session. Please enter your child’s name in the “Ticket Holder” field at check-out. \nOODAZU First Sports: Adult & Me is a playful\, parent-participation program designed to introduce toddlers to the joy of movement and sports in a fun\, low-pressure environment. This class focuses on exploration\, bonding\, and foundational movement skills while caregivers actively participate alongside their child. \nEach session introduces basic elements of popular sports such as soccer\, basketball\, baseball\, football\, and racquet games through age-appropriate activities\, songs\, obstacle courses\, and simple games. The emphasis is on running\, kicking\, throwing\, rolling\, balancing\, and hand-eye coordination — all presented in a way that feels fun and engaging for young children. \nClasses are led by Club OODAZU staff who guide families through structured activities while encouraging curiosity\, confidence\, and positive social interaction. This program is perfect for toddlers who are just beginning to explore physical play and for caregivers looking to move\, play\, and learn together. \nGoals of the Program:\n \n\nBuild foundational movement and coordination skills\nIntroduce sports in a fun\, stress-free way\nEncourage caregiver-child bonding through active play\nFoster listening skills\, confidence\, and comfort in group settings\nCreate a positive first experience with sports and physical activity\n\nParent or caregiver participation is required for the entire session. \nFees:\n \n\n$20 per session\nComplimentary for Club OODAZU members\n\nRegister at the link below: \nhttps://ecom.roller.app/oodazudecatur/oodazufirstsports/en-us/product/1852388?date=2026-05-16
URL:https://cluboodazu.com/program/oodazu-first-sports-adult-me-18-42-mo-summer-2026/2026-08-01/
LOCATION:Club OODAZU\, 421 Dekalb Industrial Way\, Decatur\, Georgia\, 30030\, United States
CATEGORIES:OODAZU First Sports,Youth Sports
END:VEVENT
END:VCALENDAR