BEGIN:VCALENDAR
VERSION:2.0
PRODID:-//Club OODAZU - ECPv6.15.18//NONSGML v1.0//EN
CALSCALE:GREGORIAN
METHOD:PUBLISH
X-ORIGINAL-URL:https://cluboodazu.com
X-WR-CALDESC:Events for Club OODAZU
REFRESH-INTERVAL;VALUE=DURATION:PT1H
X-Robots-Tag:noindex
X-PUBLISHED-TTL:PT1H
BEGIN:VTIMEZONE
TZID:America/New_York
BEGIN:DAYLIGHT
TZOFFSETFROM:-0500
TZOFFSETTO:-0400
TZNAME:EDT
DTSTART:20250309T070000
END:DAYLIGHT
BEGIN:STANDARD
TZOFFSETFROM:-0400
TZOFFSETTO:-0500
TZNAME:EST
DTSTART:20251102T060000
END:STANDARD
BEGIN:DAYLIGHT
TZOFFSETFROM:-0500
TZOFFSETTO:-0400
TZNAME:EDT
DTSTART:20260308T070000
END:DAYLIGHT
BEGIN:STANDARD
TZOFFSETFROM:-0400
TZOFFSETTO:-0500
TZNAME:EST
DTSTART:20261101T060000
END:STANDARD
BEGIN:DAYLIGHT
TZOFFSETFROM:-0500
TZOFFSETTO:-0400
TZNAME:EDT
DTSTART:20270314T070000
END:DAYLIGHT
BEGIN:STANDARD
TZOFFSETFROM:-0400
TZOFFSETTO:-0500
TZNAME:EST
DTSTART:20271107T060000
END:STANDARD
END:VTIMEZONE
BEGIN:VEVENT
DTSTART;TZID=America/New_York:20260427T170000
DTEND;TZID=America/New_York:20260427T175500
DTSTAMP:20260423T144512
CREATED:20260115T031029Z
LAST-MODIFIED:20260223T045056Z
UID:10018100-1777309200-1777312500@cluboodazu.com
SUMMARY:Volleyball Train & Play - Ages 6-17 (Spring 2026)
DESCRIPTION:This is a 55 minute\, once a week program (10 sessions) on Mondays. Please enter your child’s name in the “Ticket Holder” field at check-out. \nRuns Mondays from Feb 23rd – May 4th (excludes week of April 6th). \nProgram Overview\nClub OODAZU’s Youth Volleyball Train & Play program offers a fun\, structured\, and welcoming environment for athletes to learn\, train\, and play volleyball year-round. \nThis 55-minute\, once-a-week program runs every Monday (10 sessions total; excludes major holidays) and is designed to support athletes at all levels\, from beginners just learning the sport to experienced club and competitive players seeking additional reps and game play. \nSchedule: Mondays 5:00–5:55pm \nDesigned for All Skill Levels\nThis program is ideal for: \n\nNew athletes looking to learn volleyball fundamentals in a fun\, low-pressure environment\nRecreational players building confidence and consistency\nClub and competitive players seeking extra training\, touches\, and live play outside of team practices\n\nOur experienced coaches tailor each session to the athletes in attendance\, grouping players by skill level as needed to ensure appropriate instruction\, challenge\, and safety for everyone on the court. \nProgram Format\nEach session follows a structured Train & Play model: \nTraining (Approx. 25 minutes) \n\nPassing & forearm control\nSetting technique & hand positioning\nServing fundamentals & progression\nMovement\, footwork\, and court positioning\nTeamwork\, communication\, and game awareness\n\nPlay (Approx. 30 minutes) \n\nStructured scrimmages and small-sided games\nGrouped by age and/or skill level\nFocus on applying skills in real game situations\n\nSessions are led by qualified instructors with strong volleyball backgrounds\, maintaining a low coach-to-player ratio to keep instruction active\, engaging\, and personalized. \nFees \n\n$20 per session\nComplimentary for Club OODAZU members\n\nLearn More & Register: \nhttps://ecom.roller.app/oodazudecatur/volleyball/en-us/products
URL:https://cluboodazu.com/program/volleyball-train-play-ages-13-17-spring-2026/2026-04-27/
LOCATION:Club OODAZU\, 421 Dekalb Industrial Way\, Decatur\, Georgia\, 30030\, United States
CATEGORIES:Youth Sports,Youth Volleyball
END:VEVENT
BEGIN:VEVENT
DTSTART;TZID=America/New_York:20260504T170000
DTEND;TZID=America/New_York:20260504T175500
DTSTAMP:20260423T144512
CREATED:20260115T031029Z
LAST-MODIFIED:20260223T045056Z
UID:10018101-1777914000-1777917300@cluboodazu.com
SUMMARY:Volleyball Train & Play - Ages 6-17 (Spring 2026)
DESCRIPTION:This is a 55 minute\, once a week program (10 sessions) on Mondays. Please enter your child’s name in the “Ticket Holder” field at check-out. \nRuns Mondays from Feb 23rd – May 4th (excludes week of April 6th). \nProgram Overview\nClub OODAZU’s Youth Volleyball Train & Play program offers a fun\, structured\, and welcoming environment for athletes to learn\, train\, and play volleyball year-round. \nThis 55-minute\, once-a-week program runs every Monday (10 sessions total; excludes major holidays) and is designed to support athletes at all levels\, from beginners just learning the sport to experienced club and competitive players seeking additional reps and game play. \nSchedule: Mondays 5:00–5:55pm \nDesigned for All Skill Levels\nThis program is ideal for: \n\nNew athletes looking to learn volleyball fundamentals in a fun\, low-pressure environment\nRecreational players building confidence and consistency\nClub and competitive players seeking extra training\, touches\, and live play outside of team practices\n\nOur experienced coaches tailor each session to the athletes in attendance\, grouping players by skill level as needed to ensure appropriate instruction\, challenge\, and safety for everyone on the court. \nProgram Format\nEach session follows a structured Train & Play model: \nTraining (Approx. 25 minutes) \n\nPassing & forearm control\nSetting technique & hand positioning\nServing fundamentals & progression\nMovement\, footwork\, and court positioning\nTeamwork\, communication\, and game awareness\n\nPlay (Approx. 30 minutes) \n\nStructured scrimmages and small-sided games\nGrouped by age and/or skill level\nFocus on applying skills in real game situations\n\nSessions are led by qualified instructors with strong volleyball backgrounds\, maintaining a low coach-to-player ratio to keep instruction active\, engaging\, and personalized. \nFees \n\n$20 per session\nComplimentary for Club OODAZU members\n\nLearn More & Register: \nhttps://ecom.roller.app/oodazudecatur/volleyball/en-us/products
URL:https://cluboodazu.com/program/volleyball-train-play-ages-13-17-spring-2026/2026-05-04/
LOCATION:Club OODAZU\, 421 Dekalb Industrial Way\, Decatur\, Georgia\, 30030\, United States
CATEGORIES:Youth Sports,Youth Volleyball
END:VEVENT
END:VCALENDAR