BEGIN:VCALENDAR
VERSION:2.0
PRODID:-//Club OODAZU - ECPv6.15.18//NONSGML v1.0//EN
CALSCALE:GREGORIAN
METHOD:PUBLISH
X-ORIGINAL-URL:https://cluboodazu.com
X-WR-CALDESC:Events for Club OODAZU
REFRESH-INTERVAL;VALUE=DURATION:PT1H
X-Robots-Tag:noindex
X-PUBLISHED-TTL:PT1H
BEGIN:VTIMEZONE
TZID:America/New_York
BEGIN:DAYLIGHT
TZOFFSETFROM:-0500
TZOFFSETTO:-0400
TZNAME:EDT
DTSTART:20250309T070000
END:DAYLIGHT
BEGIN:STANDARD
TZOFFSETFROM:-0400
TZOFFSETTO:-0500
TZNAME:EST
DTSTART:20251102T060000
END:STANDARD
BEGIN:DAYLIGHT
TZOFFSETFROM:-0500
TZOFFSETTO:-0400
TZNAME:EDT
DTSTART:20260308T070000
END:DAYLIGHT
BEGIN:STANDARD
TZOFFSETFROM:-0400
TZOFFSETTO:-0500
TZNAME:EST
DTSTART:20261101T060000
END:STANDARD
BEGIN:DAYLIGHT
TZOFFSETFROM:-0500
TZOFFSETTO:-0400
TZNAME:EDT
DTSTART:20270314T070000
END:DAYLIGHT
BEGIN:STANDARD
TZOFFSETFROM:-0400
TZOFFSETTO:-0500
TZNAME:EST
DTSTART:20271107T060000
END:STANDARD
END:VTIMEZONE
BEGIN:VEVENT
DTSTART;TZID=America/New_York:20260423T170000
DTEND;TZID=America/New_York:20260423T175500
DTSTAMP:20260423T162333
CREATED:20260115T034702Z
LAST-MODIFIED:20260223T044023Z
UID:10017945-1776963600-1776966900@cluboodazu.com
SUMMARY:Basketball Train & Play - Ages 6-17 (Spring 2026)
DESCRIPTION:This is a 55 minute\, once a week program on Thursdays (10 sessions) running from February 26th – May 7th. Enter your child’s name in the “Ticket Holder” field at check-out. \nProgram Overview\nClub OODAZU is excited to offer Youth Basketball Train & Play sessions designed to help athletes build skills\, confidence\, and a love for the game in a fun\, structured environment. \nThis 55-minute program runs every Thursday (excluding major holidays) and is open to athletes ages 6–17\, with dedicated age-based time slots. Each session blends skill-focused training with organized gameplay\, giving players the opportunity to learn\, practice\, and apply basketball fundamentals in real game situations. \nAll Skill Levels Welcome\nThis program is intentionally designed for all levels\, from beginners learning basketball for the first time to club and competitive players seeking additional training and scrimmage opportunities. Our coaches tailor instruction to meet athletes where they are and will group players by age and skill level as needed to ensure appropriate challenge\, safety\, and development for everyone. \nProgram Format\nEach session follows a Train & Play model: \n\nSkill Training (approx. 25 minutes):\nFocus on basketball fundamentals including ball handling\, passing\, shooting form\, footwork\, defense\, spacing\, and basketball IQ.\nStructured Gameplay (approx. 30 minutes):\nSmall-sided games and controlled scrimmages that emphasize decision-making\, teamwork\, and applying learned skills in live play.\n\nSchedule\nThursdays at 5:00pm \nPricing \n\n$20 per session\nComplimentary for Club OODAZU members\n\nLearn More & Register: \nhttps://ecom.roller.app/oodazudecatur/basketball/en-us/products
URL:https://cluboodazu.com/program/basketball-train-play-ages-13-17-spring-2026/2026-04-23/
LOCATION:Club OODAZU\, 421 Dekalb Industrial Way\, Decatur\, Georgia\, 30030\, United States
CATEGORIES:Youth Basketball,Youth Sports
END:VEVENT
BEGIN:VEVENT
DTSTART;TZID=America/New_York:20260430T170000
DTEND;TZID=America/New_York:20260430T175500
DTSTAMP:20260423T162333
CREATED:20260115T034702Z
LAST-MODIFIED:20260223T044023Z
UID:10017946-1777568400-1777571700@cluboodazu.com
SUMMARY:Basketball Train & Play - Ages 6-17 (Spring 2026)
DESCRIPTION:This is a 55 minute\, once a week program on Thursdays (10 sessions) running from February 26th – May 7th. Enter your child’s name in the “Ticket Holder” field at check-out. \nProgram Overview\nClub OODAZU is excited to offer Youth Basketball Train & Play sessions designed to help athletes build skills\, confidence\, and a love for the game in a fun\, structured environment. \nThis 55-minute program runs every Thursday (excluding major holidays) and is open to athletes ages 6–17\, with dedicated age-based time slots. Each session blends skill-focused training with organized gameplay\, giving players the opportunity to learn\, practice\, and apply basketball fundamentals in real game situations. \nAll Skill Levels Welcome\nThis program is intentionally designed for all levels\, from beginners learning basketball for the first time to club and competitive players seeking additional training and scrimmage opportunities. Our coaches tailor instruction to meet athletes where they are and will group players by age and skill level as needed to ensure appropriate challenge\, safety\, and development for everyone. \nProgram Format\nEach session follows a Train & Play model: \n\nSkill Training (approx. 25 minutes):\nFocus on basketball fundamentals including ball handling\, passing\, shooting form\, footwork\, defense\, spacing\, and basketball IQ.\nStructured Gameplay (approx. 30 minutes):\nSmall-sided games and controlled scrimmages that emphasize decision-making\, teamwork\, and applying learned skills in live play.\n\nSchedule\nThursdays at 5:00pm \nPricing \n\n$20 per session\nComplimentary for Club OODAZU members\n\nLearn More & Register: \nhttps://ecom.roller.app/oodazudecatur/basketball/en-us/products
URL:https://cluboodazu.com/program/basketball-train-play-ages-13-17-spring-2026/2026-04-30/
LOCATION:Club OODAZU\, 421 Dekalb Industrial Way\, Decatur\, Georgia\, 30030\, United States
CATEGORIES:Youth Basketball,Youth Sports
END:VEVENT
BEGIN:VEVENT
DTSTART;TZID=America/New_York:20260507T170000
DTEND;TZID=America/New_York:20260507T175500
DTSTAMP:20260423T162333
CREATED:20260115T034702Z
LAST-MODIFIED:20260223T044023Z
UID:10017947-1778173200-1778176500@cluboodazu.com
SUMMARY:Basketball Train & Play - Ages 6-17 (Spring 2026)
DESCRIPTION:This is a 55 minute\, once a week program on Thursdays (10 sessions) running from February 26th – May 7th. Enter your child’s name in the “Ticket Holder” field at check-out. \nProgram Overview\nClub OODAZU is excited to offer Youth Basketball Train & Play sessions designed to help athletes build skills\, confidence\, and a love for the game in a fun\, structured environment. \nThis 55-minute program runs every Thursday (excluding major holidays) and is open to athletes ages 6–17\, with dedicated age-based time slots. Each session blends skill-focused training with organized gameplay\, giving players the opportunity to learn\, practice\, and apply basketball fundamentals in real game situations. \nAll Skill Levels Welcome\nThis program is intentionally designed for all levels\, from beginners learning basketball for the first time to club and competitive players seeking additional training and scrimmage opportunities. Our coaches tailor instruction to meet athletes where they are and will group players by age and skill level as needed to ensure appropriate challenge\, safety\, and development for everyone. \nProgram Format\nEach session follows a Train & Play model: \n\nSkill Training (approx. 25 minutes):\nFocus on basketball fundamentals including ball handling\, passing\, shooting form\, footwork\, defense\, spacing\, and basketball IQ.\nStructured Gameplay (approx. 30 minutes):\nSmall-sided games and controlled scrimmages that emphasize decision-making\, teamwork\, and applying learned skills in live play.\n\nSchedule\nThursdays at 5:00pm \nPricing \n\n$20 per session\nComplimentary for Club OODAZU members\n\nLearn More & Register: \nhttps://ecom.roller.app/oodazudecatur/basketball/en-us/products
URL:https://cluboodazu.com/program/basketball-train-play-ages-13-17-spring-2026/2026-05-07/
LOCATION:Club OODAZU\, 421 Dekalb Industrial Way\, Decatur\, Georgia\, 30030\, United States
CATEGORIES:Youth Basketball,Youth Sports
END:VEVENT
END:VCALENDAR