BEGIN:VCALENDAR
VERSION:2.0
PRODID:-//Club OODAZU - ECPv6.15.18//NONSGML v1.0//EN
CALSCALE:GREGORIAN
METHOD:PUBLISH
X-ORIGINAL-URL:https://cluboodazu.com
X-WR-CALDESC:Events for Club OODAZU
REFRESH-INTERVAL;VALUE=DURATION:PT1H
X-Robots-Tag:noindex
X-PUBLISHED-TTL:PT1H
BEGIN:VTIMEZONE
TZID:America/New_York
BEGIN:DAYLIGHT
TZOFFSETFROM:-0500
TZOFFSETTO:-0400
TZNAME:EDT
DTSTART:20250309T070000
END:DAYLIGHT
BEGIN:STANDARD
TZOFFSETFROM:-0400
TZOFFSETTO:-0500
TZNAME:EST
DTSTART:20251102T060000
END:STANDARD
BEGIN:DAYLIGHT
TZOFFSETFROM:-0500
TZOFFSETTO:-0400
TZNAME:EDT
DTSTART:20260308T070000
END:DAYLIGHT
BEGIN:STANDARD
TZOFFSETFROM:-0400
TZOFFSETTO:-0500
TZNAME:EST
DTSTART:20261101T060000
END:STANDARD
BEGIN:DAYLIGHT
TZOFFSETFROM:-0500
TZOFFSETTO:-0400
TZNAME:EDT
DTSTART:20270314T070000
END:DAYLIGHT
BEGIN:STANDARD
TZOFFSETFROM:-0400
TZOFFSETTO:-0500
TZNAME:EST
DTSTART:20271107T060000
END:STANDARD
END:VTIMEZONE
BEGIN:VEVENT
DTSTART;TZID=America/New_York:20260428T170000
DTEND;TZID=America/New_York:20260428T175500
DTSTAMP:20260423T162333
CREATED:20260122T171220Z
LAST-MODIFIED:20260223T041310Z
UID:10019139-1777395600-1777398900@cluboodazu.com
SUMMARY:Speed & Agility - Ages 6-17 (Spring 2026 - Tuesdays)
DESCRIPTION:This is a 55 minute\, once a week program (10 sessions) on Tuesdays at 5pm\, based on your child’s age group. Please enter your child’s name in the “Ticket Holder” field at check-out. \nRuns Tuesdays from Feb 24th – May 5th (excluding week of April 6th). \nProgram Overview\nThe Youth Speed & Agility Program @ Club OODAZU is designed to help young athletes move better\, feel stronger\, and gain confidence in every step. \nThis fun\, movement-based class focuses on building the athletic foundation essential for all sports—and for lifelong fitness. Led by experienced Club OODAZU coaches\, each session emphasizes speed\, agility\, coordination\, balance\, and body control in an engaging and supportive environment. \nAthletes will participate in structured drills\, movement games\, and age-appropriate plyometrics—such as jumping\, hopping\, landing\, and quick takeoff movements—designed to safely build power\, coordination\, and movement efficiency. Activities are tailored to be fun\, safe\, and developmentally appropriate for each age group. \nOur mission is simple: make movement FUN while helping every child build confidence\, athletic ability\, and joy in being active. \nProgram Format\nEach session combines age-appropriate speed\, agility\, and plyometric training—along with fun relays and games that develop quickness\, balance\, coordination\, and power in a supportive and energetic environment. \nAges 6-9\nYoung athletes are introduced to the fundamentals of athletic movement through playful\, engaging activities. The focus is on building body control\, balance\, and confidence while developing teamwork and listening skills—all while having fun!\n\nAges 10-17\nOlder participants focus on improving running form\, speed\, and agility through short sprints\, reaction drills\, and change-of-direction exercises. Sessions also include introductory\, developmentally safe plyometric exercises to enhance power\, coordination\, and core strength—supporting all sports and physical activities. \nFees:\n \n\n$20 per session\nComplimentary for Club OODAZU members\n\nUse the link below to register: \nhttps://ecom.roller.app/oodazudecatur/speedagility/en-us/products
URL:https://cluboodazu.com/program/speed-agility-ages-6-9-spring-2026/2026-04-28/
LOCATION:Club OODAZU\, 421 Dekalb Industrial Way\, Decatur\, Georgia\, 30030\, United States
CATEGORIES:Speed & Agility,Youth Sports
END:VEVENT
BEGIN:VEVENT
DTSTART;TZID=America/New_York:20260505T170000
DTEND;TZID=America/New_York:20260505T175500
DTSTAMP:20260423T162333
CREATED:20260122T171220Z
LAST-MODIFIED:20260223T041310Z
UID:10019140-1778000400-1778003700@cluboodazu.com
SUMMARY:Speed & Agility - Ages 6-17 (Spring 2026 - Tuesdays)
DESCRIPTION:This is a 55 minute\, once a week program (10 sessions) on Tuesdays at 5pm\, based on your child’s age group. Please enter your child’s name in the “Ticket Holder” field at check-out. \nRuns Tuesdays from Feb 24th – May 5th (excluding week of April 6th). \nProgram Overview\nThe Youth Speed & Agility Program @ Club OODAZU is designed to help young athletes move better\, feel stronger\, and gain confidence in every step. \nThis fun\, movement-based class focuses on building the athletic foundation essential for all sports—and for lifelong fitness. Led by experienced Club OODAZU coaches\, each session emphasizes speed\, agility\, coordination\, balance\, and body control in an engaging and supportive environment. \nAthletes will participate in structured drills\, movement games\, and age-appropriate plyometrics—such as jumping\, hopping\, landing\, and quick takeoff movements—designed to safely build power\, coordination\, and movement efficiency. Activities are tailored to be fun\, safe\, and developmentally appropriate for each age group. \nOur mission is simple: make movement FUN while helping every child build confidence\, athletic ability\, and joy in being active. \nProgram Format\nEach session combines age-appropriate speed\, agility\, and plyometric training—along with fun relays and games that develop quickness\, balance\, coordination\, and power in a supportive and energetic environment. \nAges 6-9\nYoung athletes are introduced to the fundamentals of athletic movement through playful\, engaging activities. The focus is on building body control\, balance\, and confidence while developing teamwork and listening skills—all while having fun!\n\nAges 10-17\nOlder participants focus on improving running form\, speed\, and agility through short sprints\, reaction drills\, and change-of-direction exercises. Sessions also include introductory\, developmentally safe plyometric exercises to enhance power\, coordination\, and core strength—supporting all sports and physical activities. \nFees:\n \n\n$20 per session\nComplimentary for Club OODAZU members\n\nUse the link below to register: \nhttps://ecom.roller.app/oodazudecatur/speedagility/en-us/products
URL:https://cluboodazu.com/program/speed-agility-ages-6-9-spring-2026/2026-05-05/
LOCATION:Club OODAZU\, 421 Dekalb Industrial Way\, Decatur\, Georgia\, 30030\, United States
CATEGORIES:Speed & Agility,Youth Sports
END:VEVENT
END:VCALENDAR