BEGIN:VCALENDAR
VERSION:2.0
PRODID:-//Club OODAZU - ECPv6.15.18//NONSGML v1.0//EN
CALSCALE:GREGORIAN
METHOD:PUBLISH
X-ORIGINAL-URL:https://cluboodazu.com
X-WR-CALDESC:Events for Club OODAZU
REFRESH-INTERVAL;VALUE=DURATION:PT1H
X-Robots-Tag:noindex
X-PUBLISHED-TTL:PT1H
BEGIN:VTIMEZONE
TZID:America/New_York
BEGIN:DAYLIGHT
TZOFFSETFROM:-0500
TZOFFSETTO:-0400
TZNAME:EDT
DTSTART:20250309T070000
END:DAYLIGHT
BEGIN:STANDARD
TZOFFSETFROM:-0400
TZOFFSETTO:-0500
TZNAME:EST
DTSTART:20251102T060000
END:STANDARD
BEGIN:DAYLIGHT
TZOFFSETFROM:-0500
TZOFFSETTO:-0400
TZNAME:EDT
DTSTART:20260308T070000
END:DAYLIGHT
BEGIN:STANDARD
TZOFFSETFROM:-0400
TZOFFSETTO:-0500
TZNAME:EST
DTSTART:20261101T060000
END:STANDARD
BEGIN:DAYLIGHT
TZOFFSETFROM:-0500
TZOFFSETTO:-0400
TZNAME:EDT
DTSTART:20270314T070000
END:DAYLIGHT
BEGIN:STANDARD
TZOFFSETFROM:-0400
TZOFFSETTO:-0500
TZNAME:EST
DTSTART:20271107T060000
END:STANDARD
END:VTIMEZONE
BEGIN:VEVENT
DTSTART;TZID=America/New_York:20260424T160000
DTEND;TZID=America/New_York:20260424T165500
DTSTAMP:20260423T144512
CREATED:20260223T043343Z
LAST-MODIFIED:20260407T155504Z
UID:10019230-1777046400-1777049700@cluboodazu.com
SUMMARY:Speed & Agility - Ages 6-17 (Spring 2026 - Fridays)
DESCRIPTION:This is a 55 minute\, once a week program (10 sessions) on Fridays at 4pm. Please enter your child’s name in the “Ticket Holder” field at check-out. Runs Fridays from Feb 27th – May 8th (excluding week of April 6th). \nProgram Overview\nThe Youth Speed & Agility Program @ Club OODAZU is designed to help young athletes move better\, feel stronger\, and gain confidence in every step. This fun\, movement-based class focuses on building the athletic foundation essential for all sports—and for lifelong fitness. Led by experienced Club OODAZU coaches\, each session emphasizes speed\, agility\, coordination\, balance\, and body control in an engaging and supportive environment. \nAthletes will participate in structured drills\, movement games\, and age-appropriate plyometrics—such as jumping\, hopping\, landing\, and quick takeoff movements—designed to safely build power\, coordination\, and movement efficiency. Activities are tailored to be fun\, safe\, and developmentally appropriate for each age group. Our mission is simple: make movement FUN while helping every child build confidence\, athletic ability\, and joy in being active. \nProgram Format\nEach session combines age-appropriate speed\, agility\, and plyometric training—along with fun relays and games that develop quickness\, balance\, coordination\, and power in a supportive and energetic environment. \nAges 6-9\nYoung athletes are introduced to the fundamentals of athletic movement through playful\, engaging activities. The focus is on building body control\, balance\, and confidence while developing teamwork and listening skills—all while having fun! \n Ages 10-17\nOlder participants focus on improving running form\, speed\, and agility through short sprints\, reaction drills\, and change-of-direction exercises. Sessions also include introductory\, developmentally safe plyometric exercises to enhance power\, coordination\, and core strength—supporting all sports and physical activities. \nFees:  \n\n$20 per session\nComplimentary for Club OODAZU members\n\nRegister at the link below: https://ecom.roller.app/oodazudecatur/speedagility/en-us/products
URL:https://cluboodazu.com/program/3874/2026-04-24/
CATEGORIES:Speed & Agility,Youth Sports
END:VEVENT
BEGIN:VEVENT
DTSTART;TZID=America/New_York:20260501T160000
DTEND;TZID=America/New_York:20260501T165500
DTSTAMP:20260423T144512
CREATED:20260223T043343Z
LAST-MODIFIED:20260407T155504Z
UID:10019231-1777651200-1777654500@cluboodazu.com
SUMMARY:Speed & Agility - Ages 6-17 (Spring 2026 - Fridays)
DESCRIPTION:This is a 55 minute\, once a week program (10 sessions) on Fridays at 4pm. Please enter your child’s name in the “Ticket Holder” field at check-out. Runs Fridays from Feb 27th – May 8th (excluding week of April 6th). \nProgram Overview\nThe Youth Speed & Agility Program @ Club OODAZU is designed to help young athletes move better\, feel stronger\, and gain confidence in every step. This fun\, movement-based class focuses on building the athletic foundation essential for all sports—and for lifelong fitness. Led by experienced Club OODAZU coaches\, each session emphasizes speed\, agility\, coordination\, balance\, and body control in an engaging and supportive environment. \nAthletes will participate in structured drills\, movement games\, and age-appropriate plyometrics—such as jumping\, hopping\, landing\, and quick takeoff movements—designed to safely build power\, coordination\, and movement efficiency. Activities are tailored to be fun\, safe\, and developmentally appropriate for each age group. Our mission is simple: make movement FUN while helping every child build confidence\, athletic ability\, and joy in being active. \nProgram Format\nEach session combines age-appropriate speed\, agility\, and plyometric training—along with fun relays and games that develop quickness\, balance\, coordination\, and power in a supportive and energetic environment. \nAges 6-9\nYoung athletes are introduced to the fundamentals of athletic movement through playful\, engaging activities. The focus is on building body control\, balance\, and confidence while developing teamwork and listening skills—all while having fun! \n Ages 10-17\nOlder participants focus on improving running form\, speed\, and agility through short sprints\, reaction drills\, and change-of-direction exercises. Sessions also include introductory\, developmentally safe plyometric exercises to enhance power\, coordination\, and core strength—supporting all sports and physical activities. \nFees:  \n\n$20 per session\nComplimentary for Club OODAZU members\n\nRegister at the link below: https://ecom.roller.app/oodazudecatur/speedagility/en-us/products
URL:https://cluboodazu.com/program/3874/2026-05-01/
CATEGORIES:Speed & Agility,Youth Sports
END:VEVENT
BEGIN:VEVENT
DTSTART;TZID=America/New_York:20260508T160000
DTEND;TZID=America/New_York:20260508T165500
DTSTAMP:20260423T144512
CREATED:20260223T043343Z
LAST-MODIFIED:20260407T155504Z
UID:10019232-1778256000-1778259300@cluboodazu.com
SUMMARY:Speed & Agility - Ages 6-17 (Spring 2026 - Fridays)
DESCRIPTION:This is a 55 minute\, once a week program (10 sessions) on Fridays at 4pm. Please enter your child’s name in the “Ticket Holder” field at check-out. Runs Fridays from Feb 27th – May 8th (excluding week of April 6th). \nProgram Overview\nThe Youth Speed & Agility Program @ Club OODAZU is designed to help young athletes move better\, feel stronger\, and gain confidence in every step. This fun\, movement-based class focuses on building the athletic foundation essential for all sports—and for lifelong fitness. Led by experienced Club OODAZU coaches\, each session emphasizes speed\, agility\, coordination\, balance\, and body control in an engaging and supportive environment. \nAthletes will participate in structured drills\, movement games\, and age-appropriate plyometrics—such as jumping\, hopping\, landing\, and quick takeoff movements—designed to safely build power\, coordination\, and movement efficiency. Activities are tailored to be fun\, safe\, and developmentally appropriate for each age group. Our mission is simple: make movement FUN while helping every child build confidence\, athletic ability\, and joy in being active. \nProgram Format\nEach session combines age-appropriate speed\, agility\, and plyometric training—along with fun relays and games that develop quickness\, balance\, coordination\, and power in a supportive and energetic environment. \nAges 6-9\nYoung athletes are introduced to the fundamentals of athletic movement through playful\, engaging activities. The focus is on building body control\, balance\, and confidence while developing teamwork and listening skills—all while having fun! \n Ages 10-17\nOlder participants focus on improving running form\, speed\, and agility through short sprints\, reaction drills\, and change-of-direction exercises. Sessions also include introductory\, developmentally safe plyometric exercises to enhance power\, coordination\, and core strength—supporting all sports and physical activities. \nFees:  \n\n$20 per session\nComplimentary for Club OODAZU members\n\nRegister at the link below: https://ecom.roller.app/oodazudecatur/speedagility/en-us/products
URL:https://cluboodazu.com/program/3874/2026-05-08/
CATEGORIES:Speed & Agility,Youth Sports
END:VEVENT
END:VCALENDAR