BEGIN:VCALENDAR
VERSION:2.0
PRODID:-//Club OODAZU - ECPv6.15.18//NONSGML v1.0//EN
CALSCALE:GREGORIAN
METHOD:PUBLISH
X-ORIGINAL-URL:https://cluboodazu.com
X-WR-CALDESC:Events for Club OODAZU
REFRESH-INTERVAL;VALUE=DURATION:PT1H
X-Robots-Tag:noindex
X-PUBLISHED-TTL:PT1H
BEGIN:VTIMEZONE
TZID:America/New_York
BEGIN:DAYLIGHT
TZOFFSETFROM:-0500
TZOFFSETTO:-0400
TZNAME:EDT
DTSTART:20250309T070000
END:DAYLIGHT
BEGIN:STANDARD
TZOFFSETFROM:-0400
TZOFFSETTO:-0500
TZNAME:EST
DTSTART:20251102T060000
END:STANDARD
BEGIN:DAYLIGHT
TZOFFSETFROM:-0500
TZOFFSETTO:-0400
TZNAME:EDT
DTSTART:20260308T070000
END:DAYLIGHT
BEGIN:STANDARD
TZOFFSETFROM:-0400
TZOFFSETTO:-0500
TZNAME:EST
DTSTART:20261101T060000
END:STANDARD
BEGIN:DAYLIGHT
TZOFFSETFROM:-0500
TZOFFSETTO:-0400
TZNAME:EDT
DTSTART:20270314T070000
END:DAYLIGHT
BEGIN:STANDARD
TZOFFSETFROM:-0400
TZOFFSETTO:-0500
TZNAME:EST
DTSTART:20271107T060000
END:STANDARD
END:VTIMEZONE
BEGIN:VEVENT
DTSTART;TZID=America/New_York:20260425T100000
DTEND;TZID=America/New_York:20260425T104500
DTSTAMP:20260423T162409
CREATED:20260309T022502Z
LAST-MODIFIED:20260309T022502Z
UID:10019307-1777111200-1777113900@cluboodazu.com
SUMMARY:OODAZU First Sports: Ages 3.5-5 Years (Spring 2026 - Weekend)
DESCRIPTION:This is a 45 minute\, once a week program on Saturdays (10 sessions) at 10AM running from March 13th – May 9th. Age groups are based on the age children are at the time of the first session. Please enter your child’s name in the “Ticket Holder” field at check-out. \nOODAZU First Sports is a multi-sport introduction program designed for young children ages 3.5–5 who are ready to explore movement and sports in a structured\, age-appropriate group setting. This program helps children develop confidence\, coordination\, and a love for being active — all while having fun. \nEach session rotates through foundational skills from a variety of sports commonly played in the U.S.\, including soccer\, basketball\, baseball\, football\, and racquet sports. Activities focus on core movement patterns such as running\, jumping\, kicking\, throwing\, catching\, striking\, balancing\, and changing direction. \nUsing a combination of turf and hard courts\, Club OODAZU staff lead kids through engaging games\, stations\, and mini-challenges that promote learning through play. The environment is energetic\, supportive\, and structured to help children learn how to participate in group activities\, follow directions\, and interact with peers. \nThis program is ideal for kids that are new to organized sports and are ready to participate more independently while still receiving guidance and encouragement. \nGoals of the Program: \n\nDevelop fundamental movement and coordination skills\nIntroduce multiple sports in a fun\, non-competitive way\nBuild confidence\, listening skills\, and social interaction\nEncourage teamwork\, turn-taking\, and positive participation\nHelp children discover the joy of movement and active play\n\nThis is not a drop-off program. A parent or guardian must remain on the premises during the session and may observe from designated viewing areas\, café\, or gym. \nPricing: \n\n$160 per season ($20/session for 8 sessions)\nComplimentary for Club OODAZU members\n\nRegister at the link below: \nhttps://ecom.roller.app/oodazudecatur/oodazufirstsports/en-us/products
URL:https://cluboodazu.com/program/oodazu-first-sports-ages-3-5-5-years-spring-2026-weekend/2026-04-25/
LOCATION:Club OODAZU\, 421 Dekalb Industrial Way\, Decatur\, Georgia\, 30030\, United States
CATEGORIES:OODAZU First Sports,Youth Sports
END:VEVENT
BEGIN:VEVENT
DTSTART;TZID=America/New_York:20260502T100000
DTEND;TZID=America/New_York:20260502T104500
DTSTAMP:20260423T162409
CREATED:20260309T022502Z
LAST-MODIFIED:20260309T022502Z
UID:10019308-1777716000-1777718700@cluboodazu.com
SUMMARY:OODAZU First Sports: Ages 3.5-5 Years (Spring 2026 - Weekend)
DESCRIPTION:This is a 45 minute\, once a week program on Saturdays (10 sessions) at 10AM running from March 13th – May 9th. Age groups are based on the age children are at the time of the first session. Please enter your child’s name in the “Ticket Holder” field at check-out. \nOODAZU First Sports is a multi-sport introduction program designed for young children ages 3.5–5 who are ready to explore movement and sports in a structured\, age-appropriate group setting. This program helps children develop confidence\, coordination\, and a love for being active — all while having fun. \nEach session rotates through foundational skills from a variety of sports commonly played in the U.S.\, including soccer\, basketball\, baseball\, football\, and racquet sports. Activities focus on core movement patterns such as running\, jumping\, kicking\, throwing\, catching\, striking\, balancing\, and changing direction. \nUsing a combination of turf and hard courts\, Club OODAZU staff lead kids through engaging games\, stations\, and mini-challenges that promote learning through play. The environment is energetic\, supportive\, and structured to help children learn how to participate in group activities\, follow directions\, and interact with peers. \nThis program is ideal for kids that are new to organized sports and are ready to participate more independently while still receiving guidance and encouragement. \nGoals of the Program: \n\nDevelop fundamental movement and coordination skills\nIntroduce multiple sports in a fun\, non-competitive way\nBuild confidence\, listening skills\, and social interaction\nEncourage teamwork\, turn-taking\, and positive participation\nHelp children discover the joy of movement and active play\n\nThis is not a drop-off program. A parent or guardian must remain on the premises during the session and may observe from designated viewing areas\, café\, or gym. \nPricing: \n\n$160 per season ($20/session for 8 sessions)\nComplimentary for Club OODAZU members\n\nRegister at the link below: \nhttps://ecom.roller.app/oodazudecatur/oodazufirstsports/en-us/products
URL:https://cluboodazu.com/program/oodazu-first-sports-ages-3-5-5-years-spring-2026-weekend/2026-05-02/
LOCATION:Club OODAZU\, 421 Dekalb Industrial Way\, Decatur\, Georgia\, 30030\, United States
CATEGORIES:OODAZU First Sports,Youth Sports
END:VEVENT
BEGIN:VEVENT
DTSTART;TZID=America/New_York:20260509T100000
DTEND;TZID=America/New_York:20260509T104500
DTSTAMP:20260423T162409
CREATED:20260309T022502Z
LAST-MODIFIED:20260309T022502Z
UID:10019309-1778320800-1778323500@cluboodazu.com
SUMMARY:OODAZU First Sports: Ages 3.5-5 Years (Spring 2026 - Weekend)
DESCRIPTION:This is a 45 minute\, once a week program on Saturdays (10 sessions) at 10AM running from March 13th – May 9th. Age groups are based on the age children are at the time of the first session. Please enter your child’s name in the “Ticket Holder” field at check-out. \nOODAZU First Sports is a multi-sport introduction program designed for young children ages 3.5–5 who are ready to explore movement and sports in a structured\, age-appropriate group setting. This program helps children develop confidence\, coordination\, and a love for being active — all while having fun. \nEach session rotates through foundational skills from a variety of sports commonly played in the U.S.\, including soccer\, basketball\, baseball\, football\, and racquet sports. Activities focus on core movement patterns such as running\, jumping\, kicking\, throwing\, catching\, striking\, balancing\, and changing direction. \nUsing a combination of turf and hard courts\, Club OODAZU staff lead kids through engaging games\, stations\, and mini-challenges that promote learning through play. The environment is energetic\, supportive\, and structured to help children learn how to participate in group activities\, follow directions\, and interact with peers. \nThis program is ideal for kids that are new to organized sports and are ready to participate more independently while still receiving guidance and encouragement. \nGoals of the Program: \n\nDevelop fundamental movement and coordination skills\nIntroduce multiple sports in a fun\, non-competitive way\nBuild confidence\, listening skills\, and social interaction\nEncourage teamwork\, turn-taking\, and positive participation\nHelp children discover the joy of movement and active play\n\nThis is not a drop-off program. A parent or guardian must remain on the premises during the session and may observe from designated viewing areas\, café\, or gym. \nPricing: \n\n$160 per season ($20/session for 8 sessions)\nComplimentary for Club OODAZU members\n\nRegister at the link below: \nhttps://ecom.roller.app/oodazudecatur/oodazufirstsports/en-us/products
URL:https://cluboodazu.com/program/oodazu-first-sports-ages-3-5-5-years-spring-2026-weekend/2026-05-09/
LOCATION:Club OODAZU\, 421 Dekalb Industrial Way\, Decatur\, Georgia\, 30030\, United States
CATEGORIES:OODAZU First Sports,Youth Sports
END:VEVENT
END:VCALENDAR