BEGIN:VCALENDAR
VERSION:2.0
PRODID:-//Club OODAZU - ECPv6.15.18//NONSGML v1.0//EN
CALSCALE:GREGORIAN
METHOD:PUBLISH
X-ORIGINAL-URL:https://cluboodazu.com
X-WR-CALDESC:Events for Club OODAZU
REFRESH-INTERVAL;VALUE=DURATION:PT1H
X-Robots-Tag:noindex
X-PUBLISHED-TTL:PT1H
BEGIN:VTIMEZONE
TZID:America/New_York
BEGIN:DAYLIGHT
TZOFFSETFROM:-0500
TZOFFSETTO:-0400
TZNAME:EDT
DTSTART:20250309T070000
END:DAYLIGHT
BEGIN:STANDARD
TZOFFSETFROM:-0400
TZOFFSETTO:-0500
TZNAME:EST
DTSTART:20251102T060000
END:STANDARD
BEGIN:DAYLIGHT
TZOFFSETFROM:-0500
TZOFFSETTO:-0400
TZNAME:EDT
DTSTART:20260308T070000
END:DAYLIGHT
BEGIN:STANDARD
TZOFFSETFROM:-0400
TZOFFSETTO:-0500
TZNAME:EST
DTSTART:20261101T060000
END:STANDARD
BEGIN:DAYLIGHT
TZOFFSETFROM:-0500
TZOFFSETTO:-0400
TZNAME:EDT
DTSTART:20270314T070000
END:DAYLIGHT
BEGIN:STANDARD
TZOFFSETFROM:-0400
TZOFFSETTO:-0500
TZNAME:EST
DTSTART:20271107T060000
END:STANDARD
END:VTIMEZONE
BEGIN:VEVENT
DTSTART;TZID=America/New_York:20260429T100000
DTEND;TZID=America/New_York:20260429T105500
DTSTAMP:20260423T143852
CREATED:20260407T144144Z
LAST-MODIFIED:20260407T144144Z
UID:10019311-1777456800-1777460100@cluboodazu.com
SUMMARY:Restore: A Morning Mat Pilates Class for Caregivers
DESCRIPTION:For women who’ve spent years putting everyone else first — this hour is yours. Restore is a mat-based Pilates class for caregivers and mothers at any stage of their wellness journey: postpartum recovery\, returning to fitness after years away\, or reclaiming a morning practice after the school drop-off. Each 55-minute class builds core strength\, posture\, and whole-body conditioning in a small group of no more than 8 — and closes with a brief community moment\, because restoring yourself is both physical and relational. \nParticipants bring their own mats. \nRuns Wednesdays from 10:00 – 10:55am from April 22nd – May 20th \nPricing:\n \n\n5 week program: $100\nClub OODAZU Members receive 50% OFF\n\nRegister at the link below: \nhttps://ecom.roller.app/oodazudecatur/adultprogramming/en-us/product/1866598?date=2026-04-22
URL:https://cluboodazu.com/program/restore-a-morning-mat-pilates-class-for-caregivers/2026-04-29/
LOCATION:Club OODAZU\, 421 Dekalb Industrial Way\, Decatur\, Georgia\, 30030\, United States
CATEGORIES:Adult Classes
END:VEVENT
BEGIN:VEVENT
DTSTART;TZID=America/New_York:20260506T100000
DTEND;TZID=America/New_York:20260506T105500
DTSTAMP:20260423T143852
CREATED:20260407T144144Z
LAST-MODIFIED:20260407T144144Z
UID:10019312-1778061600-1778064900@cluboodazu.com
SUMMARY:Restore: A Morning Mat Pilates Class for Caregivers
DESCRIPTION:For women who’ve spent years putting everyone else first — this hour is yours. Restore is a mat-based Pilates class for caregivers and mothers at any stage of their wellness journey: postpartum recovery\, returning to fitness after years away\, or reclaiming a morning practice after the school drop-off. Each 55-minute class builds core strength\, posture\, and whole-body conditioning in a small group of no more than 8 — and closes with a brief community moment\, because restoring yourself is both physical and relational. \nParticipants bring their own mats. \nRuns Wednesdays from 10:00 – 10:55am from April 22nd – May 20th \nPricing:\n \n\n5 week program: $100\nClub OODAZU Members receive 50% OFF\n\nRegister at the link below: \nhttps://ecom.roller.app/oodazudecatur/adultprogramming/en-us/product/1866598?date=2026-04-22
URL:https://cluboodazu.com/program/restore-a-morning-mat-pilates-class-for-caregivers/2026-05-06/
LOCATION:Club OODAZU\, 421 Dekalb Industrial Way\, Decatur\, Georgia\, 30030\, United States
CATEGORIES:Adult Classes
END:VEVENT
BEGIN:VEVENT
DTSTART;TZID=America/New_York:20260513T100000
DTEND;TZID=America/New_York:20260513T105500
DTSTAMP:20260423T143852
CREATED:20260407T144144Z
LAST-MODIFIED:20260407T144144Z
UID:10019313-1778666400-1778669700@cluboodazu.com
SUMMARY:Restore: A Morning Mat Pilates Class for Caregivers
DESCRIPTION:For women who’ve spent years putting everyone else first — this hour is yours. Restore is a mat-based Pilates class for caregivers and mothers at any stage of their wellness journey: postpartum recovery\, returning to fitness after years away\, or reclaiming a morning practice after the school drop-off. Each 55-minute class builds core strength\, posture\, and whole-body conditioning in a small group of no more than 8 — and closes with a brief community moment\, because restoring yourself is both physical and relational. \nParticipants bring their own mats. \nRuns Wednesdays from 10:00 – 10:55am from April 22nd – May 20th \nPricing:\n \n\n5 week program: $100\nClub OODAZU Members receive 50% OFF\n\nRegister at the link below: \nhttps://ecom.roller.app/oodazudecatur/adultprogramming/en-us/product/1866598?date=2026-04-22
URL:https://cluboodazu.com/program/restore-a-morning-mat-pilates-class-for-caregivers/2026-05-13/
LOCATION:Club OODAZU\, 421 Dekalb Industrial Way\, Decatur\, Georgia\, 30030\, United States
CATEGORIES:Adult Classes
END:VEVENT
BEGIN:VEVENT
DTSTART;TZID=America/New_York:20260520T100000
DTEND;TZID=America/New_York:20260520T105500
DTSTAMP:20260423T143852
CREATED:20260407T144144Z
LAST-MODIFIED:20260407T144144Z
UID:10019314-1779271200-1779274500@cluboodazu.com
SUMMARY:Restore: A Morning Mat Pilates Class for Caregivers
DESCRIPTION:For women who’ve spent years putting everyone else first — this hour is yours. Restore is a mat-based Pilates class for caregivers and mothers at any stage of their wellness journey: postpartum recovery\, returning to fitness after years away\, or reclaiming a morning practice after the school drop-off. Each 55-minute class builds core strength\, posture\, and whole-body conditioning in a small group of no more than 8 — and closes with a brief community moment\, because restoring yourself is both physical and relational. \nParticipants bring their own mats. \nRuns Wednesdays from 10:00 – 10:55am from April 22nd – May 20th \nPricing:\n \n\n5 week program: $100\nClub OODAZU Members receive 50% OFF\n\nRegister at the link below: \nhttps://ecom.roller.app/oodazudecatur/adultprogramming/en-us/product/1866598?date=2026-04-22
URL:https://cluboodazu.com/program/restore-a-morning-mat-pilates-class-for-caregivers/2026-05-20/
LOCATION:Club OODAZU\, 421 Dekalb Industrial Way\, Decatur\, Georgia\, 30030\, United States
CATEGORIES:Adult Classes
END:VEVENT
END:VCALENDAR