BEGIN:VCALENDAR
VERSION:2.0
PRODID:-//Club OODAZU - ECPv6.15.18//NONSGML v1.0//EN
CALSCALE:GREGORIAN
METHOD:PUBLISH
X-ORIGINAL-URL:https://cluboodazu.com
X-WR-CALDESC:Events for Club OODAZU
REFRESH-INTERVAL;VALUE=DURATION:PT1H
X-Robots-Tag:noindex
X-PUBLISHED-TTL:PT1H
BEGIN:VTIMEZONE
TZID:America/New_York
BEGIN:DAYLIGHT
TZOFFSETFROM:-0500
TZOFFSETTO:-0400
TZNAME:EDT
DTSTART:20250309T070000
END:DAYLIGHT
BEGIN:STANDARD
TZOFFSETFROM:-0400
TZOFFSETTO:-0500
TZNAME:EST
DTSTART:20251102T060000
END:STANDARD
BEGIN:DAYLIGHT
TZOFFSETFROM:-0500
TZOFFSETTO:-0400
TZNAME:EDT
DTSTART:20260308T070000
END:DAYLIGHT
BEGIN:STANDARD
TZOFFSETFROM:-0400
TZOFFSETTO:-0500
TZNAME:EST
DTSTART:20261101T060000
END:STANDARD
BEGIN:DAYLIGHT
TZOFFSETFROM:-0500
TZOFFSETTO:-0400
TZNAME:EDT
DTSTART:20270314T070000
END:DAYLIGHT
BEGIN:STANDARD
TZOFFSETFROM:-0400
TZOFFSETTO:-0500
TZNAME:EST
DTSTART:20271107T060000
END:STANDARD
END:VTIMEZONE
BEGIN:VEVENT
DTSTART;TZID=America/New_York:20260512T170000
DTEND;TZID=America/New_York:20260512T175500
DTSTAMP:20260423T201325
CREATED:20260407T153932Z
LAST-MODIFIED:20260407T153932Z
UID:10019365-1778605200-1778608500@cluboodazu.com
SUMMARY:Speed & Agility Training - Ages 6-17 (Summer 2026)
DESCRIPTION:This is a 55 minute\, once a week program (10 sessions) on Tuesdays. The age group should be chosen based on the age your child is at the time of the first session. Please enter your child’s name in the “Ticket Holder” field at check-out. \nRuns Tuesdays from May 12th – July 28th (excludes weeks of May 25th & June 29th). \nProgram Overview\nThe Youth Speed & Agility Program @ Club OODAZU is designed to help young athletes move better\, feel stronger\, and gain confidence in every step. \nThis fun\, movement-based class focuses on building the athletic foundation essential for all sports—and for lifelong fitness. Led by experienced Club OODAZU coaches\, each session emphasizes speed\, agility\, coordination\, balance\, and body control in an engaging and supportive environment. \nAthletes will participate in structured drills\, movement games\, and age-appropriate plyometrics—such as jumping\, hopping\, landing\, and quick takeoff movements—designed to safely build power\, coordination\, and movement efficiency. Activities are tailored to be fun\, safe\, and developmentally appropriate for each age group. \nOur mission is simple: make movement FUN while helping every child build confidence\, athletic ability\, and joy in being active. \nProgram Format\nEach session combines age-appropriate speed\, agility\, and plyometric training—along with fun relays and games that develop quickness\, balance\, coordination\, and power in a supportive and energetic environment. \nYoung athletes are introduced to the fundamentals of athletic movement through playful\, engaging activities. The focus is on building body control\, balance\, and confidence while developing teamwork and listening skills—all while having fun!\n\nOlder participants focus on improving running form\, speed\, and agility through short sprints\, reaction drills\, and change-of-direction exercises. Sessions also include introductory\, developmentally safe plyometric exercises to enhance power\, coordination\, and core strength—supporting all sports and physical activities. \nFees:\n$20 per session\nIncluded at no additional cost for Club OODAZU Members \nRegister at the link below: \nhttps://ecom.roller.app/oodazudecatur/speedagility/en-us/product/1852393?date=2026-05-12
URL:https://cluboodazu.com/program/speed-agility-training-ages-6-17-summer-2026/2026-05-12/
LOCATION:Club OODAZU\, 421 Dekalb Industrial Way\, Decatur\, Georgia\, 30030\, United States
CATEGORIES:Speed & Agility,Youth Sports
END:VEVENT
BEGIN:VEVENT
DTSTART;TZID=America/New_York:20260519T170000
DTEND;TZID=America/New_York:20260519T175500
DTSTAMP:20260423T201325
CREATED:20260407T153932Z
LAST-MODIFIED:20260407T153932Z
UID:10019366-1779210000-1779213300@cluboodazu.com
SUMMARY:Speed & Agility Training - Ages 6-17 (Summer 2026)
DESCRIPTION:This is a 55 minute\, once a week program (10 sessions) on Tuesdays. The age group should be chosen based on the age your child is at the time of the first session. Please enter your child’s name in the “Ticket Holder” field at check-out. \nRuns Tuesdays from May 12th – July 28th (excludes weeks of May 25th & June 29th). \nProgram Overview\nThe Youth Speed & Agility Program @ Club OODAZU is designed to help young athletes move better\, feel stronger\, and gain confidence in every step. \nThis fun\, movement-based class focuses on building the athletic foundation essential for all sports—and for lifelong fitness. Led by experienced Club OODAZU coaches\, each session emphasizes speed\, agility\, coordination\, balance\, and body control in an engaging and supportive environment. \nAthletes will participate in structured drills\, movement games\, and age-appropriate plyometrics—such as jumping\, hopping\, landing\, and quick takeoff movements—designed to safely build power\, coordination\, and movement efficiency. Activities are tailored to be fun\, safe\, and developmentally appropriate for each age group. \nOur mission is simple: make movement FUN while helping every child build confidence\, athletic ability\, and joy in being active. \nProgram Format\nEach session combines age-appropriate speed\, agility\, and plyometric training—along with fun relays and games that develop quickness\, balance\, coordination\, and power in a supportive and energetic environment. \nYoung athletes are introduced to the fundamentals of athletic movement through playful\, engaging activities. The focus is on building body control\, balance\, and confidence while developing teamwork and listening skills—all while having fun!\n\nOlder participants focus on improving running form\, speed\, and agility through short sprints\, reaction drills\, and change-of-direction exercises. Sessions also include introductory\, developmentally safe plyometric exercises to enhance power\, coordination\, and core strength—supporting all sports and physical activities. \nFees:\n$20 per session\nIncluded at no additional cost for Club OODAZU Members \nRegister at the link below: \nhttps://ecom.roller.app/oodazudecatur/speedagility/en-us/product/1852393?date=2026-05-12
URL:https://cluboodazu.com/program/speed-agility-training-ages-6-17-summer-2026/2026-05-19/
LOCATION:Club OODAZU\, 421 Dekalb Industrial Way\, Decatur\, Georgia\, 30030\, United States
CATEGORIES:Speed & Agility,Youth Sports
END:VEVENT
BEGIN:VEVENT
DTSTART;TZID=America/New_York:20260602T170000
DTEND;TZID=America/New_York:20260602T175500
DTSTAMP:20260423T201325
CREATED:20260407T153932Z
LAST-MODIFIED:20260407T153932Z
UID:10019367-1780419600-1780422900@cluboodazu.com
SUMMARY:Speed & Agility Training - Ages 6-17 (Summer 2026)
DESCRIPTION:This is a 55 minute\, once a week program (10 sessions) on Tuesdays. The age group should be chosen based on the age your child is at the time of the first session. Please enter your child’s name in the “Ticket Holder” field at check-out. \nRuns Tuesdays from May 12th – July 28th (excludes weeks of May 25th & June 29th). \nProgram Overview\nThe Youth Speed & Agility Program @ Club OODAZU is designed to help young athletes move better\, feel stronger\, and gain confidence in every step. \nThis fun\, movement-based class focuses on building the athletic foundation essential for all sports—and for lifelong fitness. Led by experienced Club OODAZU coaches\, each session emphasizes speed\, agility\, coordination\, balance\, and body control in an engaging and supportive environment. \nAthletes will participate in structured drills\, movement games\, and age-appropriate plyometrics—such as jumping\, hopping\, landing\, and quick takeoff movements—designed to safely build power\, coordination\, and movement efficiency. Activities are tailored to be fun\, safe\, and developmentally appropriate for each age group. \nOur mission is simple: make movement FUN while helping every child build confidence\, athletic ability\, and joy in being active. \nProgram Format\nEach session combines age-appropriate speed\, agility\, and plyometric training—along with fun relays and games that develop quickness\, balance\, coordination\, and power in a supportive and energetic environment. \nYoung athletes are introduced to the fundamentals of athletic movement through playful\, engaging activities. The focus is on building body control\, balance\, and confidence while developing teamwork and listening skills—all while having fun!\n\nOlder participants focus on improving running form\, speed\, and agility through short sprints\, reaction drills\, and change-of-direction exercises. Sessions also include introductory\, developmentally safe plyometric exercises to enhance power\, coordination\, and core strength—supporting all sports and physical activities. \nFees:\n$20 per session\nIncluded at no additional cost for Club OODAZU Members \nRegister at the link below: \nhttps://ecom.roller.app/oodazudecatur/speedagility/en-us/product/1852393?date=2026-05-12
URL:https://cluboodazu.com/program/speed-agility-training-ages-6-17-summer-2026/2026-06-02/
LOCATION:Club OODAZU\, 421 Dekalb Industrial Way\, Decatur\, Georgia\, 30030\, United States
CATEGORIES:Speed & Agility,Youth Sports
END:VEVENT
BEGIN:VEVENT
DTSTART;TZID=America/New_York:20260609T170000
DTEND;TZID=America/New_York:20260609T175500
DTSTAMP:20260423T201325
CREATED:20260407T153932Z
LAST-MODIFIED:20260407T153932Z
UID:10019368-1781024400-1781027700@cluboodazu.com
SUMMARY:Speed & Agility Training - Ages 6-17 (Summer 2026)
DESCRIPTION:This is a 55 minute\, once a week program (10 sessions) on Tuesdays. The age group should be chosen based on the age your child is at the time of the first session. Please enter your child’s name in the “Ticket Holder” field at check-out. \nRuns Tuesdays from May 12th – July 28th (excludes weeks of May 25th & June 29th). \nProgram Overview\nThe Youth Speed & Agility Program @ Club OODAZU is designed to help young athletes move better\, feel stronger\, and gain confidence in every step. \nThis fun\, movement-based class focuses on building the athletic foundation essential for all sports—and for lifelong fitness. Led by experienced Club OODAZU coaches\, each session emphasizes speed\, agility\, coordination\, balance\, and body control in an engaging and supportive environment. \nAthletes will participate in structured drills\, movement games\, and age-appropriate plyometrics—such as jumping\, hopping\, landing\, and quick takeoff movements—designed to safely build power\, coordination\, and movement efficiency. Activities are tailored to be fun\, safe\, and developmentally appropriate for each age group. \nOur mission is simple: make movement FUN while helping every child build confidence\, athletic ability\, and joy in being active. \nProgram Format\nEach session combines age-appropriate speed\, agility\, and plyometric training—along with fun relays and games that develop quickness\, balance\, coordination\, and power in a supportive and energetic environment. \nYoung athletes are introduced to the fundamentals of athletic movement through playful\, engaging activities. The focus is on building body control\, balance\, and confidence while developing teamwork and listening skills—all while having fun!\n\nOlder participants focus on improving running form\, speed\, and agility through short sprints\, reaction drills\, and change-of-direction exercises. Sessions also include introductory\, developmentally safe plyometric exercises to enhance power\, coordination\, and core strength—supporting all sports and physical activities. \nFees:\n$20 per session\nIncluded at no additional cost for Club OODAZU Members \nRegister at the link below: \nhttps://ecom.roller.app/oodazudecatur/speedagility/en-us/product/1852393?date=2026-05-12
URL:https://cluboodazu.com/program/speed-agility-training-ages-6-17-summer-2026/2026-06-09/
LOCATION:Club OODAZU\, 421 Dekalb Industrial Way\, Decatur\, Georgia\, 30030\, United States
CATEGORIES:Speed & Agility,Youth Sports
END:VEVENT
BEGIN:VEVENT
DTSTART;TZID=America/New_York:20260616T170000
DTEND;TZID=America/New_York:20260616T175500
DTSTAMP:20260423T201325
CREATED:20260407T153932Z
LAST-MODIFIED:20260407T153932Z
UID:10019369-1781629200-1781632500@cluboodazu.com
SUMMARY:Speed & Agility Training - Ages 6-17 (Summer 2026)
DESCRIPTION:This is a 55 minute\, once a week program (10 sessions) on Tuesdays. The age group should be chosen based on the age your child is at the time of the first session. Please enter your child’s name in the “Ticket Holder” field at check-out. \nRuns Tuesdays from May 12th – July 28th (excludes weeks of May 25th & June 29th). \nProgram Overview\nThe Youth Speed & Agility Program @ Club OODAZU is designed to help young athletes move better\, feel stronger\, and gain confidence in every step. \nThis fun\, movement-based class focuses on building the athletic foundation essential for all sports—and for lifelong fitness. Led by experienced Club OODAZU coaches\, each session emphasizes speed\, agility\, coordination\, balance\, and body control in an engaging and supportive environment. \nAthletes will participate in structured drills\, movement games\, and age-appropriate plyometrics—such as jumping\, hopping\, landing\, and quick takeoff movements—designed to safely build power\, coordination\, and movement efficiency. Activities are tailored to be fun\, safe\, and developmentally appropriate for each age group. \nOur mission is simple: make movement FUN while helping every child build confidence\, athletic ability\, and joy in being active. \nProgram Format\nEach session combines age-appropriate speed\, agility\, and plyometric training—along with fun relays and games that develop quickness\, balance\, coordination\, and power in a supportive and energetic environment. \nYoung athletes are introduced to the fundamentals of athletic movement through playful\, engaging activities. The focus is on building body control\, balance\, and confidence while developing teamwork and listening skills—all while having fun!\n\nOlder participants focus on improving running form\, speed\, and agility through short sprints\, reaction drills\, and change-of-direction exercises. Sessions also include introductory\, developmentally safe plyometric exercises to enhance power\, coordination\, and core strength—supporting all sports and physical activities. \nFees:\n$20 per session\nIncluded at no additional cost for Club OODAZU Members \nRegister at the link below: \nhttps://ecom.roller.app/oodazudecatur/speedagility/en-us/product/1852393?date=2026-05-12
URL:https://cluboodazu.com/program/speed-agility-training-ages-6-17-summer-2026/2026-06-16/
LOCATION:Club OODAZU\, 421 Dekalb Industrial Way\, Decatur\, Georgia\, 30030\, United States
CATEGORIES:Speed & Agility,Youth Sports
END:VEVENT
BEGIN:VEVENT
DTSTART;TZID=America/New_York:20260623T170000
DTEND;TZID=America/New_York:20260623T175500
DTSTAMP:20260423T201325
CREATED:20260407T153932Z
LAST-MODIFIED:20260407T153932Z
UID:10019370-1782234000-1782237300@cluboodazu.com
SUMMARY:Speed & Agility Training - Ages 6-17 (Summer 2026)
DESCRIPTION:This is a 55 minute\, once a week program (10 sessions) on Tuesdays. The age group should be chosen based on the age your child is at the time of the first session. Please enter your child’s name in the “Ticket Holder” field at check-out. \nRuns Tuesdays from May 12th – July 28th (excludes weeks of May 25th & June 29th). \nProgram Overview\nThe Youth Speed & Agility Program @ Club OODAZU is designed to help young athletes move better\, feel stronger\, and gain confidence in every step. \nThis fun\, movement-based class focuses on building the athletic foundation essential for all sports—and for lifelong fitness. Led by experienced Club OODAZU coaches\, each session emphasizes speed\, agility\, coordination\, balance\, and body control in an engaging and supportive environment. \nAthletes will participate in structured drills\, movement games\, and age-appropriate plyometrics—such as jumping\, hopping\, landing\, and quick takeoff movements—designed to safely build power\, coordination\, and movement efficiency. Activities are tailored to be fun\, safe\, and developmentally appropriate for each age group. \nOur mission is simple: make movement FUN while helping every child build confidence\, athletic ability\, and joy in being active. \nProgram Format\nEach session combines age-appropriate speed\, agility\, and plyometric training—along with fun relays and games that develop quickness\, balance\, coordination\, and power in a supportive and energetic environment. \nYoung athletes are introduced to the fundamentals of athletic movement through playful\, engaging activities. The focus is on building body control\, balance\, and confidence while developing teamwork and listening skills—all while having fun!\n\nOlder participants focus on improving running form\, speed\, and agility through short sprints\, reaction drills\, and change-of-direction exercises. Sessions also include introductory\, developmentally safe plyometric exercises to enhance power\, coordination\, and core strength—supporting all sports and physical activities. \nFees:\n$20 per session\nIncluded at no additional cost for Club OODAZU Members \nRegister at the link below: \nhttps://ecom.roller.app/oodazudecatur/speedagility/en-us/product/1852393?date=2026-05-12
URL:https://cluboodazu.com/program/speed-agility-training-ages-6-17-summer-2026/2026-06-23/
LOCATION:Club OODAZU\, 421 Dekalb Industrial Way\, Decatur\, Georgia\, 30030\, United States
CATEGORIES:Speed & Agility,Youth Sports
END:VEVENT
BEGIN:VEVENT
DTSTART;TZID=America/New_York:20260707T170000
DTEND;TZID=America/New_York:20260707T175500
DTSTAMP:20260423T201325
CREATED:20260407T153932Z
LAST-MODIFIED:20260407T153932Z
UID:10019371-1783443600-1783446900@cluboodazu.com
SUMMARY:Speed & Agility Training - Ages 6-17 (Summer 2026)
DESCRIPTION:This is a 55 minute\, once a week program (10 sessions) on Tuesdays. The age group should be chosen based on the age your child is at the time of the first session. Please enter your child’s name in the “Ticket Holder” field at check-out. \nRuns Tuesdays from May 12th – July 28th (excludes weeks of May 25th & June 29th). \nProgram Overview\nThe Youth Speed & Agility Program @ Club OODAZU is designed to help young athletes move better\, feel stronger\, and gain confidence in every step. \nThis fun\, movement-based class focuses on building the athletic foundation essential for all sports—and for lifelong fitness. Led by experienced Club OODAZU coaches\, each session emphasizes speed\, agility\, coordination\, balance\, and body control in an engaging and supportive environment. \nAthletes will participate in structured drills\, movement games\, and age-appropriate plyometrics—such as jumping\, hopping\, landing\, and quick takeoff movements—designed to safely build power\, coordination\, and movement efficiency. Activities are tailored to be fun\, safe\, and developmentally appropriate for each age group. \nOur mission is simple: make movement FUN while helping every child build confidence\, athletic ability\, and joy in being active. \nProgram Format\nEach session combines age-appropriate speed\, agility\, and plyometric training—along with fun relays and games that develop quickness\, balance\, coordination\, and power in a supportive and energetic environment. \nYoung athletes are introduced to the fundamentals of athletic movement through playful\, engaging activities. The focus is on building body control\, balance\, and confidence while developing teamwork and listening skills—all while having fun!\n\nOlder participants focus on improving running form\, speed\, and agility through short sprints\, reaction drills\, and change-of-direction exercises. Sessions also include introductory\, developmentally safe plyometric exercises to enhance power\, coordination\, and core strength—supporting all sports and physical activities. \nFees:\n$20 per session\nIncluded at no additional cost for Club OODAZU Members \nRegister at the link below: \nhttps://ecom.roller.app/oodazudecatur/speedagility/en-us/product/1852393?date=2026-05-12
URL:https://cluboodazu.com/program/speed-agility-training-ages-6-17-summer-2026/2026-07-07/
LOCATION:Club OODAZU\, 421 Dekalb Industrial Way\, Decatur\, Georgia\, 30030\, United States
CATEGORIES:Speed & Agility,Youth Sports
END:VEVENT
BEGIN:VEVENT
DTSTART;TZID=America/New_York:20260714T170000
DTEND;TZID=America/New_York:20260714T175500
DTSTAMP:20260423T201325
CREATED:20260407T153932Z
LAST-MODIFIED:20260407T153932Z
UID:10019372-1784048400-1784051700@cluboodazu.com
SUMMARY:Speed & Agility Training - Ages 6-17 (Summer 2026)
DESCRIPTION:This is a 55 minute\, once a week program (10 sessions) on Tuesdays. The age group should be chosen based on the age your child is at the time of the first session. Please enter your child’s name in the “Ticket Holder” field at check-out. \nRuns Tuesdays from May 12th – July 28th (excludes weeks of May 25th & June 29th). \nProgram Overview\nThe Youth Speed & Agility Program @ Club OODAZU is designed to help young athletes move better\, feel stronger\, and gain confidence in every step. \nThis fun\, movement-based class focuses on building the athletic foundation essential for all sports—and for lifelong fitness. Led by experienced Club OODAZU coaches\, each session emphasizes speed\, agility\, coordination\, balance\, and body control in an engaging and supportive environment. \nAthletes will participate in structured drills\, movement games\, and age-appropriate plyometrics—such as jumping\, hopping\, landing\, and quick takeoff movements—designed to safely build power\, coordination\, and movement efficiency. Activities are tailored to be fun\, safe\, and developmentally appropriate for each age group. \nOur mission is simple: make movement FUN while helping every child build confidence\, athletic ability\, and joy in being active. \nProgram Format\nEach session combines age-appropriate speed\, agility\, and plyometric training—along with fun relays and games that develop quickness\, balance\, coordination\, and power in a supportive and energetic environment. \nYoung athletes are introduced to the fundamentals of athletic movement through playful\, engaging activities. The focus is on building body control\, balance\, and confidence while developing teamwork and listening skills—all while having fun!\n\nOlder participants focus on improving running form\, speed\, and agility through short sprints\, reaction drills\, and change-of-direction exercises. Sessions also include introductory\, developmentally safe plyometric exercises to enhance power\, coordination\, and core strength—supporting all sports and physical activities. \nFees:\n$20 per session\nIncluded at no additional cost for Club OODAZU Members \nRegister at the link below: \nhttps://ecom.roller.app/oodazudecatur/speedagility/en-us/product/1852393?date=2026-05-12
URL:https://cluboodazu.com/program/speed-agility-training-ages-6-17-summer-2026/2026-07-14/
LOCATION:Club OODAZU\, 421 Dekalb Industrial Way\, Decatur\, Georgia\, 30030\, United States
CATEGORIES:Speed & Agility,Youth Sports
END:VEVENT
BEGIN:VEVENT
DTSTART;TZID=America/New_York:20260721T170000
DTEND;TZID=America/New_York:20260721T175500
DTSTAMP:20260423T201325
CREATED:20260407T153932Z
LAST-MODIFIED:20260407T153932Z
UID:10019373-1784653200-1784656500@cluboodazu.com
SUMMARY:Speed & Agility Training - Ages 6-17 (Summer 2026)
DESCRIPTION:This is a 55 minute\, once a week program (10 sessions) on Tuesdays. The age group should be chosen based on the age your child is at the time of the first session. Please enter your child’s name in the “Ticket Holder” field at check-out. \nRuns Tuesdays from May 12th – July 28th (excludes weeks of May 25th & June 29th). \nProgram Overview\nThe Youth Speed & Agility Program @ Club OODAZU is designed to help young athletes move better\, feel stronger\, and gain confidence in every step. \nThis fun\, movement-based class focuses on building the athletic foundation essential for all sports—and for lifelong fitness. Led by experienced Club OODAZU coaches\, each session emphasizes speed\, agility\, coordination\, balance\, and body control in an engaging and supportive environment. \nAthletes will participate in structured drills\, movement games\, and age-appropriate plyometrics—such as jumping\, hopping\, landing\, and quick takeoff movements—designed to safely build power\, coordination\, and movement efficiency. Activities are tailored to be fun\, safe\, and developmentally appropriate for each age group. \nOur mission is simple: make movement FUN while helping every child build confidence\, athletic ability\, and joy in being active. \nProgram Format\nEach session combines age-appropriate speed\, agility\, and plyometric training—along with fun relays and games that develop quickness\, balance\, coordination\, and power in a supportive and energetic environment. \nYoung athletes are introduced to the fundamentals of athletic movement through playful\, engaging activities. The focus is on building body control\, balance\, and confidence while developing teamwork and listening skills—all while having fun!\n\nOlder participants focus on improving running form\, speed\, and agility through short sprints\, reaction drills\, and change-of-direction exercises. Sessions also include introductory\, developmentally safe plyometric exercises to enhance power\, coordination\, and core strength—supporting all sports and physical activities. \nFees:\n$20 per session\nIncluded at no additional cost for Club OODAZU Members \nRegister at the link below: \nhttps://ecom.roller.app/oodazudecatur/speedagility/en-us/product/1852393?date=2026-05-12
URL:https://cluboodazu.com/program/speed-agility-training-ages-6-17-summer-2026/2026-07-21/
LOCATION:Club OODAZU\, 421 Dekalb Industrial Way\, Decatur\, Georgia\, 30030\, United States
CATEGORIES:Speed & Agility,Youth Sports
END:VEVENT
BEGIN:VEVENT
DTSTART;TZID=America/New_York:20260728T170000
DTEND;TZID=America/New_York:20260728T175500
DTSTAMP:20260423T201325
CREATED:20260407T153932Z
LAST-MODIFIED:20260407T153932Z
UID:10019374-1785258000-1785261300@cluboodazu.com
SUMMARY:Speed & Agility Training - Ages 6-17 (Summer 2026)
DESCRIPTION:This is a 55 minute\, once a week program (10 sessions) on Tuesdays. The age group should be chosen based on the age your child is at the time of the first session. Please enter your child’s name in the “Ticket Holder” field at check-out. \nRuns Tuesdays from May 12th – July 28th (excludes weeks of May 25th & June 29th). \nProgram Overview\nThe Youth Speed & Agility Program @ Club OODAZU is designed to help young athletes move better\, feel stronger\, and gain confidence in every step. \nThis fun\, movement-based class focuses on building the athletic foundation essential for all sports—and for lifelong fitness. Led by experienced Club OODAZU coaches\, each session emphasizes speed\, agility\, coordination\, balance\, and body control in an engaging and supportive environment. \nAthletes will participate in structured drills\, movement games\, and age-appropriate plyometrics—such as jumping\, hopping\, landing\, and quick takeoff movements—designed to safely build power\, coordination\, and movement efficiency. Activities are tailored to be fun\, safe\, and developmentally appropriate for each age group. \nOur mission is simple: make movement FUN while helping every child build confidence\, athletic ability\, and joy in being active. \nProgram Format\nEach session combines age-appropriate speed\, agility\, and plyometric training—along with fun relays and games that develop quickness\, balance\, coordination\, and power in a supportive and energetic environment. \nYoung athletes are introduced to the fundamentals of athletic movement through playful\, engaging activities. The focus is on building body control\, balance\, and confidence while developing teamwork and listening skills—all while having fun!\n\nOlder participants focus on improving running form\, speed\, and agility through short sprints\, reaction drills\, and change-of-direction exercises. Sessions also include introductory\, developmentally safe plyometric exercises to enhance power\, coordination\, and core strength—supporting all sports and physical activities. \nFees:\n$20 per session\nIncluded at no additional cost for Club OODAZU Members \nRegister at the link below: \nhttps://ecom.roller.app/oodazudecatur/speedagility/en-us/product/1852393?date=2026-05-12
URL:https://cluboodazu.com/program/speed-agility-training-ages-6-17-summer-2026/2026-07-28/
LOCATION:Club OODAZU\, 421 Dekalb Industrial Way\, Decatur\, Georgia\, 30030\, United States
CATEGORIES:Speed & Agility,Youth Sports
END:VEVENT
END:VCALENDAR