BEGIN:VCALENDAR
VERSION:2.0
PRODID:-//Club OODAZU - ECPv6.15.18//NONSGML v1.0//EN
CALSCALE:GREGORIAN
METHOD:PUBLISH
X-ORIGINAL-URL:https://cluboodazu.com
X-WR-CALDESC:Events for Club OODAZU
REFRESH-INTERVAL;VALUE=DURATION:PT1H
X-Robots-Tag:noindex
X-PUBLISHED-TTL:PT1H
BEGIN:VTIMEZONE
TZID:America/New_York
BEGIN:DAYLIGHT
TZOFFSETFROM:-0500
TZOFFSETTO:-0400
TZNAME:EDT
DTSTART:20250309T070000
END:DAYLIGHT
BEGIN:STANDARD
TZOFFSETFROM:-0400
TZOFFSETTO:-0500
TZNAME:EST
DTSTART:20251102T060000
END:STANDARD
BEGIN:DAYLIGHT
TZOFFSETFROM:-0500
TZOFFSETTO:-0400
TZNAME:EDT
DTSTART:20260308T070000
END:DAYLIGHT
BEGIN:STANDARD
TZOFFSETFROM:-0400
TZOFFSETTO:-0500
TZNAME:EST
DTSTART:20261101T060000
END:STANDARD
BEGIN:DAYLIGHT
TZOFFSETFROM:-0500
TZOFFSETTO:-0400
TZNAME:EDT
DTSTART:20270314T070000
END:DAYLIGHT
BEGIN:STANDARD
TZOFFSETFROM:-0400
TZOFFSETTO:-0500
TZNAME:EST
DTSTART:20271107T060000
END:STANDARD
END:VTIMEZONE
BEGIN:VEVENT
DTSTART;TZID=America/New_York:20260511T170000
DTEND;TZID=America/New_York:20260511T175500
DTSTAMP:20260423T201908
CREATED:20260407T154158Z
LAST-MODIFIED:20260407T154158Z
UID:10019375-1778518800-1778522100@cluboodazu.com
SUMMARY:Volleyball Train & Play - Ages 6-17 (Summer 2026)
DESCRIPTION:This is a 55 minute\, once a week program (10 sessions) on Mondays. Please select your child’s age group based on the age they are at the time of the first session. Please enter your child’s name in the “Ticket Holder” field at check-out. \nRuns Mondays from May 11th – July 27th (excludes weeks of May 25th & June 29th). \nProgram Overview\nClub OODAZU’s Youth Volleyball Train & Play program offers a fun\, structured\, and welcoming environment for athletes to learn\, train\, and play volleyball year-round. \nThis 55-minute\, once-a-week program runs every Monday (10 sessions total; excludes major holidays) and is designed to support athletes at all levels\, from beginners just learning the sport to experienced club and competitive players seeking additional reps and game play. \nAthletes should register based on their age at the time of participation. \nDesigned for All Skill Levels\nThis program is ideal for: \n\nNew athletes looking to learn volleyball fundamentals in a fun\, low-pressure environment\nRecreational players building confidence and consistency\nClub and competitive players seeking extra training\, touches\, and live play outside of team practices\n\nOur experienced coaches tailor each session to the athletes in attendance\, grouping players by skill level as needed to ensure appropriate instruction\, challenge\, and safety for everyone on the court. \nProgram Format\nEach session follows a structured Train & Play model: \nTraining (Approx. 25 minutes) \n\nPassing & forearm control\nSetting technique & hand positioning\nServing fundamentals & progression\nMovement\, footwork\, and court positioning\nTeamwork\, communication\, and game awareness\n\nPlay (Approx. 30 minutes) \n\nStructured scrimmages and small-sided games\nGrouped by age and/or skill level\nFocus on applying skills in real game situations\n\nSessions are led by qualified instructors with strong volleyball backgrounds\, maintaining a low coach-to-player ratio to keep instruction active\, engaging\, and personalized. \nFees \n\n$20 per session\nIncluded at no additional cost for Club OODAZU members\n\nRegister at the link below: \nhttps://ecom.roller.app/oodazudecatur/volleyball/en-us/product/1852386?date=2026-05-11
URL:https://cluboodazu.com/program/volleyball-train-play-ages-6-17-summer-2026/2026-05-11/
LOCATION:Club OODAZU\, 421 Dekalb Industrial Way\, Decatur\, Georgia\, 30030\, United States
CATEGORIES:Youth Sports,Youth Volleyball
END:VEVENT
BEGIN:VEVENT
DTSTART;TZID=America/New_York:20260518T170000
DTEND;TZID=America/New_York:20260518T175500
DTSTAMP:20260423T201908
CREATED:20260407T154158Z
LAST-MODIFIED:20260407T154158Z
UID:10019376-1779123600-1779126900@cluboodazu.com
SUMMARY:Volleyball Train & Play - Ages 6-17 (Summer 2026)
DESCRIPTION:This is a 55 minute\, once a week program (10 sessions) on Mondays. Please select your child’s age group based on the age they are at the time of the first session. Please enter your child’s name in the “Ticket Holder” field at check-out. \nRuns Mondays from May 11th – July 27th (excludes weeks of May 25th & June 29th). \nProgram Overview\nClub OODAZU’s Youth Volleyball Train & Play program offers a fun\, structured\, and welcoming environment for athletes to learn\, train\, and play volleyball year-round. \nThis 55-minute\, once-a-week program runs every Monday (10 sessions total; excludes major holidays) and is designed to support athletes at all levels\, from beginners just learning the sport to experienced club and competitive players seeking additional reps and game play. \nAthletes should register based on their age at the time of participation. \nDesigned for All Skill Levels\nThis program is ideal for: \n\nNew athletes looking to learn volleyball fundamentals in a fun\, low-pressure environment\nRecreational players building confidence and consistency\nClub and competitive players seeking extra training\, touches\, and live play outside of team practices\n\nOur experienced coaches tailor each session to the athletes in attendance\, grouping players by skill level as needed to ensure appropriate instruction\, challenge\, and safety for everyone on the court. \nProgram Format\nEach session follows a structured Train & Play model: \nTraining (Approx. 25 minutes) \n\nPassing & forearm control\nSetting technique & hand positioning\nServing fundamentals & progression\nMovement\, footwork\, and court positioning\nTeamwork\, communication\, and game awareness\n\nPlay (Approx. 30 minutes) \n\nStructured scrimmages and small-sided games\nGrouped by age and/or skill level\nFocus on applying skills in real game situations\n\nSessions are led by qualified instructors with strong volleyball backgrounds\, maintaining a low coach-to-player ratio to keep instruction active\, engaging\, and personalized. \nFees \n\n$20 per session\nIncluded at no additional cost for Club OODAZU members\n\nRegister at the link below: \nhttps://ecom.roller.app/oodazudecatur/volleyball/en-us/product/1852386?date=2026-05-11
URL:https://cluboodazu.com/program/volleyball-train-play-ages-6-17-summer-2026/2026-05-18/
LOCATION:Club OODAZU\, 421 Dekalb Industrial Way\, Decatur\, Georgia\, 30030\, United States
CATEGORIES:Youth Sports,Youth Volleyball
END:VEVENT
BEGIN:VEVENT
DTSTART;TZID=America/New_York:20260601T170000
DTEND;TZID=America/New_York:20260601T175500
DTSTAMP:20260423T201908
CREATED:20260407T154158Z
LAST-MODIFIED:20260407T154158Z
UID:10019377-1780333200-1780336500@cluboodazu.com
SUMMARY:Volleyball Train & Play - Ages 6-17 (Summer 2026)
DESCRIPTION:This is a 55 minute\, once a week program (10 sessions) on Mondays. Please select your child’s age group based on the age they are at the time of the first session. Please enter your child’s name in the “Ticket Holder” field at check-out. \nRuns Mondays from May 11th – July 27th (excludes weeks of May 25th & June 29th). \nProgram Overview\nClub OODAZU’s Youth Volleyball Train & Play program offers a fun\, structured\, and welcoming environment for athletes to learn\, train\, and play volleyball year-round. \nThis 55-minute\, once-a-week program runs every Monday (10 sessions total; excludes major holidays) and is designed to support athletes at all levels\, from beginners just learning the sport to experienced club and competitive players seeking additional reps and game play. \nAthletes should register based on their age at the time of participation. \nDesigned for All Skill Levels\nThis program is ideal for: \n\nNew athletes looking to learn volleyball fundamentals in a fun\, low-pressure environment\nRecreational players building confidence and consistency\nClub and competitive players seeking extra training\, touches\, and live play outside of team practices\n\nOur experienced coaches tailor each session to the athletes in attendance\, grouping players by skill level as needed to ensure appropriate instruction\, challenge\, and safety for everyone on the court. \nProgram Format\nEach session follows a structured Train & Play model: \nTraining (Approx. 25 minutes) \n\nPassing & forearm control\nSetting technique & hand positioning\nServing fundamentals & progression\nMovement\, footwork\, and court positioning\nTeamwork\, communication\, and game awareness\n\nPlay (Approx. 30 minutes) \n\nStructured scrimmages and small-sided games\nGrouped by age and/or skill level\nFocus on applying skills in real game situations\n\nSessions are led by qualified instructors with strong volleyball backgrounds\, maintaining a low coach-to-player ratio to keep instruction active\, engaging\, and personalized. \nFees \n\n$20 per session\nIncluded at no additional cost for Club OODAZU members\n\nRegister at the link below: \nhttps://ecom.roller.app/oodazudecatur/volleyball/en-us/product/1852386?date=2026-05-11
URL:https://cluboodazu.com/program/volleyball-train-play-ages-6-17-summer-2026/2026-06-01/
LOCATION:Club OODAZU\, 421 Dekalb Industrial Way\, Decatur\, Georgia\, 30030\, United States
CATEGORIES:Youth Sports,Youth Volleyball
END:VEVENT
BEGIN:VEVENT
DTSTART;TZID=America/New_York:20260608T170000
DTEND;TZID=America/New_York:20260608T175500
DTSTAMP:20260423T201908
CREATED:20260407T154158Z
LAST-MODIFIED:20260407T154158Z
UID:10019378-1780938000-1780941300@cluboodazu.com
SUMMARY:Volleyball Train & Play - Ages 6-17 (Summer 2026)
DESCRIPTION:This is a 55 minute\, once a week program (10 sessions) on Mondays. Please select your child’s age group based on the age they are at the time of the first session. Please enter your child’s name in the “Ticket Holder” field at check-out. \nRuns Mondays from May 11th – July 27th (excludes weeks of May 25th & June 29th). \nProgram Overview\nClub OODAZU’s Youth Volleyball Train & Play program offers a fun\, structured\, and welcoming environment for athletes to learn\, train\, and play volleyball year-round. \nThis 55-minute\, once-a-week program runs every Monday (10 sessions total; excludes major holidays) and is designed to support athletes at all levels\, from beginners just learning the sport to experienced club and competitive players seeking additional reps and game play. \nAthletes should register based on their age at the time of participation. \nDesigned for All Skill Levels\nThis program is ideal for: \n\nNew athletes looking to learn volleyball fundamentals in a fun\, low-pressure environment\nRecreational players building confidence and consistency\nClub and competitive players seeking extra training\, touches\, and live play outside of team practices\n\nOur experienced coaches tailor each session to the athletes in attendance\, grouping players by skill level as needed to ensure appropriate instruction\, challenge\, and safety for everyone on the court. \nProgram Format\nEach session follows a structured Train & Play model: \nTraining (Approx. 25 minutes) \n\nPassing & forearm control\nSetting technique & hand positioning\nServing fundamentals & progression\nMovement\, footwork\, and court positioning\nTeamwork\, communication\, and game awareness\n\nPlay (Approx. 30 minutes) \n\nStructured scrimmages and small-sided games\nGrouped by age and/or skill level\nFocus on applying skills in real game situations\n\nSessions are led by qualified instructors with strong volleyball backgrounds\, maintaining a low coach-to-player ratio to keep instruction active\, engaging\, and personalized. \nFees \n\n$20 per session\nIncluded at no additional cost for Club OODAZU members\n\nRegister at the link below: \nhttps://ecom.roller.app/oodazudecatur/volleyball/en-us/product/1852386?date=2026-05-11
URL:https://cluboodazu.com/program/volleyball-train-play-ages-6-17-summer-2026/2026-06-08/
LOCATION:Club OODAZU\, 421 Dekalb Industrial Way\, Decatur\, Georgia\, 30030\, United States
CATEGORIES:Youth Sports,Youth Volleyball
END:VEVENT
BEGIN:VEVENT
DTSTART;TZID=America/New_York:20260615T170000
DTEND;TZID=America/New_York:20260615T175500
DTSTAMP:20260423T201908
CREATED:20260407T154158Z
LAST-MODIFIED:20260407T154158Z
UID:10019379-1781542800-1781546100@cluboodazu.com
SUMMARY:Volleyball Train & Play - Ages 6-17 (Summer 2026)
DESCRIPTION:This is a 55 minute\, once a week program (10 sessions) on Mondays. Please select your child’s age group based on the age they are at the time of the first session. Please enter your child’s name in the “Ticket Holder” field at check-out. \nRuns Mondays from May 11th – July 27th (excludes weeks of May 25th & June 29th). \nProgram Overview\nClub OODAZU’s Youth Volleyball Train & Play program offers a fun\, structured\, and welcoming environment for athletes to learn\, train\, and play volleyball year-round. \nThis 55-minute\, once-a-week program runs every Monday (10 sessions total; excludes major holidays) and is designed to support athletes at all levels\, from beginners just learning the sport to experienced club and competitive players seeking additional reps and game play. \nAthletes should register based on their age at the time of participation. \nDesigned for All Skill Levels\nThis program is ideal for: \n\nNew athletes looking to learn volleyball fundamentals in a fun\, low-pressure environment\nRecreational players building confidence and consistency\nClub and competitive players seeking extra training\, touches\, and live play outside of team practices\n\nOur experienced coaches tailor each session to the athletes in attendance\, grouping players by skill level as needed to ensure appropriate instruction\, challenge\, and safety for everyone on the court. \nProgram Format\nEach session follows a structured Train & Play model: \nTraining (Approx. 25 minutes) \n\nPassing & forearm control\nSetting technique & hand positioning\nServing fundamentals & progression\nMovement\, footwork\, and court positioning\nTeamwork\, communication\, and game awareness\n\nPlay (Approx. 30 minutes) \n\nStructured scrimmages and small-sided games\nGrouped by age and/or skill level\nFocus on applying skills in real game situations\n\nSessions are led by qualified instructors with strong volleyball backgrounds\, maintaining a low coach-to-player ratio to keep instruction active\, engaging\, and personalized. \nFees \n\n$20 per session\nIncluded at no additional cost for Club OODAZU members\n\nRegister at the link below: \nhttps://ecom.roller.app/oodazudecatur/volleyball/en-us/product/1852386?date=2026-05-11
URL:https://cluboodazu.com/program/volleyball-train-play-ages-6-17-summer-2026/2026-06-15/
LOCATION:Club OODAZU\, 421 Dekalb Industrial Way\, Decatur\, Georgia\, 30030\, United States
CATEGORIES:Youth Sports,Youth Volleyball
END:VEVENT
BEGIN:VEVENT
DTSTART;TZID=America/New_York:20260622T170000
DTEND;TZID=America/New_York:20260622T175500
DTSTAMP:20260423T201908
CREATED:20260407T154158Z
LAST-MODIFIED:20260407T154158Z
UID:10019380-1782147600-1782150900@cluboodazu.com
SUMMARY:Volleyball Train & Play - Ages 6-17 (Summer 2026)
DESCRIPTION:This is a 55 minute\, once a week program (10 sessions) on Mondays. Please select your child’s age group based on the age they are at the time of the first session. Please enter your child’s name in the “Ticket Holder” field at check-out. \nRuns Mondays from May 11th – July 27th (excludes weeks of May 25th & June 29th). \nProgram Overview\nClub OODAZU’s Youth Volleyball Train & Play program offers a fun\, structured\, and welcoming environment for athletes to learn\, train\, and play volleyball year-round. \nThis 55-minute\, once-a-week program runs every Monday (10 sessions total; excludes major holidays) and is designed to support athletes at all levels\, from beginners just learning the sport to experienced club and competitive players seeking additional reps and game play. \nAthletes should register based on their age at the time of participation. \nDesigned for All Skill Levels\nThis program is ideal for: \n\nNew athletes looking to learn volleyball fundamentals in a fun\, low-pressure environment\nRecreational players building confidence and consistency\nClub and competitive players seeking extra training\, touches\, and live play outside of team practices\n\nOur experienced coaches tailor each session to the athletes in attendance\, grouping players by skill level as needed to ensure appropriate instruction\, challenge\, and safety for everyone on the court. \nProgram Format\nEach session follows a structured Train & Play model: \nTraining (Approx. 25 minutes) \n\nPassing & forearm control\nSetting technique & hand positioning\nServing fundamentals & progression\nMovement\, footwork\, and court positioning\nTeamwork\, communication\, and game awareness\n\nPlay (Approx. 30 minutes) \n\nStructured scrimmages and small-sided games\nGrouped by age and/or skill level\nFocus on applying skills in real game situations\n\nSessions are led by qualified instructors with strong volleyball backgrounds\, maintaining a low coach-to-player ratio to keep instruction active\, engaging\, and personalized. \nFees \n\n$20 per session\nIncluded at no additional cost for Club OODAZU members\n\nRegister at the link below: \nhttps://ecom.roller.app/oodazudecatur/volleyball/en-us/product/1852386?date=2026-05-11
URL:https://cluboodazu.com/program/volleyball-train-play-ages-6-17-summer-2026/2026-06-22/
LOCATION:Club OODAZU\, 421 Dekalb Industrial Way\, Decatur\, Georgia\, 30030\, United States
CATEGORIES:Youth Sports,Youth Volleyball
END:VEVENT
BEGIN:VEVENT
DTSTART;TZID=America/New_York:20260706T170000
DTEND;TZID=America/New_York:20260706T175500
DTSTAMP:20260423T201908
CREATED:20260407T154158Z
LAST-MODIFIED:20260407T154158Z
UID:10019381-1783357200-1783360500@cluboodazu.com
SUMMARY:Volleyball Train & Play - Ages 6-17 (Summer 2026)
DESCRIPTION:This is a 55 minute\, once a week program (10 sessions) on Mondays. Please select your child’s age group based on the age they are at the time of the first session. Please enter your child’s name in the “Ticket Holder” field at check-out. \nRuns Mondays from May 11th – July 27th (excludes weeks of May 25th & June 29th). \nProgram Overview\nClub OODAZU’s Youth Volleyball Train & Play program offers a fun\, structured\, and welcoming environment for athletes to learn\, train\, and play volleyball year-round. \nThis 55-minute\, once-a-week program runs every Monday (10 sessions total; excludes major holidays) and is designed to support athletes at all levels\, from beginners just learning the sport to experienced club and competitive players seeking additional reps and game play. \nAthletes should register based on their age at the time of participation. \nDesigned for All Skill Levels\nThis program is ideal for: \n\nNew athletes looking to learn volleyball fundamentals in a fun\, low-pressure environment\nRecreational players building confidence and consistency\nClub and competitive players seeking extra training\, touches\, and live play outside of team practices\n\nOur experienced coaches tailor each session to the athletes in attendance\, grouping players by skill level as needed to ensure appropriate instruction\, challenge\, and safety for everyone on the court. \nProgram Format\nEach session follows a structured Train & Play model: \nTraining (Approx. 25 minutes) \n\nPassing & forearm control\nSetting technique & hand positioning\nServing fundamentals & progression\nMovement\, footwork\, and court positioning\nTeamwork\, communication\, and game awareness\n\nPlay (Approx. 30 minutes) \n\nStructured scrimmages and small-sided games\nGrouped by age and/or skill level\nFocus on applying skills in real game situations\n\nSessions are led by qualified instructors with strong volleyball backgrounds\, maintaining a low coach-to-player ratio to keep instruction active\, engaging\, and personalized. \nFees \n\n$20 per session\nIncluded at no additional cost for Club OODAZU members\n\nRegister at the link below: \nhttps://ecom.roller.app/oodazudecatur/volleyball/en-us/product/1852386?date=2026-05-11
URL:https://cluboodazu.com/program/volleyball-train-play-ages-6-17-summer-2026/2026-07-06/
LOCATION:Club OODAZU\, 421 Dekalb Industrial Way\, Decatur\, Georgia\, 30030\, United States
CATEGORIES:Youth Sports,Youth Volleyball
END:VEVENT
BEGIN:VEVENT
DTSTART;TZID=America/New_York:20260713T170000
DTEND;TZID=America/New_York:20260713T175500
DTSTAMP:20260423T201908
CREATED:20260407T154158Z
LAST-MODIFIED:20260407T154158Z
UID:10019382-1783962000-1783965300@cluboodazu.com
SUMMARY:Volleyball Train & Play - Ages 6-17 (Summer 2026)
DESCRIPTION:This is a 55 minute\, once a week program (10 sessions) on Mondays. Please select your child’s age group based on the age they are at the time of the first session. Please enter your child’s name in the “Ticket Holder” field at check-out. \nRuns Mondays from May 11th – July 27th (excludes weeks of May 25th & June 29th). \nProgram Overview\nClub OODAZU’s Youth Volleyball Train & Play program offers a fun\, structured\, and welcoming environment for athletes to learn\, train\, and play volleyball year-round. \nThis 55-minute\, once-a-week program runs every Monday (10 sessions total; excludes major holidays) and is designed to support athletes at all levels\, from beginners just learning the sport to experienced club and competitive players seeking additional reps and game play. \nAthletes should register based on their age at the time of participation. \nDesigned for All Skill Levels\nThis program is ideal for: \n\nNew athletes looking to learn volleyball fundamentals in a fun\, low-pressure environment\nRecreational players building confidence and consistency\nClub and competitive players seeking extra training\, touches\, and live play outside of team practices\n\nOur experienced coaches tailor each session to the athletes in attendance\, grouping players by skill level as needed to ensure appropriate instruction\, challenge\, and safety for everyone on the court. \nProgram Format\nEach session follows a structured Train & Play model: \nTraining (Approx. 25 minutes) \n\nPassing & forearm control\nSetting technique & hand positioning\nServing fundamentals & progression\nMovement\, footwork\, and court positioning\nTeamwork\, communication\, and game awareness\n\nPlay (Approx. 30 minutes) \n\nStructured scrimmages and small-sided games\nGrouped by age and/or skill level\nFocus on applying skills in real game situations\n\nSessions are led by qualified instructors with strong volleyball backgrounds\, maintaining a low coach-to-player ratio to keep instruction active\, engaging\, and personalized. \nFees \n\n$20 per session\nIncluded at no additional cost for Club OODAZU members\n\nRegister at the link below: \nhttps://ecom.roller.app/oodazudecatur/volleyball/en-us/product/1852386?date=2026-05-11
URL:https://cluboodazu.com/program/volleyball-train-play-ages-6-17-summer-2026/2026-07-13/
LOCATION:Club OODAZU\, 421 Dekalb Industrial Way\, Decatur\, Georgia\, 30030\, United States
CATEGORIES:Youth Sports,Youth Volleyball
END:VEVENT
BEGIN:VEVENT
DTSTART;TZID=America/New_York:20260720T170000
DTEND;TZID=America/New_York:20260720T175500
DTSTAMP:20260423T201908
CREATED:20260407T154158Z
LAST-MODIFIED:20260407T154158Z
UID:10019383-1784566800-1784570100@cluboodazu.com
SUMMARY:Volleyball Train & Play - Ages 6-17 (Summer 2026)
DESCRIPTION:This is a 55 minute\, once a week program (10 sessions) on Mondays. Please select your child’s age group based on the age they are at the time of the first session. Please enter your child’s name in the “Ticket Holder” field at check-out. \nRuns Mondays from May 11th – July 27th (excludes weeks of May 25th & June 29th). \nProgram Overview\nClub OODAZU’s Youth Volleyball Train & Play program offers a fun\, structured\, and welcoming environment for athletes to learn\, train\, and play volleyball year-round. \nThis 55-minute\, once-a-week program runs every Monday (10 sessions total; excludes major holidays) and is designed to support athletes at all levels\, from beginners just learning the sport to experienced club and competitive players seeking additional reps and game play. \nAthletes should register based on their age at the time of participation. \nDesigned for All Skill Levels\nThis program is ideal for: \n\nNew athletes looking to learn volleyball fundamentals in a fun\, low-pressure environment\nRecreational players building confidence and consistency\nClub and competitive players seeking extra training\, touches\, and live play outside of team practices\n\nOur experienced coaches tailor each session to the athletes in attendance\, grouping players by skill level as needed to ensure appropriate instruction\, challenge\, and safety for everyone on the court. \nProgram Format\nEach session follows a structured Train & Play model: \nTraining (Approx. 25 minutes) \n\nPassing & forearm control\nSetting technique & hand positioning\nServing fundamentals & progression\nMovement\, footwork\, and court positioning\nTeamwork\, communication\, and game awareness\n\nPlay (Approx. 30 minutes) \n\nStructured scrimmages and small-sided games\nGrouped by age and/or skill level\nFocus on applying skills in real game situations\n\nSessions are led by qualified instructors with strong volleyball backgrounds\, maintaining a low coach-to-player ratio to keep instruction active\, engaging\, and personalized. \nFees \n\n$20 per session\nIncluded at no additional cost for Club OODAZU members\n\nRegister at the link below: \nhttps://ecom.roller.app/oodazudecatur/volleyball/en-us/product/1852386?date=2026-05-11
URL:https://cluboodazu.com/program/volleyball-train-play-ages-6-17-summer-2026/2026-07-20/
LOCATION:Club OODAZU\, 421 Dekalb Industrial Way\, Decatur\, Georgia\, 30030\, United States
CATEGORIES:Youth Sports,Youth Volleyball
END:VEVENT
BEGIN:VEVENT
DTSTART;TZID=America/New_York:20260727T170000
DTEND;TZID=America/New_York:20260727T175500
DTSTAMP:20260423T201908
CREATED:20260407T154158Z
LAST-MODIFIED:20260407T154158Z
UID:10019384-1785171600-1785174900@cluboodazu.com
SUMMARY:Volleyball Train & Play - Ages 6-17 (Summer 2026)
DESCRIPTION:This is a 55 minute\, once a week program (10 sessions) on Mondays. Please select your child’s age group based on the age they are at the time of the first session. Please enter your child’s name in the “Ticket Holder” field at check-out. \nRuns Mondays from May 11th – July 27th (excludes weeks of May 25th & June 29th). \nProgram Overview\nClub OODAZU’s Youth Volleyball Train & Play program offers a fun\, structured\, and welcoming environment for athletes to learn\, train\, and play volleyball year-round. \nThis 55-minute\, once-a-week program runs every Monday (10 sessions total; excludes major holidays) and is designed to support athletes at all levels\, from beginners just learning the sport to experienced club and competitive players seeking additional reps and game play. \nAthletes should register based on their age at the time of participation. \nDesigned for All Skill Levels\nThis program is ideal for: \n\nNew athletes looking to learn volleyball fundamentals in a fun\, low-pressure environment\nRecreational players building confidence and consistency\nClub and competitive players seeking extra training\, touches\, and live play outside of team practices\n\nOur experienced coaches tailor each session to the athletes in attendance\, grouping players by skill level as needed to ensure appropriate instruction\, challenge\, and safety for everyone on the court. \nProgram Format\nEach session follows a structured Train & Play model: \nTraining (Approx. 25 minutes) \n\nPassing & forearm control\nSetting technique & hand positioning\nServing fundamentals & progression\nMovement\, footwork\, and court positioning\nTeamwork\, communication\, and game awareness\n\nPlay (Approx. 30 minutes) \n\nStructured scrimmages and small-sided games\nGrouped by age and/or skill level\nFocus on applying skills in real game situations\n\nSessions are led by qualified instructors with strong volleyball backgrounds\, maintaining a low coach-to-player ratio to keep instruction active\, engaging\, and personalized. \nFees \n\n$20 per session\nIncluded at no additional cost for Club OODAZU members\n\nRegister at the link below: \nhttps://ecom.roller.app/oodazudecatur/volleyball/en-us/product/1852386?date=2026-05-11
URL:https://cluboodazu.com/program/volleyball-train-play-ages-6-17-summer-2026/2026-07-27/
LOCATION:Club OODAZU\, 421 Dekalb Industrial Way\, Decatur\, Georgia\, 30030\, United States
CATEGORIES:Youth Sports,Youth Volleyball
END:VEVENT
END:VCALENDAR