BEGIN:VCALENDAR
VERSION:2.0
PRODID:-//Club OODAZU - ECPv6.15.18//NONSGML v1.0//EN
CALSCALE:GREGORIAN
METHOD:PUBLISH
X-ORIGINAL-URL:https://cluboodazu.com
X-WR-CALDESC:Events for Club OODAZU
REFRESH-INTERVAL;VALUE=DURATION:PT1H
X-Robots-Tag:noindex
X-PUBLISHED-TTL:PT1H
BEGIN:VTIMEZONE
TZID:America/New_York
BEGIN:DAYLIGHT
TZOFFSETFROM:-0500
TZOFFSETTO:-0400
TZNAME:EDT
DTSTART:20250309T070000
END:DAYLIGHT
BEGIN:STANDARD
TZOFFSETFROM:-0400
TZOFFSETTO:-0500
TZNAME:EST
DTSTART:20251102T060000
END:STANDARD
BEGIN:DAYLIGHT
TZOFFSETFROM:-0500
TZOFFSETTO:-0400
TZNAME:EDT
DTSTART:20260308T070000
END:DAYLIGHT
BEGIN:STANDARD
TZOFFSETFROM:-0400
TZOFFSETTO:-0500
TZNAME:EST
DTSTART:20261101T060000
END:STANDARD
BEGIN:DAYLIGHT
TZOFFSETFROM:-0500
TZOFFSETTO:-0400
TZNAME:EDT
DTSTART:20270314T070000
END:DAYLIGHT
BEGIN:STANDARD
TZOFFSETFROM:-0400
TZOFFSETTO:-0500
TZNAME:EST
DTSTART:20271107T060000
END:STANDARD
END:VTIMEZONE
BEGIN:VEVENT
DTSTART;TZID=America/New_York:20260819T180000
DTEND;TZID=America/New_York:20260819T210000
DTSTAMP:20260424T072503
CREATED:20260115T035400Z
LAST-MODIFIED:20260407T161922Z
UID:10016742-1787162400-1787173200@cluboodazu.com
SUMMARY:Adult Open Play - Weeknight
DESCRIPTION:Grown-ups get their own time on the courts with dedicated Adult Open Play sessions featuring pickleball\, basketball\, futsal (indoor soccer)\, pickleball\, and volleyball. A great way to stay active\, play socially\, and enjoy our sports facilities without joining a league. \nLearn More & Register: \nhttps://ecom.roller.app/oodazudecatur/openplay/en-us/products
URL:https://cluboodazu.com/program/adult-open-play-weeknight/2026-08-19/
LOCATION:Club OODAZU\, 421 Dekalb Industrial Way\, Decatur\, Georgia\, 30030\, United States
CATEGORIES:Adult Open Play,Open Play
END:VEVENT
BEGIN:VEVENT
DTSTART;TZID=America/New_York:20260820T180000
DTEND;TZID=America/New_York:20260820T210000
DTSTAMP:20260424T072503
CREATED:20260115T035400Z
LAST-MODIFIED:20260407T161922Z
UID:10016743-1787248800-1787259600@cluboodazu.com
SUMMARY:Adult Open Play - Weeknight
DESCRIPTION:Grown-ups get their own time on the courts with dedicated Adult Open Play sessions featuring pickleball\, basketball\, futsal (indoor soccer)\, pickleball\, and volleyball. A great way to stay active\, play socially\, and enjoy our sports facilities without joining a league. \nLearn More & Register: \nhttps://ecom.roller.app/oodazudecatur/openplay/en-us/products
URL:https://cluboodazu.com/program/adult-open-play-weeknight/2026-08-20/
LOCATION:Club OODAZU\, 421 Dekalb Industrial Way\, Decatur\, Georgia\, 30030\, United States
CATEGORIES:Adult Open Play,Open Play
END:VEVENT
BEGIN:VEVENT
DTSTART;TZID=America/New_York:20260821T180000
DTEND;TZID=America/New_York:20260821T210000
DTSTAMP:20260424T072503
CREATED:20260115T035400Z
LAST-MODIFIED:20260407T161922Z
UID:10016744-1787335200-1787346000@cluboodazu.com
SUMMARY:Adult Open Play - Weeknight
DESCRIPTION:Grown-ups get their own time on the courts with dedicated Adult Open Play sessions featuring pickleball\, basketball\, futsal (indoor soccer)\, pickleball\, and volleyball. A great way to stay active\, play socially\, and enjoy our sports facilities without joining a league. \nLearn More & Register: \nhttps://ecom.roller.app/oodazudecatur/openplay/en-us/products
URL:https://cluboodazu.com/program/adult-open-play-weeknight/2026-08-21/
LOCATION:Club OODAZU\, 421 Dekalb Industrial Way\, Decatur\, Georgia\, 30030\, United States
CATEGORIES:Adult Open Play,Open Play
END:VEVENT
BEGIN:VEVENT
DTSTART;TZID=America/New_York:20260822T090000
DTEND;TZID=America/New_York:20260822T200000
DTSTAMP:20260424T072503
CREATED:20260115T035747Z
LAST-MODIFIED:20260129T213307Z
UID:10016346-1787389200-1787428800@cluboodazu.com
SUMMARY:Adult Open Play - Saturdays
DESCRIPTION:Grown-ups get their own time on the courts with dedicated Adult Open Play sessions featuring pickleball\, basketball\, and futsal (indoor soccer). A great way to stay active\, play socially\, and enjoy our sports facilities without joining a league. \nLearn More & Register: \nhttps://ecom.roller.app/oodazudecatur/openplay/en-us/products
URL:https://cluboodazu.com/program/adult-open-play-saturday/2026-08-22/
LOCATION:Club OODAZU\, 421 Dekalb Industrial Way\, Decatur\, Georgia\, 30030\, United States
CATEGORIES:Adult Open Play,Open Play
END:VEVENT
BEGIN:VEVENT
DTSTART;TZID=America/New_York:20260823T100000
DTEND;TZID=America/New_York:20260823T180000
DTSTAMP:20260424T072503
CREATED:20260115T040045Z
LAST-MODIFIED:20260407T162040Z
UID:10019598-1787479200-1787508000@cluboodazu.com
SUMMARY:Adult Open Play - Sundays
DESCRIPTION:Grown-ups get their own time on the courts with dedicated Adult Open Play sessions featuring pickleball\, basketball\, and futsal (indoor soccer). A great way to stay active\, play socially\, and enjoy our sports facilities without joining a league. \nLearn More & Register: \nhttps://ecom.roller.app/oodazudecatur/openplay/en-us/products
URL:https://cluboodazu.com/program/adult-open-play-sundays/2026-08-23/
LOCATION:Club OODAZU\, 421 Dekalb Industrial Way\, Decatur\, Georgia\, 30030\, United States
CATEGORIES:Adult Open Play,Open Play
END:VEVENT
BEGIN:VEVENT
DTSTART;TZID=America/New_York:20260824T180000
DTEND;TZID=America/New_York:20260824T210000
DTSTAMP:20260424T072503
CREATED:20260115T035400Z
LAST-MODIFIED:20260407T161922Z
UID:10016745-1787594400-1787605200@cluboodazu.com
SUMMARY:Adult Open Play - Weeknight
DESCRIPTION:Grown-ups get their own time on the courts with dedicated Adult Open Play sessions featuring pickleball\, basketball\, futsal (indoor soccer)\, pickleball\, and volleyball. A great way to stay active\, play socially\, and enjoy our sports facilities without joining a league. \nLearn More & Register: \nhttps://ecom.roller.app/oodazudecatur/openplay/en-us/products
URL:https://cluboodazu.com/program/adult-open-play-weeknight/2026-08-24/
LOCATION:Club OODAZU\, 421 Dekalb Industrial Way\, Decatur\, Georgia\, 30030\, United States
CATEGORIES:Adult Open Play,Open Play
END:VEVENT
BEGIN:VEVENT
DTSTART;TZID=America/New_York:20260825T180000
DTEND;TZID=America/New_York:20260825T210000
DTSTAMP:20260424T072503
CREATED:20260115T035400Z
LAST-MODIFIED:20260407T161922Z
UID:10016746-1787680800-1787691600@cluboodazu.com
SUMMARY:Adult Open Play - Weeknight
DESCRIPTION:Grown-ups get their own time on the courts with dedicated Adult Open Play sessions featuring pickleball\, basketball\, futsal (indoor soccer)\, pickleball\, and volleyball. A great way to stay active\, play socially\, and enjoy our sports facilities without joining a league. \nLearn More & Register: \nhttps://ecom.roller.app/oodazudecatur/openplay/en-us/products
URL:https://cluboodazu.com/program/adult-open-play-weeknight/2026-08-25/
LOCATION:Club OODAZU\, 421 Dekalb Industrial Way\, Decatur\, Georgia\, 30030\, United States
CATEGORIES:Adult Open Play,Open Play
END:VEVENT
BEGIN:VEVENT
DTSTART;TZID=America/New_York:20260826T180000
DTEND;TZID=America/New_York:20260826T210000
DTSTAMP:20260424T072503
CREATED:20260115T035400Z
LAST-MODIFIED:20260407T161922Z
UID:10016747-1787767200-1787778000@cluboodazu.com
SUMMARY:Adult Open Play - Weeknight
DESCRIPTION:Grown-ups get their own time on the courts with dedicated Adult Open Play sessions featuring pickleball\, basketball\, futsal (indoor soccer)\, pickleball\, and volleyball. A great way to stay active\, play socially\, and enjoy our sports facilities without joining a league. \nLearn More & Register: \nhttps://ecom.roller.app/oodazudecatur/openplay/en-us/products
URL:https://cluboodazu.com/program/adult-open-play-weeknight/2026-08-26/
LOCATION:Club OODAZU\, 421 Dekalb Industrial Way\, Decatur\, Georgia\, 30030\, United States
CATEGORIES:Adult Open Play,Open Play
END:VEVENT
BEGIN:VEVENT
DTSTART;TZID=America/New_York:20260827T180000
DTEND;TZID=America/New_York:20260827T210000
DTSTAMP:20260424T072503
CREATED:20260115T035400Z
LAST-MODIFIED:20260407T161922Z
UID:10016748-1787853600-1787864400@cluboodazu.com
SUMMARY:Adult Open Play - Weeknight
DESCRIPTION:Grown-ups get their own time on the courts with dedicated Adult Open Play sessions featuring pickleball\, basketball\, futsal (indoor soccer)\, pickleball\, and volleyball. A great way to stay active\, play socially\, and enjoy our sports facilities without joining a league. \nLearn More & Register: \nhttps://ecom.roller.app/oodazudecatur/openplay/en-us/products
URL:https://cluboodazu.com/program/adult-open-play-weeknight/2026-08-27/
LOCATION:Club OODAZU\, 421 Dekalb Industrial Way\, Decatur\, Georgia\, 30030\, United States
CATEGORIES:Adult Open Play,Open Play
END:VEVENT
BEGIN:VEVENT
DTSTART;TZID=America/New_York:20260828T180000
DTEND;TZID=America/New_York:20260828T210000
DTSTAMP:20260424T072503
CREATED:20260115T035400Z
LAST-MODIFIED:20260407T161922Z
UID:10016749-1787940000-1787950800@cluboodazu.com
SUMMARY:Adult Open Play - Weeknight
DESCRIPTION:Grown-ups get their own time on the courts with dedicated Adult Open Play sessions featuring pickleball\, basketball\, futsal (indoor soccer)\, pickleball\, and volleyball. A great way to stay active\, play socially\, and enjoy our sports facilities without joining a league. \nLearn More & Register: \nhttps://ecom.roller.app/oodazudecatur/openplay/en-us/products
URL:https://cluboodazu.com/program/adult-open-play-weeknight/2026-08-28/
LOCATION:Club OODAZU\, 421 Dekalb Industrial Way\, Decatur\, Georgia\, 30030\, United States
CATEGORIES:Adult Open Play,Open Play
END:VEVENT
BEGIN:VEVENT
DTSTART;TZID=America/New_York:20260829T090000
DTEND;TZID=America/New_York:20260829T200000
DTSTAMP:20260424T072503
CREATED:20260115T035747Z
LAST-MODIFIED:20260129T213307Z
UID:10016347-1787994000-1788033600@cluboodazu.com
SUMMARY:Adult Open Play - Saturdays
DESCRIPTION:Grown-ups get their own time on the courts with dedicated Adult Open Play sessions featuring pickleball\, basketball\, and futsal (indoor soccer). A great way to stay active\, play socially\, and enjoy our sports facilities without joining a league. \nLearn More & Register: \nhttps://ecom.roller.app/oodazudecatur/openplay/en-us/products
URL:https://cluboodazu.com/program/adult-open-play-saturday/2026-08-29/
LOCATION:Club OODAZU\, 421 Dekalb Industrial Way\, Decatur\, Georgia\, 30030\, United States
CATEGORIES:Adult Open Play,Open Play
END:VEVENT
BEGIN:VEVENT
DTSTART;TZID=America/New_York:20260830T100000
DTEND;TZID=America/New_York:20260830T180000
DTSTAMP:20260424T072503
CREATED:20260115T040045Z
LAST-MODIFIED:20260407T162040Z
UID:10019599-1788084000-1788112800@cluboodazu.com
SUMMARY:Adult Open Play - Sundays
DESCRIPTION:Grown-ups get their own time on the courts with dedicated Adult Open Play sessions featuring pickleball\, basketball\, and futsal (indoor soccer). A great way to stay active\, play socially\, and enjoy our sports facilities without joining a league. \nLearn More & Register: \nhttps://ecom.roller.app/oodazudecatur/openplay/en-us/products
URL:https://cluboodazu.com/program/adult-open-play-sundays/2026-08-30/
LOCATION:Club OODAZU\, 421 Dekalb Industrial Way\, Decatur\, Georgia\, 30030\, United States
CATEGORIES:Adult Open Play,Open Play
END:VEVENT
BEGIN:VEVENT
DTSTART;TZID=America/New_York:20260831T180000
DTEND;TZID=America/New_York:20260831T210000
DTSTAMP:20260424T072503
CREATED:20260115T035400Z
LAST-MODIFIED:20260407T161922Z
UID:10016750-1788199200-1788210000@cluboodazu.com
SUMMARY:Adult Open Play - Weeknight
DESCRIPTION:Grown-ups get their own time on the courts with dedicated Adult Open Play sessions featuring pickleball\, basketball\, futsal (indoor soccer)\, pickleball\, and volleyball. A great way to stay active\, play socially\, and enjoy our sports facilities without joining a league. \nLearn More & Register: \nhttps://ecom.roller.app/oodazudecatur/openplay/en-us/products
URL:https://cluboodazu.com/program/adult-open-play-weeknight/2026-08-31/
LOCATION:Club OODAZU\, 421 Dekalb Industrial Way\, Decatur\, Georgia\, 30030\, United States
CATEGORIES:Adult Open Play,Open Play
END:VEVENT
BEGIN:VEVENT
DTSTART;TZID=America/New_York:20260901T180000
DTEND;TZID=America/New_York:20260901T210000
DTSTAMP:20260424T072503
CREATED:20260115T035400Z
LAST-MODIFIED:20260407T161922Z
UID:10016751-1788285600-1788296400@cluboodazu.com
SUMMARY:Adult Open Play - Weeknight
DESCRIPTION:Grown-ups get their own time on the courts with dedicated Adult Open Play sessions featuring pickleball\, basketball\, futsal (indoor soccer)\, pickleball\, and volleyball. A great way to stay active\, play socially\, and enjoy our sports facilities without joining a league. \nLearn More & Register: \nhttps://ecom.roller.app/oodazudecatur/openplay/en-us/products
URL:https://cluboodazu.com/program/adult-open-play-weeknight/2026-09-01/
LOCATION:Club OODAZU\, 421 Dekalb Industrial Way\, Decatur\, Georgia\, 30030\, United States
CATEGORIES:Adult Open Play,Open Play
END:VEVENT
BEGIN:VEVENT
DTSTART;TZID=America/New_York:20260902T180000
DTEND;TZID=America/New_York:20260902T210000
DTSTAMP:20260424T072503
CREATED:20260115T035400Z
LAST-MODIFIED:20260407T161922Z
UID:10016752-1788372000-1788382800@cluboodazu.com
SUMMARY:Adult Open Play - Weeknight
DESCRIPTION:Grown-ups get their own time on the courts with dedicated Adult Open Play sessions featuring pickleball\, basketball\, futsal (indoor soccer)\, pickleball\, and volleyball. A great way to stay active\, play socially\, and enjoy our sports facilities without joining a league. \nLearn More & Register: \nhttps://ecom.roller.app/oodazudecatur/openplay/en-us/products
URL:https://cluboodazu.com/program/adult-open-play-weeknight/2026-09-02/
LOCATION:Club OODAZU\, 421 Dekalb Industrial Way\, Decatur\, Georgia\, 30030\, United States
CATEGORIES:Adult Open Play,Open Play
END:VEVENT
BEGIN:VEVENT
DTSTART;TZID=America/New_York:20260903T180000
DTEND;TZID=America/New_York:20260903T210000
DTSTAMP:20260424T072503
CREATED:20260115T035400Z
LAST-MODIFIED:20260407T161922Z
UID:10016753-1788458400-1788469200@cluboodazu.com
SUMMARY:Adult Open Play - Weeknight
DESCRIPTION:Grown-ups get their own time on the courts with dedicated Adult Open Play sessions featuring pickleball\, basketball\, futsal (indoor soccer)\, pickleball\, and volleyball. A great way to stay active\, play socially\, and enjoy our sports facilities without joining a league. \nLearn More & Register: \nhttps://ecom.roller.app/oodazudecatur/openplay/en-us/products
URL:https://cluboodazu.com/program/adult-open-play-weeknight/2026-09-03/
LOCATION:Club OODAZU\, 421 Dekalb Industrial Way\, Decatur\, Georgia\, 30030\, United States
CATEGORIES:Adult Open Play,Open Play
END:VEVENT
BEGIN:VEVENT
DTSTART;TZID=America/New_York:20260904T180000
DTEND;TZID=America/New_York:20260904T210000
DTSTAMP:20260424T072503
CREATED:20260115T035400Z
LAST-MODIFIED:20260407T161922Z
UID:10016754-1788544800-1788555600@cluboodazu.com
SUMMARY:Adult Open Play - Weeknight
DESCRIPTION:Grown-ups get their own time on the courts with dedicated Adult Open Play sessions featuring pickleball\, basketball\, futsal (indoor soccer)\, pickleball\, and volleyball. A great way to stay active\, play socially\, and enjoy our sports facilities without joining a league. \nLearn More & Register: \nhttps://ecom.roller.app/oodazudecatur/openplay/en-us/products
URL:https://cluboodazu.com/program/adult-open-play-weeknight/2026-09-04/
LOCATION:Club OODAZU\, 421 Dekalb Industrial Way\, Decatur\, Georgia\, 30030\, United States
CATEGORIES:Adult Open Play,Open Play
END:VEVENT
BEGIN:VEVENT
DTSTART;TZID=America/New_York:20260905T090000
DTEND;TZID=America/New_York:20260905T200000
DTSTAMP:20260424T072503
CREATED:20260115T035747Z
LAST-MODIFIED:20260129T213307Z
UID:10016348-1788598800-1788638400@cluboodazu.com
SUMMARY:Adult Open Play - Saturdays
DESCRIPTION:Grown-ups get their own time on the courts with dedicated Adult Open Play sessions featuring pickleball\, basketball\, and futsal (indoor soccer). A great way to stay active\, play socially\, and enjoy our sports facilities without joining a league. \nLearn More & Register: \nhttps://ecom.roller.app/oodazudecatur/openplay/en-us/products
URL:https://cluboodazu.com/program/adult-open-play-saturday/2026-09-05/
LOCATION:Club OODAZU\, 421 Dekalb Industrial Way\, Decatur\, Georgia\, 30030\, United States
CATEGORIES:Adult Open Play,Open Play
END:VEVENT
BEGIN:VEVENT
DTSTART;TZID=America/New_York:20260906T100000
DTEND;TZID=America/New_York:20260906T180000
DTSTAMP:20260424T072503
CREATED:20260115T040045Z
LAST-MODIFIED:20260407T162040Z
UID:10019600-1788688800-1788717600@cluboodazu.com
SUMMARY:Adult Open Play - Sundays
DESCRIPTION:Grown-ups get their own time on the courts with dedicated Adult Open Play sessions featuring pickleball\, basketball\, and futsal (indoor soccer). A great way to stay active\, play socially\, and enjoy our sports facilities without joining a league. \nLearn More & Register: \nhttps://ecom.roller.app/oodazudecatur/openplay/en-us/products
URL:https://cluboodazu.com/program/adult-open-play-sundays/2026-09-06/
LOCATION:Club OODAZU\, 421 Dekalb Industrial Way\, Decatur\, Georgia\, 30030\, United States
CATEGORIES:Adult Open Play,Open Play
END:VEVENT
BEGIN:VEVENT
DTSTART;TZID=America/New_York:20260907T180000
DTEND;TZID=America/New_York:20260907T210000
DTSTAMP:20260424T072503
CREATED:20260115T035400Z
LAST-MODIFIED:20260407T161922Z
UID:10016755-1788804000-1788814800@cluboodazu.com
SUMMARY:Adult Open Play - Weeknight
DESCRIPTION:Grown-ups get their own time on the courts with dedicated Adult Open Play sessions featuring pickleball\, basketball\, futsal (indoor soccer)\, pickleball\, and volleyball. A great way to stay active\, play socially\, and enjoy our sports facilities without joining a league. \nLearn More & Register: \nhttps://ecom.roller.app/oodazudecatur/openplay/en-us/products
URL:https://cluboodazu.com/program/adult-open-play-weeknight/2026-09-07/
LOCATION:Club OODAZU\, 421 Dekalb Industrial Way\, Decatur\, Georgia\, 30030\, United States
CATEGORIES:Adult Open Play,Open Play
END:VEVENT
BEGIN:VEVENT
DTSTART;TZID=America/New_York:20260908T180000
DTEND;TZID=America/New_York:20260908T210000
DTSTAMP:20260424T072503
CREATED:20260115T035400Z
LAST-MODIFIED:20260407T161922Z
UID:10016756-1788890400-1788901200@cluboodazu.com
SUMMARY:Adult Open Play - Weeknight
DESCRIPTION:Grown-ups get their own time on the courts with dedicated Adult Open Play sessions featuring pickleball\, basketball\, futsal (indoor soccer)\, pickleball\, and volleyball. A great way to stay active\, play socially\, and enjoy our sports facilities without joining a league. \nLearn More & Register: \nhttps://ecom.roller.app/oodazudecatur/openplay/en-us/products
URL:https://cluboodazu.com/program/adult-open-play-weeknight/2026-09-08/
LOCATION:Club OODAZU\, 421 Dekalb Industrial Way\, Decatur\, Georgia\, 30030\, United States
CATEGORIES:Adult Open Play,Open Play
END:VEVENT
BEGIN:VEVENT
DTSTART;TZID=America/New_York:20260909T180000
DTEND;TZID=America/New_York:20260909T210000
DTSTAMP:20260424T072503
CREATED:20260115T035400Z
LAST-MODIFIED:20260407T161922Z
UID:10016757-1788976800-1788987600@cluboodazu.com
SUMMARY:Adult Open Play - Weeknight
DESCRIPTION:Grown-ups get their own time on the courts with dedicated Adult Open Play sessions featuring pickleball\, basketball\, futsal (indoor soccer)\, pickleball\, and volleyball. A great way to stay active\, play socially\, and enjoy our sports facilities without joining a league. \nLearn More & Register: \nhttps://ecom.roller.app/oodazudecatur/openplay/en-us/products
URL:https://cluboodazu.com/program/adult-open-play-weeknight/2026-09-09/
LOCATION:Club OODAZU\, 421 Dekalb Industrial Way\, Decatur\, Georgia\, 30030\, United States
CATEGORIES:Adult Open Play,Open Play
END:VEVENT
BEGIN:VEVENT
DTSTART;TZID=America/New_York:20260910T180000
DTEND;TZID=America/New_York:20260910T210000
DTSTAMP:20260424T072503
CREATED:20260115T035400Z
LAST-MODIFIED:20260407T161922Z
UID:10016758-1789063200-1789074000@cluboodazu.com
SUMMARY:Adult Open Play - Weeknight
DESCRIPTION:Grown-ups get their own time on the courts with dedicated Adult Open Play sessions featuring pickleball\, basketball\, futsal (indoor soccer)\, pickleball\, and volleyball. A great way to stay active\, play socially\, and enjoy our sports facilities without joining a league. \nLearn More & Register: \nhttps://ecom.roller.app/oodazudecatur/openplay/en-us/products
URL:https://cluboodazu.com/program/adult-open-play-weeknight/2026-09-10/
LOCATION:Club OODAZU\, 421 Dekalb Industrial Way\, Decatur\, Georgia\, 30030\, United States
CATEGORIES:Adult Open Play,Open Play
END:VEVENT
BEGIN:VEVENT
DTSTART;TZID=America/New_York:20260911T180000
DTEND;TZID=America/New_York:20260911T210000
DTSTAMP:20260424T072503
CREATED:20260115T035400Z
LAST-MODIFIED:20260407T161922Z
UID:10016759-1789149600-1789160400@cluboodazu.com
SUMMARY:Adult Open Play - Weeknight
DESCRIPTION:Grown-ups get their own time on the courts with dedicated Adult Open Play sessions featuring pickleball\, basketball\, futsal (indoor soccer)\, pickleball\, and volleyball. A great way to stay active\, play socially\, and enjoy our sports facilities without joining a league. \nLearn More & Register: \nhttps://ecom.roller.app/oodazudecatur/openplay/en-us/products
URL:https://cluboodazu.com/program/adult-open-play-weeknight/2026-09-11/
LOCATION:Club OODAZU\, 421 Dekalb Industrial Way\, Decatur\, Georgia\, 30030\, United States
CATEGORIES:Adult Open Play,Open Play
END:VEVENT
BEGIN:VEVENT
DTSTART;TZID=America/New_York:20260912T090000
DTEND;TZID=America/New_York:20260912T200000
DTSTAMP:20260424T072503
CREATED:20260115T035747Z
LAST-MODIFIED:20260129T213307Z
UID:10016349-1789203600-1789243200@cluboodazu.com
SUMMARY:Adult Open Play - Saturdays
DESCRIPTION:Grown-ups get their own time on the courts with dedicated Adult Open Play sessions featuring pickleball\, basketball\, and futsal (indoor soccer). A great way to stay active\, play socially\, and enjoy our sports facilities without joining a league. \nLearn More & Register: \nhttps://ecom.roller.app/oodazudecatur/openplay/en-us/products
URL:https://cluboodazu.com/program/adult-open-play-saturday/2026-09-12/
LOCATION:Club OODAZU\, 421 Dekalb Industrial Way\, Decatur\, Georgia\, 30030\, United States
CATEGORIES:Adult Open Play,Open Play
END:VEVENT
BEGIN:VEVENT
DTSTART;TZID=America/New_York:20260913T100000
DTEND;TZID=America/New_York:20260913T180000
DTSTAMP:20260424T072503
CREATED:20260115T040045Z
LAST-MODIFIED:20260407T162040Z
UID:10019601-1789293600-1789322400@cluboodazu.com
SUMMARY:Adult Open Play - Sundays
DESCRIPTION:Grown-ups get their own time on the courts with dedicated Adult Open Play sessions featuring pickleball\, basketball\, and futsal (indoor soccer). A great way to stay active\, play socially\, and enjoy our sports facilities without joining a league. \nLearn More & Register: \nhttps://ecom.roller.app/oodazudecatur/openplay/en-us/products
URL:https://cluboodazu.com/program/adult-open-play-sundays/2026-09-13/
LOCATION:Club OODAZU\, 421 Dekalb Industrial Way\, Decatur\, Georgia\, 30030\, United States
CATEGORIES:Adult Open Play,Open Play
END:VEVENT
BEGIN:VEVENT
DTSTART;TZID=America/New_York:20260914T180000
DTEND;TZID=America/New_York:20260914T210000
DTSTAMP:20260424T072503
CREATED:20260115T035400Z
LAST-MODIFIED:20260407T161922Z
UID:10016760-1789408800-1789419600@cluboodazu.com
SUMMARY:Adult Open Play - Weeknight
DESCRIPTION:Grown-ups get their own time on the courts with dedicated Adult Open Play sessions featuring pickleball\, basketball\, futsal (indoor soccer)\, pickleball\, and volleyball. A great way to stay active\, play socially\, and enjoy our sports facilities without joining a league. \nLearn More & Register: \nhttps://ecom.roller.app/oodazudecatur/openplay/en-us/products
URL:https://cluboodazu.com/program/adult-open-play-weeknight/2026-09-14/
LOCATION:Club OODAZU\, 421 Dekalb Industrial Way\, Decatur\, Georgia\, 30030\, United States
CATEGORIES:Adult Open Play,Open Play
END:VEVENT
BEGIN:VEVENT
DTSTART;TZID=America/New_York:20260915T180000
DTEND;TZID=America/New_York:20260915T210000
DTSTAMP:20260424T072503
CREATED:20260115T035400Z
LAST-MODIFIED:20260407T161922Z
UID:10016761-1789495200-1789506000@cluboodazu.com
SUMMARY:Adult Open Play - Weeknight
DESCRIPTION:Grown-ups get their own time on the courts with dedicated Adult Open Play sessions featuring pickleball\, basketball\, futsal (indoor soccer)\, pickleball\, and volleyball. A great way to stay active\, play socially\, and enjoy our sports facilities without joining a league. \nLearn More & Register: \nhttps://ecom.roller.app/oodazudecatur/openplay/en-us/products
URL:https://cluboodazu.com/program/adult-open-play-weeknight/2026-09-15/
LOCATION:Club OODAZU\, 421 Dekalb Industrial Way\, Decatur\, Georgia\, 30030\, United States
CATEGORIES:Adult Open Play,Open Play
END:VEVENT
BEGIN:VEVENT
DTSTART;TZID=America/New_York:20260916T180000
DTEND;TZID=America/New_York:20260916T210000
DTSTAMP:20260424T072503
CREATED:20260115T035400Z
LAST-MODIFIED:20260407T161922Z
UID:10016762-1789581600-1789592400@cluboodazu.com
SUMMARY:Adult Open Play - Weeknight
DESCRIPTION:Grown-ups get their own time on the courts with dedicated Adult Open Play sessions featuring pickleball\, basketball\, futsal (indoor soccer)\, pickleball\, and volleyball. A great way to stay active\, play socially\, and enjoy our sports facilities without joining a league. \nLearn More & Register: \nhttps://ecom.roller.app/oodazudecatur/openplay/en-us/products
URL:https://cluboodazu.com/program/adult-open-play-weeknight/2026-09-16/
LOCATION:Club OODAZU\, 421 Dekalb Industrial Way\, Decatur\, Georgia\, 30030\, United States
CATEGORIES:Adult Open Play,Open Play
END:VEVENT
BEGIN:VEVENT
DTSTART;TZID=America/New_York:20260917T180000
DTEND;TZID=America/New_York:20260917T210000
DTSTAMP:20260424T072503
CREATED:20260115T035400Z
LAST-MODIFIED:20260407T161922Z
UID:10016763-1789668000-1789678800@cluboodazu.com
SUMMARY:Adult Open Play - Weeknight
DESCRIPTION:Grown-ups get their own time on the courts with dedicated Adult Open Play sessions featuring pickleball\, basketball\, futsal (indoor soccer)\, pickleball\, and volleyball. A great way to stay active\, play socially\, and enjoy our sports facilities without joining a league. \nLearn More & Register: \nhttps://ecom.roller.app/oodazudecatur/openplay/en-us/products
URL:https://cluboodazu.com/program/adult-open-play-weeknight/2026-09-17/
LOCATION:Club OODAZU\, 421 Dekalb Industrial Way\, Decatur\, Georgia\, 30030\, United States
CATEGORIES:Adult Open Play,Open Play
END:VEVENT
END:VCALENDAR