BEGIN:VCALENDAR
VERSION:2.0
PRODID:-//Club OODAZU - ECPv6.15.18//NONSGML v1.0//EN
CALSCALE:GREGORIAN
METHOD:PUBLISH
X-WR-CALNAME:Club OODAZU
X-ORIGINAL-URL:https://cluboodazu.com
X-WR-CALDESC:Events for Club OODAZU
REFRESH-INTERVAL;VALUE=DURATION:PT1H
X-Robots-Tag:noindex
X-PUBLISHED-TTL:PT1H
BEGIN:VTIMEZONE
TZID:America/New_York
BEGIN:DAYLIGHT
TZOFFSETFROM:-0500
TZOFFSETTO:-0400
TZNAME:EDT
DTSTART:20250309T070000
END:DAYLIGHT
BEGIN:STANDARD
TZOFFSETFROM:-0400
TZOFFSETTO:-0500
TZNAME:EST
DTSTART:20251102T060000
END:STANDARD
BEGIN:DAYLIGHT
TZOFFSETFROM:-0500
TZOFFSETTO:-0400
TZNAME:EDT
DTSTART:20260308T070000
END:DAYLIGHT
BEGIN:STANDARD
TZOFFSETFROM:-0400
TZOFFSETTO:-0500
TZNAME:EST
DTSTART:20261101T060000
END:STANDARD
BEGIN:DAYLIGHT
TZOFFSETFROM:-0500
TZOFFSETTO:-0400
TZNAME:EDT
DTSTART:20270314T070000
END:DAYLIGHT
BEGIN:STANDARD
TZOFFSETFROM:-0400
TZOFFSETTO:-0500
TZNAME:EST
DTSTART:20271107T060000
END:STANDARD
END:VTIMEZONE
BEGIN:VEVENT
DTSTART;TZID=America/New_York:20261019T180000
DTEND;TZID=America/New_York:20261019T210000
DTSTAMP:20260424T154043
CREATED:20260115T035400Z
LAST-MODIFIED:20260407T161922Z
UID:10016785-1792432800-1792443600@cluboodazu.com
SUMMARY:Adult Open Play - Weeknight
DESCRIPTION:Grown-ups get their own time on the courts with dedicated Adult Open Play sessions featuring pickleball\, basketball\, futsal (indoor soccer)\, pickleball\, and volleyball. A great way to stay active\, play socially\, and enjoy our sports facilities without joining a league. \nLearn More & Register: \nhttps://ecom.roller.app/oodazudecatur/openplay/en-us/products
URL:https://cluboodazu.com/program/adult-open-play-weeknight/2026-10-19/
LOCATION:Club OODAZU\, 421 Dekalb Industrial Way\, Decatur\, Georgia\, 30030\, United States
CATEGORIES:Adult Open Play,Open Play
END:VEVENT
BEGIN:VEVENT
DTSTART;TZID=America/New_York:20261020T180000
DTEND;TZID=America/New_York:20261020T210000
DTSTAMP:20260424T154043
CREATED:20260115T035400Z
LAST-MODIFIED:20260407T161922Z
UID:10016786-1792519200-1792530000@cluboodazu.com
SUMMARY:Adult Open Play - Weeknight
DESCRIPTION:Grown-ups get their own time on the courts with dedicated Adult Open Play sessions featuring pickleball\, basketball\, futsal (indoor soccer)\, pickleball\, and volleyball. A great way to stay active\, play socially\, and enjoy our sports facilities without joining a league. \nLearn More & Register: \nhttps://ecom.roller.app/oodazudecatur/openplay/en-us/products
URL:https://cluboodazu.com/program/adult-open-play-weeknight/2026-10-20/
LOCATION:Club OODAZU\, 421 Dekalb Industrial Way\, Decatur\, Georgia\, 30030\, United States
CATEGORIES:Adult Open Play,Open Play
END:VEVENT
BEGIN:VEVENT
DTSTART;TZID=America/New_York:20261021T180000
DTEND;TZID=America/New_York:20261021T210000
DTSTAMP:20260424T154043
CREATED:20260115T035400Z
LAST-MODIFIED:20260407T161922Z
UID:10016787-1792605600-1792616400@cluboodazu.com
SUMMARY:Adult Open Play - Weeknight
DESCRIPTION:Grown-ups get their own time on the courts with dedicated Adult Open Play sessions featuring pickleball\, basketball\, futsal (indoor soccer)\, pickleball\, and volleyball. A great way to stay active\, play socially\, and enjoy our sports facilities without joining a league. \nLearn More & Register: \nhttps://ecom.roller.app/oodazudecatur/openplay/en-us/products
URL:https://cluboodazu.com/program/adult-open-play-weeknight/2026-10-21/
LOCATION:Club OODAZU\, 421 Dekalb Industrial Way\, Decatur\, Georgia\, 30030\, United States
CATEGORIES:Adult Open Play,Open Play
END:VEVENT
BEGIN:VEVENT
DTSTART;TZID=America/New_York:20261022T180000
DTEND;TZID=America/New_York:20261022T210000
DTSTAMP:20260424T154043
CREATED:20260115T035400Z
LAST-MODIFIED:20260407T161922Z
UID:10016788-1792692000-1792702800@cluboodazu.com
SUMMARY:Adult Open Play - Weeknight
DESCRIPTION:Grown-ups get their own time on the courts with dedicated Adult Open Play sessions featuring pickleball\, basketball\, futsal (indoor soccer)\, pickleball\, and volleyball. A great way to stay active\, play socially\, and enjoy our sports facilities without joining a league. \nLearn More & Register: \nhttps://ecom.roller.app/oodazudecatur/openplay/en-us/products
URL:https://cluboodazu.com/program/adult-open-play-weeknight/2026-10-22/
LOCATION:Club OODAZU\, 421 Dekalb Industrial Way\, Decatur\, Georgia\, 30030\, United States
CATEGORIES:Adult Open Play,Open Play
END:VEVENT
BEGIN:VEVENT
DTSTART;TZID=America/New_York:20261023T180000
DTEND;TZID=America/New_York:20261023T210000
DTSTAMP:20260424T154043
CREATED:20260115T035400Z
LAST-MODIFIED:20260407T161922Z
UID:10016789-1792778400-1792789200@cluboodazu.com
SUMMARY:Adult Open Play - Weeknight
DESCRIPTION:Grown-ups get their own time on the courts with dedicated Adult Open Play sessions featuring pickleball\, basketball\, futsal (indoor soccer)\, pickleball\, and volleyball. A great way to stay active\, play socially\, and enjoy our sports facilities without joining a league. \nLearn More & Register: \nhttps://ecom.roller.app/oodazudecatur/openplay/en-us/products
URL:https://cluboodazu.com/program/adult-open-play-weeknight/2026-10-23/
LOCATION:Club OODAZU\, 421 Dekalb Industrial Way\, Decatur\, Georgia\, 30030\, United States
CATEGORIES:Adult Open Play,Open Play
END:VEVENT
BEGIN:VEVENT
DTSTART;TZID=America/New_York:20261024T090000
DTEND;TZID=America/New_York:20261024T200000
DTSTAMP:20260424T154043
CREATED:20260115T035747Z
LAST-MODIFIED:20260129T213307Z
UID:10016355-1792832400-1792872000@cluboodazu.com
SUMMARY:Adult Open Play - Saturdays
DESCRIPTION:Grown-ups get their own time on the courts with dedicated Adult Open Play sessions featuring pickleball\, basketball\, and futsal (indoor soccer). A great way to stay active\, play socially\, and enjoy our sports facilities without joining a league. \nLearn More & Register: \nhttps://ecom.roller.app/oodazudecatur/openplay/en-us/products
URL:https://cluboodazu.com/program/adult-open-play-saturday/2026-10-24/
LOCATION:Club OODAZU\, 421 Dekalb Industrial Way\, Decatur\, Georgia\, 30030\, United States
CATEGORIES:Adult Open Play,Open Play
END:VEVENT
BEGIN:VEVENT
DTSTART;TZID=America/New_York:20261025T100000
DTEND;TZID=America/New_York:20261025T180000
DTSTAMP:20260424T154043
CREATED:20260115T040045Z
LAST-MODIFIED:20260407T162040Z
UID:10019607-1792922400-1792951200@cluboodazu.com
SUMMARY:Adult Open Play - Sundays
DESCRIPTION:Grown-ups get their own time on the courts with dedicated Adult Open Play sessions featuring pickleball\, basketball\, and futsal (indoor soccer). A great way to stay active\, play socially\, and enjoy our sports facilities without joining a league. \nLearn More & Register: \nhttps://ecom.roller.app/oodazudecatur/openplay/en-us/products
URL:https://cluboodazu.com/program/adult-open-play-sundays/2026-10-25/
LOCATION:Club OODAZU\, 421 Dekalb Industrial Way\, Decatur\, Georgia\, 30030\, United States
CATEGORIES:Adult Open Play,Open Play
END:VEVENT
BEGIN:VEVENT
DTSTART;TZID=America/New_York:20261026T180000
DTEND;TZID=America/New_York:20261026T210000
DTSTAMP:20260424T154043
CREATED:20260115T035400Z
LAST-MODIFIED:20260407T161922Z
UID:10016790-1793037600-1793048400@cluboodazu.com
SUMMARY:Adult Open Play - Weeknight
DESCRIPTION:Grown-ups get their own time on the courts with dedicated Adult Open Play sessions featuring pickleball\, basketball\, futsal (indoor soccer)\, pickleball\, and volleyball. A great way to stay active\, play socially\, and enjoy our sports facilities without joining a league. \nLearn More & Register: \nhttps://ecom.roller.app/oodazudecatur/openplay/en-us/products
URL:https://cluboodazu.com/program/adult-open-play-weeknight/2026-10-26/
LOCATION:Club OODAZU\, 421 Dekalb Industrial Way\, Decatur\, Georgia\, 30030\, United States
CATEGORIES:Adult Open Play,Open Play
END:VEVENT
BEGIN:VEVENT
DTSTART;TZID=America/New_York:20261027T180000
DTEND;TZID=America/New_York:20261027T210000
DTSTAMP:20260424T154043
CREATED:20260115T035400Z
LAST-MODIFIED:20260407T161922Z
UID:10016791-1793124000-1793134800@cluboodazu.com
SUMMARY:Adult Open Play - Weeknight
DESCRIPTION:Grown-ups get their own time on the courts with dedicated Adult Open Play sessions featuring pickleball\, basketball\, futsal (indoor soccer)\, pickleball\, and volleyball. A great way to stay active\, play socially\, and enjoy our sports facilities without joining a league. \nLearn More & Register: \nhttps://ecom.roller.app/oodazudecatur/openplay/en-us/products
URL:https://cluboodazu.com/program/adult-open-play-weeknight/2026-10-27/
LOCATION:Club OODAZU\, 421 Dekalb Industrial Way\, Decatur\, Georgia\, 30030\, United States
CATEGORIES:Adult Open Play,Open Play
END:VEVENT
BEGIN:VEVENT
DTSTART;TZID=America/New_York:20261028T180000
DTEND;TZID=America/New_York:20261028T210000
DTSTAMP:20260424T154043
CREATED:20260115T035400Z
LAST-MODIFIED:20260407T161922Z
UID:10016792-1793210400-1793221200@cluboodazu.com
SUMMARY:Adult Open Play - Weeknight
DESCRIPTION:Grown-ups get their own time on the courts with dedicated Adult Open Play sessions featuring pickleball\, basketball\, futsal (indoor soccer)\, pickleball\, and volleyball. A great way to stay active\, play socially\, and enjoy our sports facilities without joining a league. \nLearn More & Register: \nhttps://ecom.roller.app/oodazudecatur/openplay/en-us/products
URL:https://cluboodazu.com/program/adult-open-play-weeknight/2026-10-28/
LOCATION:Club OODAZU\, 421 Dekalb Industrial Way\, Decatur\, Georgia\, 30030\, United States
CATEGORIES:Adult Open Play,Open Play
END:VEVENT
BEGIN:VEVENT
DTSTART;TZID=America/New_York:20261029T180000
DTEND;TZID=America/New_York:20261029T210000
DTSTAMP:20260424T154043
CREATED:20260115T035400Z
LAST-MODIFIED:20260407T161922Z
UID:10016793-1793296800-1793307600@cluboodazu.com
SUMMARY:Adult Open Play - Weeknight
DESCRIPTION:Grown-ups get their own time on the courts with dedicated Adult Open Play sessions featuring pickleball\, basketball\, futsal (indoor soccer)\, pickleball\, and volleyball. A great way to stay active\, play socially\, and enjoy our sports facilities without joining a league. \nLearn More & Register: \nhttps://ecom.roller.app/oodazudecatur/openplay/en-us/products
URL:https://cluboodazu.com/program/adult-open-play-weeknight/2026-10-29/
LOCATION:Club OODAZU\, 421 Dekalb Industrial Way\, Decatur\, Georgia\, 30030\, United States
CATEGORIES:Adult Open Play,Open Play
END:VEVENT
BEGIN:VEVENT
DTSTART;TZID=America/New_York:20261030T180000
DTEND;TZID=America/New_York:20261030T210000
DTSTAMP:20260424T154043
CREATED:20260115T035400Z
LAST-MODIFIED:20260407T161922Z
UID:10016794-1793383200-1793394000@cluboodazu.com
SUMMARY:Adult Open Play - Weeknight
DESCRIPTION:Grown-ups get their own time on the courts with dedicated Adult Open Play sessions featuring pickleball\, basketball\, futsal (indoor soccer)\, pickleball\, and volleyball. A great way to stay active\, play socially\, and enjoy our sports facilities without joining a league. \nLearn More & Register: \nhttps://ecom.roller.app/oodazudecatur/openplay/en-us/products
URL:https://cluboodazu.com/program/adult-open-play-weeknight/2026-10-30/
LOCATION:Club OODAZU\, 421 Dekalb Industrial Way\, Decatur\, Georgia\, 30030\, United States
CATEGORIES:Adult Open Play,Open Play
END:VEVENT
BEGIN:VEVENT
DTSTART;TZID=America/New_York:20261031T090000
DTEND;TZID=America/New_York:20261031T200000
DTSTAMP:20260424T154043
CREATED:20260115T035747Z
LAST-MODIFIED:20260129T213307Z
UID:10016356-1793437200-1793476800@cluboodazu.com
SUMMARY:Adult Open Play - Saturdays
DESCRIPTION:Grown-ups get their own time on the courts with dedicated Adult Open Play sessions featuring pickleball\, basketball\, and futsal (indoor soccer). A great way to stay active\, play socially\, and enjoy our sports facilities without joining a league. \nLearn More & Register: \nhttps://ecom.roller.app/oodazudecatur/openplay/en-us/products
URL:https://cluboodazu.com/program/adult-open-play-saturday/2026-10-31/
LOCATION:Club OODAZU\, 421 Dekalb Industrial Way\, Decatur\, Georgia\, 30030\, United States
CATEGORIES:Adult Open Play,Open Play
END:VEVENT
BEGIN:VEVENT
DTSTART;TZID=America/New_York:20261101T100000
DTEND;TZID=America/New_York:20261101T180000
DTSTAMP:20260424T154043
CREATED:20260115T040045Z
LAST-MODIFIED:20260407T162040Z
UID:10019608-1793527200-1793556000@cluboodazu.com
SUMMARY:Adult Open Play - Sundays
DESCRIPTION:Grown-ups get their own time on the courts with dedicated Adult Open Play sessions featuring pickleball\, basketball\, and futsal (indoor soccer). A great way to stay active\, play socially\, and enjoy our sports facilities without joining a league. \nLearn More & Register: \nhttps://ecom.roller.app/oodazudecatur/openplay/en-us/products
URL:https://cluboodazu.com/program/adult-open-play-sundays/2026-11-01/
LOCATION:Club OODAZU\, 421 Dekalb Industrial Way\, Decatur\, Georgia\, 30030\, United States
CATEGORIES:Adult Open Play,Open Play
END:VEVENT
BEGIN:VEVENT
DTSTART;TZID=America/New_York:20261102T180000
DTEND;TZID=America/New_York:20261102T210000
DTSTAMP:20260424T154043
CREATED:20260115T035400Z
LAST-MODIFIED:20260407T161922Z
UID:10016795-1793642400-1793653200@cluboodazu.com
SUMMARY:Adult Open Play - Weeknight
DESCRIPTION:Grown-ups get their own time on the courts with dedicated Adult Open Play sessions featuring pickleball\, basketball\, futsal (indoor soccer)\, pickleball\, and volleyball. A great way to stay active\, play socially\, and enjoy our sports facilities without joining a league. \nLearn More & Register: \nhttps://ecom.roller.app/oodazudecatur/openplay/en-us/products
URL:https://cluboodazu.com/program/adult-open-play-weeknight/2026-11-02/
LOCATION:Club OODAZU\, 421 Dekalb Industrial Way\, Decatur\, Georgia\, 30030\, United States
CATEGORIES:Adult Open Play,Open Play
END:VEVENT
BEGIN:VEVENT
DTSTART;TZID=America/New_York:20261103T180000
DTEND;TZID=America/New_York:20261103T210000
DTSTAMP:20260424T154043
CREATED:20260115T035400Z
LAST-MODIFIED:20260407T161922Z
UID:10016796-1793728800-1793739600@cluboodazu.com
SUMMARY:Adult Open Play - Weeknight
DESCRIPTION:Grown-ups get their own time on the courts with dedicated Adult Open Play sessions featuring pickleball\, basketball\, futsal (indoor soccer)\, pickleball\, and volleyball. A great way to stay active\, play socially\, and enjoy our sports facilities without joining a league. \nLearn More & Register: \nhttps://ecom.roller.app/oodazudecatur/openplay/en-us/products
URL:https://cluboodazu.com/program/adult-open-play-weeknight/2026-11-03/
LOCATION:Club OODAZU\, 421 Dekalb Industrial Way\, Decatur\, Georgia\, 30030\, United States
CATEGORIES:Adult Open Play,Open Play
END:VEVENT
BEGIN:VEVENT
DTSTART;TZID=America/New_York:20261104T180000
DTEND;TZID=America/New_York:20261104T210000
DTSTAMP:20260424T154043
CREATED:20260115T035400Z
LAST-MODIFIED:20260407T161922Z
UID:10016797-1793815200-1793826000@cluboodazu.com
SUMMARY:Adult Open Play - Weeknight
DESCRIPTION:Grown-ups get their own time on the courts with dedicated Adult Open Play sessions featuring pickleball\, basketball\, futsal (indoor soccer)\, pickleball\, and volleyball. A great way to stay active\, play socially\, and enjoy our sports facilities without joining a league. \nLearn More & Register: \nhttps://ecom.roller.app/oodazudecatur/openplay/en-us/products
URL:https://cluboodazu.com/program/adult-open-play-weeknight/2026-11-04/
LOCATION:Club OODAZU\, 421 Dekalb Industrial Way\, Decatur\, Georgia\, 30030\, United States
CATEGORIES:Adult Open Play,Open Play
END:VEVENT
BEGIN:VEVENT
DTSTART;TZID=America/New_York:20261105T180000
DTEND;TZID=America/New_York:20261105T210000
DTSTAMP:20260424T154043
CREATED:20260115T035400Z
LAST-MODIFIED:20260407T161922Z
UID:10016798-1793901600-1793912400@cluboodazu.com
SUMMARY:Adult Open Play - Weeknight
DESCRIPTION:Grown-ups get their own time on the courts with dedicated Adult Open Play sessions featuring pickleball\, basketball\, futsal (indoor soccer)\, pickleball\, and volleyball. A great way to stay active\, play socially\, and enjoy our sports facilities without joining a league. \nLearn More & Register: \nhttps://ecom.roller.app/oodazudecatur/openplay/en-us/products
URL:https://cluboodazu.com/program/adult-open-play-weeknight/2026-11-05/
LOCATION:Club OODAZU\, 421 Dekalb Industrial Way\, Decatur\, Georgia\, 30030\, United States
CATEGORIES:Adult Open Play,Open Play
END:VEVENT
BEGIN:VEVENT
DTSTART;TZID=America/New_York:20261106T180000
DTEND;TZID=America/New_York:20261106T210000
DTSTAMP:20260424T154043
CREATED:20260115T035400Z
LAST-MODIFIED:20260407T161922Z
UID:10016799-1793988000-1793998800@cluboodazu.com
SUMMARY:Adult Open Play - Weeknight
DESCRIPTION:Grown-ups get their own time on the courts with dedicated Adult Open Play sessions featuring pickleball\, basketball\, futsal (indoor soccer)\, pickleball\, and volleyball. A great way to stay active\, play socially\, and enjoy our sports facilities without joining a league. \nLearn More & Register: \nhttps://ecom.roller.app/oodazudecatur/openplay/en-us/products
URL:https://cluboodazu.com/program/adult-open-play-weeknight/2026-11-06/
LOCATION:Club OODAZU\, 421 Dekalb Industrial Way\, Decatur\, Georgia\, 30030\, United States
CATEGORIES:Adult Open Play,Open Play
END:VEVENT
BEGIN:VEVENT
DTSTART;TZID=America/New_York:20261107T090000
DTEND;TZID=America/New_York:20261107T200000
DTSTAMP:20260424T154043
CREATED:20260115T035747Z
LAST-MODIFIED:20260129T213307Z
UID:10016357-1794042000-1794081600@cluboodazu.com
SUMMARY:Adult Open Play - Saturdays
DESCRIPTION:Grown-ups get their own time on the courts with dedicated Adult Open Play sessions featuring pickleball\, basketball\, and futsal (indoor soccer). A great way to stay active\, play socially\, and enjoy our sports facilities without joining a league. \nLearn More & Register: \nhttps://ecom.roller.app/oodazudecatur/openplay/en-us/products
URL:https://cluboodazu.com/program/adult-open-play-saturday/2026-11-07/
LOCATION:Club OODAZU\, 421 Dekalb Industrial Way\, Decatur\, Georgia\, 30030\, United States
CATEGORIES:Adult Open Play,Open Play
END:VEVENT
BEGIN:VEVENT
DTSTART;TZID=America/New_York:20261108T100000
DTEND;TZID=America/New_York:20261108T180000
DTSTAMP:20260424T154043
CREATED:20260115T040045Z
LAST-MODIFIED:20260407T162040Z
UID:10019609-1794132000-1794160800@cluboodazu.com
SUMMARY:Adult Open Play - Sundays
DESCRIPTION:Grown-ups get their own time on the courts with dedicated Adult Open Play sessions featuring pickleball\, basketball\, and futsal (indoor soccer). A great way to stay active\, play socially\, and enjoy our sports facilities without joining a league. \nLearn More & Register: \nhttps://ecom.roller.app/oodazudecatur/openplay/en-us/products
URL:https://cluboodazu.com/program/adult-open-play-sundays/2026-11-08/
LOCATION:Club OODAZU\, 421 Dekalb Industrial Way\, Decatur\, Georgia\, 30030\, United States
CATEGORIES:Adult Open Play,Open Play
END:VEVENT
BEGIN:VEVENT
DTSTART;TZID=America/New_York:20261109T180000
DTEND;TZID=America/New_York:20261109T210000
DTSTAMP:20260424T154043
CREATED:20260115T035400Z
LAST-MODIFIED:20260407T161922Z
UID:10016800-1794247200-1794258000@cluboodazu.com
SUMMARY:Adult Open Play - Weeknight
DESCRIPTION:Grown-ups get their own time on the courts with dedicated Adult Open Play sessions featuring pickleball\, basketball\, futsal (indoor soccer)\, pickleball\, and volleyball. A great way to stay active\, play socially\, and enjoy our sports facilities without joining a league. \nLearn More & Register: \nhttps://ecom.roller.app/oodazudecatur/openplay/en-us/products
URL:https://cluboodazu.com/program/adult-open-play-weeknight/2026-11-09/
LOCATION:Club OODAZU\, 421 Dekalb Industrial Way\, Decatur\, Georgia\, 30030\, United States
CATEGORIES:Adult Open Play,Open Play
END:VEVENT
BEGIN:VEVENT
DTSTART;TZID=America/New_York:20261110T180000
DTEND;TZID=America/New_York:20261110T210000
DTSTAMP:20260424T154043
CREATED:20260115T035400Z
LAST-MODIFIED:20260407T161922Z
UID:10016801-1794333600-1794344400@cluboodazu.com
SUMMARY:Adult Open Play - Weeknight
DESCRIPTION:Grown-ups get their own time on the courts with dedicated Adult Open Play sessions featuring pickleball\, basketball\, futsal (indoor soccer)\, pickleball\, and volleyball. A great way to stay active\, play socially\, and enjoy our sports facilities without joining a league. \nLearn More & Register: \nhttps://ecom.roller.app/oodazudecatur/openplay/en-us/products
URL:https://cluboodazu.com/program/adult-open-play-weeknight/2026-11-10/
LOCATION:Club OODAZU\, 421 Dekalb Industrial Way\, Decatur\, Georgia\, 30030\, United States
CATEGORIES:Adult Open Play,Open Play
END:VEVENT
BEGIN:VEVENT
DTSTART;TZID=America/New_York:20261111T180000
DTEND;TZID=America/New_York:20261111T210000
DTSTAMP:20260424T154043
CREATED:20260115T035400Z
LAST-MODIFIED:20260407T161922Z
UID:10016802-1794420000-1794430800@cluboodazu.com
SUMMARY:Adult Open Play - Weeknight
DESCRIPTION:Grown-ups get their own time on the courts with dedicated Adult Open Play sessions featuring pickleball\, basketball\, futsal (indoor soccer)\, pickleball\, and volleyball. A great way to stay active\, play socially\, and enjoy our sports facilities without joining a league. \nLearn More & Register: \nhttps://ecom.roller.app/oodazudecatur/openplay/en-us/products
URL:https://cluboodazu.com/program/adult-open-play-weeknight/2026-11-11/
LOCATION:Club OODAZU\, 421 Dekalb Industrial Way\, Decatur\, Georgia\, 30030\, United States
CATEGORIES:Adult Open Play,Open Play
END:VEVENT
BEGIN:VEVENT
DTSTART;TZID=America/New_York:20261112T180000
DTEND;TZID=America/New_York:20261112T210000
DTSTAMP:20260424T154043
CREATED:20260115T035400Z
LAST-MODIFIED:20260407T161922Z
UID:10016803-1794506400-1794517200@cluboodazu.com
SUMMARY:Adult Open Play - Weeknight
DESCRIPTION:Grown-ups get their own time on the courts with dedicated Adult Open Play sessions featuring pickleball\, basketball\, futsal (indoor soccer)\, pickleball\, and volleyball. A great way to stay active\, play socially\, and enjoy our sports facilities without joining a league. \nLearn More & Register: \nhttps://ecom.roller.app/oodazudecatur/openplay/en-us/products
URL:https://cluboodazu.com/program/adult-open-play-weeknight/2026-11-12/
LOCATION:Club OODAZU\, 421 Dekalb Industrial Way\, Decatur\, Georgia\, 30030\, United States
CATEGORIES:Adult Open Play,Open Play
END:VEVENT
BEGIN:VEVENT
DTSTART;TZID=America/New_York:20261113T180000
DTEND;TZID=America/New_York:20261113T210000
DTSTAMP:20260424T154043
CREATED:20260115T035400Z
LAST-MODIFIED:20260407T161922Z
UID:10016804-1794592800-1794603600@cluboodazu.com
SUMMARY:Adult Open Play - Weeknight
DESCRIPTION:Grown-ups get their own time on the courts with dedicated Adult Open Play sessions featuring pickleball\, basketball\, futsal (indoor soccer)\, pickleball\, and volleyball. A great way to stay active\, play socially\, and enjoy our sports facilities without joining a league. \nLearn More & Register: \nhttps://ecom.roller.app/oodazudecatur/openplay/en-us/products
URL:https://cluboodazu.com/program/adult-open-play-weeknight/2026-11-13/
LOCATION:Club OODAZU\, 421 Dekalb Industrial Way\, Decatur\, Georgia\, 30030\, United States
CATEGORIES:Adult Open Play,Open Play
END:VEVENT
BEGIN:VEVENT
DTSTART;TZID=America/New_York:20261114T090000
DTEND;TZID=America/New_York:20261114T200000
DTSTAMP:20260424T154043
CREATED:20260115T035747Z
LAST-MODIFIED:20260129T213307Z
UID:10016358-1794646800-1794686400@cluboodazu.com
SUMMARY:Adult Open Play - Saturdays
DESCRIPTION:Grown-ups get their own time on the courts with dedicated Adult Open Play sessions featuring pickleball\, basketball\, and futsal (indoor soccer). A great way to stay active\, play socially\, and enjoy our sports facilities without joining a league. \nLearn More & Register: \nhttps://ecom.roller.app/oodazudecatur/openplay/en-us/products
URL:https://cluboodazu.com/program/adult-open-play-saturday/2026-11-14/
LOCATION:Club OODAZU\, 421 Dekalb Industrial Way\, Decatur\, Georgia\, 30030\, United States
CATEGORIES:Adult Open Play,Open Play
END:VEVENT
BEGIN:VEVENT
DTSTART;TZID=America/New_York:20261115T100000
DTEND;TZID=America/New_York:20261115T180000
DTSTAMP:20260424T154043
CREATED:20260115T040045Z
LAST-MODIFIED:20260407T162040Z
UID:10019610-1794736800-1794765600@cluboodazu.com
SUMMARY:Adult Open Play - Sundays
DESCRIPTION:Grown-ups get their own time on the courts with dedicated Adult Open Play sessions featuring pickleball\, basketball\, and futsal (indoor soccer). A great way to stay active\, play socially\, and enjoy our sports facilities without joining a league. \nLearn More & Register: \nhttps://ecom.roller.app/oodazudecatur/openplay/en-us/products
URL:https://cluboodazu.com/program/adult-open-play-sundays/2026-11-15/
LOCATION:Club OODAZU\, 421 Dekalb Industrial Way\, Decatur\, Georgia\, 30030\, United States
CATEGORIES:Adult Open Play,Open Play
END:VEVENT
BEGIN:VEVENT
DTSTART;TZID=America/New_York:20261116T180000
DTEND;TZID=America/New_York:20261116T210000
DTSTAMP:20260424T154043
CREATED:20260115T035400Z
LAST-MODIFIED:20260407T161922Z
UID:10016805-1794852000-1794862800@cluboodazu.com
SUMMARY:Adult Open Play - Weeknight
DESCRIPTION:Grown-ups get their own time on the courts with dedicated Adult Open Play sessions featuring pickleball\, basketball\, futsal (indoor soccer)\, pickleball\, and volleyball. A great way to stay active\, play socially\, and enjoy our sports facilities without joining a league. \nLearn More & Register: \nhttps://ecom.roller.app/oodazudecatur/openplay/en-us/products
URL:https://cluboodazu.com/program/adult-open-play-weeknight/2026-11-16/
LOCATION:Club OODAZU\, 421 Dekalb Industrial Way\, Decatur\, Georgia\, 30030\, United States
CATEGORIES:Adult Open Play,Open Play
END:VEVENT
BEGIN:VEVENT
DTSTART;TZID=America/New_York:20261117T180000
DTEND;TZID=America/New_York:20261117T210000
DTSTAMP:20260424T154043
CREATED:20260115T035400Z
LAST-MODIFIED:20260407T161922Z
UID:10016806-1794938400-1794949200@cluboodazu.com
SUMMARY:Adult Open Play - Weeknight
DESCRIPTION:Grown-ups get their own time on the courts with dedicated Adult Open Play sessions featuring pickleball\, basketball\, futsal (indoor soccer)\, pickleball\, and volleyball. A great way to stay active\, play socially\, and enjoy our sports facilities without joining a league. \nLearn More & Register: \nhttps://ecom.roller.app/oodazudecatur/openplay/en-us/products
URL:https://cluboodazu.com/program/adult-open-play-weeknight/2026-11-17/
LOCATION:Club OODAZU\, 421 Dekalb Industrial Way\, Decatur\, Georgia\, 30030\, United States
CATEGORIES:Adult Open Play,Open Play
END:VEVENT
END:VCALENDAR