BEGIN:VCALENDAR
VERSION:2.0
PRODID:-//Club OODAZU - ECPv6.15.18//NONSGML v1.0//EN
CALSCALE:GREGORIAN
METHOD:PUBLISH
X-WR-CALNAME:Club OODAZU
X-ORIGINAL-URL:https://cluboodazu.com
X-WR-CALDESC:Events for Club OODAZU
REFRESH-INTERVAL;VALUE=DURATION:PT1H
X-Robots-Tag:noindex
X-PUBLISHED-TTL:PT1H
BEGIN:VTIMEZONE
TZID:America/New_York
BEGIN:DAYLIGHT
TZOFFSETFROM:-0500
TZOFFSETTO:-0400
TZNAME:EDT
DTSTART:20260308T070000
END:DAYLIGHT
BEGIN:STANDARD
TZOFFSETFROM:-0400
TZOFFSETTO:-0500
TZNAME:EST
DTSTART:20261101T060000
END:STANDARD
BEGIN:DAYLIGHT
TZOFFSETFROM:-0500
TZOFFSETTO:-0400
TZNAME:EDT
DTSTART:20270314T070000
END:DAYLIGHT
BEGIN:STANDARD
TZOFFSETFROM:-0400
TZOFFSETTO:-0500
TZNAME:EST
DTSTART:20271107T060000
END:STANDARD
BEGIN:DAYLIGHT
TZOFFSETFROM:-0500
TZOFFSETTO:-0400
TZNAME:EDT
DTSTART:20280312T070000
END:DAYLIGHT
BEGIN:STANDARD
TZOFFSETFROM:-0400
TZOFFSETTO:-0500
TZNAME:EST
DTSTART:20281105T060000
END:STANDARD
END:VTIMEZONE
BEGIN:VEVENT
DTSTART;TZID=America/New_York:20270618T180000
DTEND;TZID=America/New_York:20270618T210000
DTSTAMP:20260425T232433
CREATED:20260115T035400Z
LAST-MODIFIED:20260407T161922Z
UID:10016959-1813341600-1813352400@cluboodazu.com
SUMMARY:Adult Open Play - Weeknight
DESCRIPTION:Grown-ups get their own time on the courts with dedicated Adult Open Play sessions featuring pickleball\, basketball\, futsal (indoor soccer)\, pickleball\, and volleyball. A great way to stay active\, play socially\, and enjoy our sports facilities without joining a league. \nLearn More & Register: \nhttps://ecom.roller.app/oodazudecatur/openplay/en-us/products
URL:https://cluboodazu.com/program/adult-open-play-weeknight/2027-06-18/
LOCATION:Club OODAZU\, 421 Dekalb Industrial Way\, Decatur\, Georgia\, 30030\, United States
CATEGORIES:Adult Open Play,Open Play
END:VEVENT
BEGIN:VEVENT
DTSTART;TZID=America/New_York:20270619T090000
DTEND;TZID=America/New_York:20270619T200000
DTSTAMP:20260425T232433
CREATED:20260115T035747Z
LAST-MODIFIED:20260129T213307Z
UID:10016389-1813395600-1813435200@cluboodazu.com
SUMMARY:Adult Open Play - Saturdays
DESCRIPTION:Grown-ups get their own time on the courts with dedicated Adult Open Play sessions featuring pickleball\, basketball\, and futsal (indoor soccer). A great way to stay active\, play socially\, and enjoy our sports facilities without joining a league. \nLearn More & Register: \nhttps://ecom.roller.app/oodazudecatur/openplay/en-us/products
URL:https://cluboodazu.com/program/adult-open-play-saturday/2027-06-19/
LOCATION:Club OODAZU\, 421 Dekalb Industrial Way\, Decatur\, Georgia\, 30030\, United States
CATEGORIES:Adult Open Play,Open Play
END:VEVENT
BEGIN:VEVENT
DTSTART;TZID=America/New_York:20270620T100000
DTEND;TZID=America/New_York:20270620T180000
DTSTAMP:20260425T232433
CREATED:20260115T040045Z
LAST-MODIFIED:20260407T162040Z
UID:10019641-1813485600-1813514400@cluboodazu.com
SUMMARY:Adult Open Play - Sundays
DESCRIPTION:Grown-ups get their own time on the courts with dedicated Adult Open Play sessions featuring pickleball\, basketball\, and futsal (indoor soccer). A great way to stay active\, play socially\, and enjoy our sports facilities without joining a league. \nLearn More & Register: \nhttps://ecom.roller.app/oodazudecatur/openplay/en-us/products
URL:https://cluboodazu.com/program/adult-open-play-sundays/2027-06-20/
LOCATION:Club OODAZU\, 421 Dekalb Industrial Way\, Decatur\, Georgia\, 30030\, United States
CATEGORIES:Adult Open Play,Open Play
END:VEVENT
BEGIN:VEVENT
DTSTART;TZID=America/New_York:20270621T180000
DTEND;TZID=America/New_York:20270621T210000
DTSTAMP:20260425T232433
CREATED:20260115T035400Z
LAST-MODIFIED:20260407T161922Z
UID:10016960-1813600800-1813611600@cluboodazu.com
SUMMARY:Adult Open Play - Weeknight
DESCRIPTION:Grown-ups get their own time on the courts with dedicated Adult Open Play sessions featuring pickleball\, basketball\, futsal (indoor soccer)\, pickleball\, and volleyball. A great way to stay active\, play socially\, and enjoy our sports facilities without joining a league. \nLearn More & Register: \nhttps://ecom.roller.app/oodazudecatur/openplay/en-us/products
URL:https://cluboodazu.com/program/adult-open-play-weeknight/2027-06-21/
LOCATION:Club OODAZU\, 421 Dekalb Industrial Way\, Decatur\, Georgia\, 30030\, United States
CATEGORIES:Adult Open Play,Open Play
END:VEVENT
BEGIN:VEVENT
DTSTART;TZID=America/New_York:20270622T180000
DTEND;TZID=America/New_York:20270622T210000
DTSTAMP:20260425T232433
CREATED:20260115T035400Z
LAST-MODIFIED:20260407T161922Z
UID:10016961-1813687200-1813698000@cluboodazu.com
SUMMARY:Adult Open Play - Weeknight
DESCRIPTION:Grown-ups get their own time on the courts with dedicated Adult Open Play sessions featuring pickleball\, basketball\, futsal (indoor soccer)\, pickleball\, and volleyball. A great way to stay active\, play socially\, and enjoy our sports facilities without joining a league. \nLearn More & Register: \nhttps://ecom.roller.app/oodazudecatur/openplay/en-us/products
URL:https://cluboodazu.com/program/adult-open-play-weeknight/2027-06-22/
LOCATION:Club OODAZU\, 421 Dekalb Industrial Way\, Decatur\, Georgia\, 30030\, United States
CATEGORIES:Adult Open Play,Open Play
END:VEVENT
BEGIN:VEVENT
DTSTART;TZID=America/New_York:20270623T180000
DTEND;TZID=America/New_York:20270623T210000
DTSTAMP:20260425T232433
CREATED:20260115T035400Z
LAST-MODIFIED:20260407T161922Z
UID:10016962-1813773600-1813784400@cluboodazu.com
SUMMARY:Adult Open Play - Weeknight
DESCRIPTION:Grown-ups get their own time on the courts with dedicated Adult Open Play sessions featuring pickleball\, basketball\, futsal (indoor soccer)\, pickleball\, and volleyball. A great way to stay active\, play socially\, and enjoy our sports facilities without joining a league. \nLearn More & Register: \nhttps://ecom.roller.app/oodazudecatur/openplay/en-us/products
URL:https://cluboodazu.com/program/adult-open-play-weeknight/2027-06-23/
LOCATION:Club OODAZU\, 421 Dekalb Industrial Way\, Decatur\, Georgia\, 30030\, United States
CATEGORIES:Adult Open Play,Open Play
END:VEVENT
BEGIN:VEVENT
DTSTART;TZID=America/New_York:20270624T180000
DTEND;TZID=America/New_York:20270624T210000
DTSTAMP:20260425T232433
CREATED:20260115T035400Z
LAST-MODIFIED:20260407T161922Z
UID:10016963-1813860000-1813870800@cluboodazu.com
SUMMARY:Adult Open Play - Weeknight
DESCRIPTION:Grown-ups get their own time on the courts with dedicated Adult Open Play sessions featuring pickleball\, basketball\, futsal (indoor soccer)\, pickleball\, and volleyball. A great way to stay active\, play socially\, and enjoy our sports facilities without joining a league. \nLearn More & Register: \nhttps://ecom.roller.app/oodazudecatur/openplay/en-us/products
URL:https://cluboodazu.com/program/adult-open-play-weeknight/2027-06-24/
LOCATION:Club OODAZU\, 421 Dekalb Industrial Way\, Decatur\, Georgia\, 30030\, United States
CATEGORIES:Adult Open Play,Open Play
END:VEVENT
BEGIN:VEVENT
DTSTART;TZID=America/New_York:20270625T180000
DTEND;TZID=America/New_York:20270625T210000
DTSTAMP:20260425T232433
CREATED:20260115T035400Z
LAST-MODIFIED:20260407T161922Z
UID:10016964-1813946400-1813957200@cluboodazu.com
SUMMARY:Adult Open Play - Weeknight
DESCRIPTION:Grown-ups get their own time on the courts with dedicated Adult Open Play sessions featuring pickleball\, basketball\, futsal (indoor soccer)\, pickleball\, and volleyball. A great way to stay active\, play socially\, and enjoy our sports facilities without joining a league. \nLearn More & Register: \nhttps://ecom.roller.app/oodazudecatur/openplay/en-us/products
URL:https://cluboodazu.com/program/adult-open-play-weeknight/2027-06-25/
LOCATION:Club OODAZU\, 421 Dekalb Industrial Way\, Decatur\, Georgia\, 30030\, United States
CATEGORIES:Adult Open Play,Open Play
END:VEVENT
BEGIN:VEVENT
DTSTART;TZID=America/New_York:20270626T090000
DTEND;TZID=America/New_York:20270626T200000
DTSTAMP:20260425T232433
CREATED:20260115T035747Z
LAST-MODIFIED:20260129T213307Z
UID:10016390-1814000400-1814040000@cluboodazu.com
SUMMARY:Adult Open Play - Saturdays
DESCRIPTION:Grown-ups get their own time on the courts with dedicated Adult Open Play sessions featuring pickleball\, basketball\, and futsal (indoor soccer). A great way to stay active\, play socially\, and enjoy our sports facilities without joining a league. \nLearn More & Register: \nhttps://ecom.roller.app/oodazudecatur/openplay/en-us/products
URL:https://cluboodazu.com/program/adult-open-play-saturday/2027-06-26/
LOCATION:Club OODAZU\, 421 Dekalb Industrial Way\, Decatur\, Georgia\, 30030\, United States
CATEGORIES:Adult Open Play,Open Play
END:VEVENT
BEGIN:VEVENT
DTSTART;TZID=America/New_York:20270627T100000
DTEND;TZID=America/New_York:20270627T180000
DTSTAMP:20260425T232433
CREATED:20260115T040045Z
LAST-MODIFIED:20260407T162040Z
UID:10019642-1814090400-1814119200@cluboodazu.com
SUMMARY:Adult Open Play - Sundays
DESCRIPTION:Grown-ups get their own time on the courts with dedicated Adult Open Play sessions featuring pickleball\, basketball\, and futsal (indoor soccer). A great way to stay active\, play socially\, and enjoy our sports facilities without joining a league. \nLearn More & Register: \nhttps://ecom.roller.app/oodazudecatur/openplay/en-us/products
URL:https://cluboodazu.com/program/adult-open-play-sundays/2027-06-27/
LOCATION:Club OODAZU\, 421 Dekalb Industrial Way\, Decatur\, Georgia\, 30030\, United States
CATEGORIES:Adult Open Play,Open Play
END:VEVENT
BEGIN:VEVENT
DTSTART;TZID=America/New_York:20270628T180000
DTEND;TZID=America/New_York:20270628T210000
DTSTAMP:20260425T232433
CREATED:20260115T035400Z
LAST-MODIFIED:20260407T161922Z
UID:10016965-1814205600-1814216400@cluboodazu.com
SUMMARY:Adult Open Play - Weeknight
DESCRIPTION:Grown-ups get their own time on the courts with dedicated Adult Open Play sessions featuring pickleball\, basketball\, futsal (indoor soccer)\, pickleball\, and volleyball. A great way to stay active\, play socially\, and enjoy our sports facilities without joining a league. \nLearn More & Register: \nhttps://ecom.roller.app/oodazudecatur/openplay/en-us/products
URL:https://cluboodazu.com/program/adult-open-play-weeknight/2027-06-28/
LOCATION:Club OODAZU\, 421 Dekalb Industrial Way\, Decatur\, Georgia\, 30030\, United States
CATEGORIES:Adult Open Play,Open Play
END:VEVENT
BEGIN:VEVENT
DTSTART;TZID=America/New_York:20270629T180000
DTEND;TZID=America/New_York:20270629T210000
DTSTAMP:20260425T232433
CREATED:20260115T035400Z
LAST-MODIFIED:20260407T161922Z
UID:10016966-1814292000-1814302800@cluboodazu.com
SUMMARY:Adult Open Play - Weeknight
DESCRIPTION:Grown-ups get their own time on the courts with dedicated Adult Open Play sessions featuring pickleball\, basketball\, futsal (indoor soccer)\, pickleball\, and volleyball. A great way to stay active\, play socially\, and enjoy our sports facilities without joining a league. \nLearn More & Register: \nhttps://ecom.roller.app/oodazudecatur/openplay/en-us/products
URL:https://cluboodazu.com/program/adult-open-play-weeknight/2027-06-29/
LOCATION:Club OODAZU\, 421 Dekalb Industrial Way\, Decatur\, Georgia\, 30030\, United States
CATEGORIES:Adult Open Play,Open Play
END:VEVENT
BEGIN:VEVENT
DTSTART;TZID=America/New_York:20270630T180000
DTEND;TZID=America/New_York:20270630T210000
DTSTAMP:20260425T232433
CREATED:20260115T035400Z
LAST-MODIFIED:20260407T161922Z
UID:10016967-1814378400-1814389200@cluboodazu.com
SUMMARY:Adult Open Play - Weeknight
DESCRIPTION:Grown-ups get their own time on the courts with dedicated Adult Open Play sessions featuring pickleball\, basketball\, futsal (indoor soccer)\, pickleball\, and volleyball. A great way to stay active\, play socially\, and enjoy our sports facilities without joining a league. \nLearn More & Register: \nhttps://ecom.roller.app/oodazudecatur/openplay/en-us/products
URL:https://cluboodazu.com/program/adult-open-play-weeknight/2027-06-30/
LOCATION:Club OODAZU\, 421 Dekalb Industrial Way\, Decatur\, Georgia\, 30030\, United States
CATEGORIES:Adult Open Play,Open Play
END:VEVENT
BEGIN:VEVENT
DTSTART;TZID=America/New_York:20270701T180000
DTEND;TZID=America/New_York:20270701T210000
DTSTAMP:20260425T232433
CREATED:20260115T035400Z
LAST-MODIFIED:20260407T161922Z
UID:10016968-1814464800-1814475600@cluboodazu.com
SUMMARY:Adult Open Play - Weeknight
DESCRIPTION:Grown-ups get their own time on the courts with dedicated Adult Open Play sessions featuring pickleball\, basketball\, futsal (indoor soccer)\, pickleball\, and volleyball. A great way to stay active\, play socially\, and enjoy our sports facilities without joining a league. \nLearn More & Register: \nhttps://ecom.roller.app/oodazudecatur/openplay/en-us/products
URL:https://cluboodazu.com/program/adult-open-play-weeknight/2027-07-01/
LOCATION:Club OODAZU\, 421 Dekalb Industrial Way\, Decatur\, Georgia\, 30030\, United States
CATEGORIES:Adult Open Play,Open Play
END:VEVENT
BEGIN:VEVENT
DTSTART;TZID=America/New_York:20270702T180000
DTEND;TZID=America/New_York:20270702T210000
DTSTAMP:20260425T232433
CREATED:20260115T035400Z
LAST-MODIFIED:20260407T161922Z
UID:10016969-1814551200-1814562000@cluboodazu.com
SUMMARY:Adult Open Play - Weeknight
DESCRIPTION:Grown-ups get their own time on the courts with dedicated Adult Open Play sessions featuring pickleball\, basketball\, futsal (indoor soccer)\, pickleball\, and volleyball. A great way to stay active\, play socially\, and enjoy our sports facilities without joining a league. \nLearn More & Register: \nhttps://ecom.roller.app/oodazudecatur/openplay/en-us/products
URL:https://cluboodazu.com/program/adult-open-play-weeknight/2027-07-02/
LOCATION:Club OODAZU\, 421 Dekalb Industrial Way\, Decatur\, Georgia\, 30030\, United States
CATEGORIES:Adult Open Play,Open Play
END:VEVENT
BEGIN:VEVENT
DTSTART;TZID=America/New_York:20270703T090000
DTEND;TZID=America/New_York:20270703T200000
DTSTAMP:20260425T232433
CREATED:20260115T035747Z
LAST-MODIFIED:20260129T213307Z
UID:10016391-1814605200-1814644800@cluboodazu.com
SUMMARY:Adult Open Play - Saturdays
DESCRIPTION:Grown-ups get their own time on the courts with dedicated Adult Open Play sessions featuring pickleball\, basketball\, and futsal (indoor soccer). A great way to stay active\, play socially\, and enjoy our sports facilities without joining a league. \nLearn More & Register: \nhttps://ecom.roller.app/oodazudecatur/openplay/en-us/products
URL:https://cluboodazu.com/program/adult-open-play-saturday/2027-07-03/
LOCATION:Club OODAZU\, 421 Dekalb Industrial Way\, Decatur\, Georgia\, 30030\, United States
CATEGORIES:Adult Open Play,Open Play
END:VEVENT
BEGIN:VEVENT
DTSTART;TZID=America/New_York:20270704T100000
DTEND;TZID=America/New_York:20270704T180000
DTSTAMP:20260425T232433
CREATED:20260115T040045Z
LAST-MODIFIED:20260407T162040Z
UID:10019643-1814695200-1814724000@cluboodazu.com
SUMMARY:Adult Open Play - Sundays
DESCRIPTION:Grown-ups get their own time on the courts with dedicated Adult Open Play sessions featuring pickleball\, basketball\, and futsal (indoor soccer). A great way to stay active\, play socially\, and enjoy our sports facilities without joining a league. \nLearn More & Register: \nhttps://ecom.roller.app/oodazudecatur/openplay/en-us/products
URL:https://cluboodazu.com/program/adult-open-play-sundays/2027-07-04/
LOCATION:Club OODAZU\, 421 Dekalb Industrial Way\, Decatur\, Georgia\, 30030\, United States
CATEGORIES:Adult Open Play,Open Play
END:VEVENT
BEGIN:VEVENT
DTSTART;TZID=America/New_York:20270705T180000
DTEND;TZID=America/New_York:20270705T210000
DTSTAMP:20260425T232433
CREATED:20260115T035400Z
LAST-MODIFIED:20260407T161922Z
UID:10016970-1814810400-1814821200@cluboodazu.com
SUMMARY:Adult Open Play - Weeknight
DESCRIPTION:Grown-ups get their own time on the courts with dedicated Adult Open Play sessions featuring pickleball\, basketball\, futsal (indoor soccer)\, pickleball\, and volleyball. A great way to stay active\, play socially\, and enjoy our sports facilities without joining a league. \nLearn More & Register: \nhttps://ecom.roller.app/oodazudecatur/openplay/en-us/products
URL:https://cluboodazu.com/program/adult-open-play-weeknight/2027-07-05/
LOCATION:Club OODAZU\, 421 Dekalb Industrial Way\, Decatur\, Georgia\, 30030\, United States
CATEGORIES:Adult Open Play,Open Play
END:VEVENT
BEGIN:VEVENT
DTSTART;TZID=America/New_York:20270706T180000
DTEND;TZID=America/New_York:20270706T210000
DTSTAMP:20260425T232433
CREATED:20260115T035400Z
LAST-MODIFIED:20260407T161922Z
UID:10016971-1814896800-1814907600@cluboodazu.com
SUMMARY:Adult Open Play - Weeknight
DESCRIPTION:Grown-ups get their own time on the courts with dedicated Adult Open Play sessions featuring pickleball\, basketball\, futsal (indoor soccer)\, pickleball\, and volleyball. A great way to stay active\, play socially\, and enjoy our sports facilities without joining a league. \nLearn More & Register: \nhttps://ecom.roller.app/oodazudecatur/openplay/en-us/products
URL:https://cluboodazu.com/program/adult-open-play-weeknight/2027-07-06/
LOCATION:Club OODAZU\, 421 Dekalb Industrial Way\, Decatur\, Georgia\, 30030\, United States
CATEGORIES:Adult Open Play,Open Play
END:VEVENT
BEGIN:VEVENT
DTSTART;TZID=America/New_York:20270707T180000
DTEND;TZID=America/New_York:20270707T210000
DTSTAMP:20260425T232433
CREATED:20260115T035400Z
LAST-MODIFIED:20260407T161922Z
UID:10016972-1814983200-1814994000@cluboodazu.com
SUMMARY:Adult Open Play - Weeknight
DESCRIPTION:Grown-ups get their own time on the courts with dedicated Adult Open Play sessions featuring pickleball\, basketball\, futsal (indoor soccer)\, pickleball\, and volleyball. A great way to stay active\, play socially\, and enjoy our sports facilities without joining a league. \nLearn More & Register: \nhttps://ecom.roller.app/oodazudecatur/openplay/en-us/products
URL:https://cluboodazu.com/program/adult-open-play-weeknight/2027-07-07/
LOCATION:Club OODAZU\, 421 Dekalb Industrial Way\, Decatur\, Georgia\, 30030\, United States
CATEGORIES:Adult Open Play,Open Play
END:VEVENT
BEGIN:VEVENT
DTSTART;TZID=America/New_York:20270708T180000
DTEND;TZID=America/New_York:20270708T210000
DTSTAMP:20260425T232433
CREATED:20260115T035400Z
LAST-MODIFIED:20260407T161922Z
UID:10016973-1815069600-1815080400@cluboodazu.com
SUMMARY:Adult Open Play - Weeknight
DESCRIPTION:Grown-ups get their own time on the courts with dedicated Adult Open Play sessions featuring pickleball\, basketball\, futsal (indoor soccer)\, pickleball\, and volleyball. A great way to stay active\, play socially\, and enjoy our sports facilities without joining a league. \nLearn More & Register: \nhttps://ecom.roller.app/oodazudecatur/openplay/en-us/products
URL:https://cluboodazu.com/program/adult-open-play-weeknight/2027-07-08/
LOCATION:Club OODAZU\, 421 Dekalb Industrial Way\, Decatur\, Georgia\, 30030\, United States
CATEGORIES:Adult Open Play,Open Play
END:VEVENT
BEGIN:VEVENT
DTSTART;TZID=America/New_York:20270709T180000
DTEND;TZID=America/New_York:20270709T210000
DTSTAMP:20260425T232433
CREATED:20260115T035400Z
LAST-MODIFIED:20260407T161922Z
UID:10016974-1815156000-1815166800@cluboodazu.com
SUMMARY:Adult Open Play - Weeknight
DESCRIPTION:Grown-ups get their own time on the courts with dedicated Adult Open Play sessions featuring pickleball\, basketball\, futsal (indoor soccer)\, pickleball\, and volleyball. A great way to stay active\, play socially\, and enjoy our sports facilities without joining a league. \nLearn More & Register: \nhttps://ecom.roller.app/oodazudecatur/openplay/en-us/products
URL:https://cluboodazu.com/program/adult-open-play-weeknight/2027-07-09/
LOCATION:Club OODAZU\, 421 Dekalb Industrial Way\, Decatur\, Georgia\, 30030\, United States
CATEGORIES:Adult Open Play,Open Play
END:VEVENT
BEGIN:VEVENT
DTSTART;TZID=America/New_York:20270710T090000
DTEND;TZID=America/New_York:20270710T200000
DTSTAMP:20260425T232433
CREATED:20260115T035747Z
LAST-MODIFIED:20260129T213307Z
UID:10016392-1815210000-1815249600@cluboodazu.com
SUMMARY:Adult Open Play - Saturdays
DESCRIPTION:Grown-ups get their own time on the courts with dedicated Adult Open Play sessions featuring pickleball\, basketball\, and futsal (indoor soccer). A great way to stay active\, play socially\, and enjoy our sports facilities without joining a league. \nLearn More & Register: \nhttps://ecom.roller.app/oodazudecatur/openplay/en-us/products
URL:https://cluboodazu.com/program/adult-open-play-saturday/2027-07-10/
LOCATION:Club OODAZU\, 421 Dekalb Industrial Way\, Decatur\, Georgia\, 30030\, United States
CATEGORIES:Adult Open Play,Open Play
END:VEVENT
BEGIN:VEVENT
DTSTART;TZID=America/New_York:20270711T100000
DTEND;TZID=America/New_York:20270711T180000
DTSTAMP:20260425T232433
CREATED:20260115T040045Z
LAST-MODIFIED:20260407T162040Z
UID:10019644-1815300000-1815328800@cluboodazu.com
SUMMARY:Adult Open Play - Sundays
DESCRIPTION:Grown-ups get their own time on the courts with dedicated Adult Open Play sessions featuring pickleball\, basketball\, and futsal (indoor soccer). A great way to stay active\, play socially\, and enjoy our sports facilities without joining a league. \nLearn More & Register: \nhttps://ecom.roller.app/oodazudecatur/openplay/en-us/products
URL:https://cluboodazu.com/program/adult-open-play-sundays/2027-07-11/
LOCATION:Club OODAZU\, 421 Dekalb Industrial Way\, Decatur\, Georgia\, 30030\, United States
CATEGORIES:Adult Open Play,Open Play
END:VEVENT
BEGIN:VEVENT
DTSTART;TZID=America/New_York:20270712T180000
DTEND;TZID=America/New_York:20270712T210000
DTSTAMP:20260425T232433
CREATED:20260115T035400Z
LAST-MODIFIED:20260407T161922Z
UID:10016975-1815415200-1815426000@cluboodazu.com
SUMMARY:Adult Open Play - Weeknight
DESCRIPTION:Grown-ups get their own time on the courts with dedicated Adult Open Play sessions featuring pickleball\, basketball\, futsal (indoor soccer)\, pickleball\, and volleyball. A great way to stay active\, play socially\, and enjoy our sports facilities without joining a league. \nLearn More & Register: \nhttps://ecom.roller.app/oodazudecatur/openplay/en-us/products
URL:https://cluboodazu.com/program/adult-open-play-weeknight/2027-07-12/
LOCATION:Club OODAZU\, 421 Dekalb Industrial Way\, Decatur\, Georgia\, 30030\, United States
CATEGORIES:Adult Open Play,Open Play
END:VEVENT
BEGIN:VEVENT
DTSTART;TZID=America/New_York:20270713T180000
DTEND;TZID=America/New_York:20270713T210000
DTSTAMP:20260425T232433
CREATED:20260115T035400Z
LAST-MODIFIED:20260407T161922Z
UID:10016976-1815501600-1815512400@cluboodazu.com
SUMMARY:Adult Open Play - Weeknight
DESCRIPTION:Grown-ups get their own time on the courts with dedicated Adult Open Play sessions featuring pickleball\, basketball\, futsal (indoor soccer)\, pickleball\, and volleyball. A great way to stay active\, play socially\, and enjoy our sports facilities without joining a league. \nLearn More & Register: \nhttps://ecom.roller.app/oodazudecatur/openplay/en-us/products
URL:https://cluboodazu.com/program/adult-open-play-weeknight/2027-07-13/
LOCATION:Club OODAZU\, 421 Dekalb Industrial Way\, Decatur\, Georgia\, 30030\, United States
CATEGORIES:Adult Open Play,Open Play
END:VEVENT
BEGIN:VEVENT
DTSTART;TZID=America/New_York:20270714T180000
DTEND;TZID=America/New_York:20270714T210000
DTSTAMP:20260425T232433
CREATED:20260115T035400Z
LAST-MODIFIED:20260407T161922Z
UID:10016977-1815588000-1815598800@cluboodazu.com
SUMMARY:Adult Open Play - Weeknight
DESCRIPTION:Grown-ups get their own time on the courts with dedicated Adult Open Play sessions featuring pickleball\, basketball\, futsal (indoor soccer)\, pickleball\, and volleyball. A great way to stay active\, play socially\, and enjoy our sports facilities without joining a league. \nLearn More & Register: \nhttps://ecom.roller.app/oodazudecatur/openplay/en-us/products
URL:https://cluboodazu.com/program/adult-open-play-weeknight/2027-07-14/
LOCATION:Club OODAZU\, 421 Dekalb Industrial Way\, Decatur\, Georgia\, 30030\, United States
CATEGORIES:Adult Open Play,Open Play
END:VEVENT
BEGIN:VEVENT
DTSTART;TZID=America/New_York:20270715T180000
DTEND;TZID=America/New_York:20270715T210000
DTSTAMP:20260425T232433
CREATED:20260115T035400Z
LAST-MODIFIED:20260407T161922Z
UID:10016978-1815674400-1815685200@cluboodazu.com
SUMMARY:Adult Open Play - Weeknight
DESCRIPTION:Grown-ups get their own time on the courts with dedicated Adult Open Play sessions featuring pickleball\, basketball\, futsal (indoor soccer)\, pickleball\, and volleyball. A great way to stay active\, play socially\, and enjoy our sports facilities without joining a league. \nLearn More & Register: \nhttps://ecom.roller.app/oodazudecatur/openplay/en-us/products
URL:https://cluboodazu.com/program/adult-open-play-weeknight/2027-07-15/
LOCATION:Club OODAZU\, 421 Dekalb Industrial Way\, Decatur\, Georgia\, 30030\, United States
CATEGORIES:Adult Open Play,Open Play
END:VEVENT
BEGIN:VEVENT
DTSTART;TZID=America/New_York:20270716T180000
DTEND;TZID=America/New_York:20270716T210000
DTSTAMP:20260425T232433
CREATED:20260115T035400Z
LAST-MODIFIED:20260407T161922Z
UID:10016979-1815760800-1815771600@cluboodazu.com
SUMMARY:Adult Open Play - Weeknight
DESCRIPTION:Grown-ups get their own time on the courts with dedicated Adult Open Play sessions featuring pickleball\, basketball\, futsal (indoor soccer)\, pickleball\, and volleyball. A great way to stay active\, play socially\, and enjoy our sports facilities without joining a league. \nLearn More & Register: \nhttps://ecom.roller.app/oodazudecatur/openplay/en-us/products
URL:https://cluboodazu.com/program/adult-open-play-weeknight/2027-07-16/
LOCATION:Club OODAZU\, 421 Dekalb Industrial Way\, Decatur\, Georgia\, 30030\, United States
CATEGORIES:Adult Open Play,Open Play
END:VEVENT
BEGIN:VEVENT
DTSTART;TZID=America/New_York:20270717T090000
DTEND;TZID=America/New_York:20270717T200000
DTSTAMP:20260425T232433
CREATED:20260115T035747Z
LAST-MODIFIED:20260129T213307Z
UID:10016393-1815814800-1815854400@cluboodazu.com
SUMMARY:Adult Open Play - Saturdays
DESCRIPTION:Grown-ups get their own time on the courts with dedicated Adult Open Play sessions featuring pickleball\, basketball\, and futsal (indoor soccer). A great way to stay active\, play socially\, and enjoy our sports facilities without joining a league. \nLearn More & Register: \nhttps://ecom.roller.app/oodazudecatur/openplay/en-us/products
URL:https://cluboodazu.com/program/adult-open-play-saturday/2027-07-17/
LOCATION:Club OODAZU\, 421 Dekalb Industrial Way\, Decatur\, Georgia\, 30030\, United States
CATEGORIES:Adult Open Play,Open Play
END:VEVENT
END:VCALENDAR