BEGIN:VCALENDAR
VERSION:2.0
PRODID:-//Club OODAZU - ECPv6.15.18//NONSGML v1.0//EN
CALSCALE:GREGORIAN
METHOD:PUBLISH
X-WR-CALNAME:Club OODAZU
X-ORIGINAL-URL:https://cluboodazu.com
X-WR-CALDESC:Events for Club OODAZU
REFRESH-INTERVAL;VALUE=DURATION:PT1H
X-Robots-Tag:noindex
X-PUBLISHED-TTL:PT1H
BEGIN:VTIMEZONE
TZID:America/New_York
BEGIN:DAYLIGHT
TZOFFSETFROM:-0500
TZOFFSETTO:-0400
TZNAME:EDT
DTSTART:20250309T070000
END:DAYLIGHT
BEGIN:STANDARD
TZOFFSETFROM:-0400
TZOFFSETTO:-0500
TZNAME:EST
DTSTART:20251102T060000
END:STANDARD
BEGIN:DAYLIGHT
TZOFFSETFROM:-0500
TZOFFSETTO:-0400
TZNAME:EDT
DTSTART:20260308T070000
END:DAYLIGHT
BEGIN:STANDARD
TZOFFSETFROM:-0400
TZOFFSETTO:-0500
TZNAME:EST
DTSTART:20261101T060000
END:STANDARD
BEGIN:DAYLIGHT
TZOFFSETFROM:-0500
TZOFFSETTO:-0400
TZNAME:EDT
DTSTART:20270314T070000
END:DAYLIGHT
BEGIN:STANDARD
TZOFFSETFROM:-0400
TZOFFSETTO:-0500
TZNAME:EST
DTSTART:20271107T060000
END:STANDARD
END:VTIMEZONE
BEGIN:VEVENT
DTSTART;TZID=America/New_York:20260526T180000
DTEND;TZID=America/New_York:20260526T210000
DTSTAMP:20260423T203824
CREATED:20260115T035400Z
LAST-MODIFIED:20260407T161922Z
UID:10016681-1779818400-1779829200@cluboodazu.com
SUMMARY:Adult Open Play - Weeknight
DESCRIPTION:Grown-ups get their own time on the courts with dedicated Adult Open Play sessions featuring pickleball\, basketball\, futsal (indoor soccer)\, pickleball\, and volleyball. A great way to stay active\, play socially\, and enjoy our sports facilities without joining a league. \nLearn More & Register: \nhttps://ecom.roller.app/oodazudecatur/openplay/en-us/products
URL:https://cluboodazu.com/program/adult-open-play-weeknight/2026-05-26/
LOCATION:Club OODAZU\, 421 Dekalb Industrial Way\, Decatur\, Georgia\, 30030\, United States
CATEGORIES:Adult Open Play,Open Play
END:VEVENT
BEGIN:VEVENT
DTSTART;TZID=America/New_York:20260527T180000
DTEND;TZID=America/New_York:20260527T210000
DTSTAMP:20260423T203824
CREATED:20260115T035400Z
LAST-MODIFIED:20260407T161922Z
UID:10016682-1779904800-1779915600@cluboodazu.com
SUMMARY:Adult Open Play - Weeknight
DESCRIPTION:Grown-ups get their own time on the courts with dedicated Adult Open Play sessions featuring pickleball\, basketball\, futsal (indoor soccer)\, pickleball\, and volleyball. A great way to stay active\, play socially\, and enjoy our sports facilities without joining a league. \nLearn More & Register: \nhttps://ecom.roller.app/oodazudecatur/openplay/en-us/products
URL:https://cluboodazu.com/program/adult-open-play-weeknight/2026-05-27/
LOCATION:Club OODAZU\, 421 Dekalb Industrial Way\, Decatur\, Georgia\, 30030\, United States
CATEGORIES:Adult Open Play,Open Play
END:VEVENT
BEGIN:VEVENT
DTSTART;TZID=America/New_York:20260528T180000
DTEND;TZID=America/New_York:20260528T210000
DTSTAMP:20260423T203824
CREATED:20260115T035400Z
LAST-MODIFIED:20260407T161922Z
UID:10016683-1779991200-1780002000@cluboodazu.com
SUMMARY:Adult Open Play - Weeknight
DESCRIPTION:Grown-ups get their own time on the courts with dedicated Adult Open Play sessions featuring pickleball\, basketball\, futsal (indoor soccer)\, pickleball\, and volleyball. A great way to stay active\, play socially\, and enjoy our sports facilities without joining a league. \nLearn More & Register: \nhttps://ecom.roller.app/oodazudecatur/openplay/en-us/products
URL:https://cluboodazu.com/program/adult-open-play-weeknight/2026-05-28/
LOCATION:Club OODAZU\, 421 Dekalb Industrial Way\, Decatur\, Georgia\, 30030\, United States
CATEGORIES:Adult Open Play,Open Play
END:VEVENT
BEGIN:VEVENT
DTSTART;TZID=America/New_York:20260529T180000
DTEND;TZID=America/New_York:20260529T210000
DTSTAMP:20260423T203824
CREATED:20260115T035400Z
LAST-MODIFIED:20260407T161922Z
UID:10016684-1780077600-1780088400@cluboodazu.com
SUMMARY:Adult Open Play - Weeknight
DESCRIPTION:Grown-ups get their own time on the courts with dedicated Adult Open Play sessions featuring pickleball\, basketball\, futsal (indoor soccer)\, pickleball\, and volleyball. A great way to stay active\, play socially\, and enjoy our sports facilities without joining a league. \nLearn More & Register: \nhttps://ecom.roller.app/oodazudecatur/openplay/en-us/products
URL:https://cluboodazu.com/program/adult-open-play-weeknight/2026-05-29/
LOCATION:Club OODAZU\, 421 Dekalb Industrial Way\, Decatur\, Georgia\, 30030\, United States
CATEGORIES:Adult Open Play,Open Play
END:VEVENT
BEGIN:VEVENT
DTSTART;TZID=America/New_York:20260530T090000
DTEND;TZID=America/New_York:20260530T200000
DTSTAMP:20260423T203824
CREATED:20260115T035747Z
LAST-MODIFIED:20260129T213307Z
UID:10016334-1780131600-1780171200@cluboodazu.com
SUMMARY:Adult Open Play - Saturdays
DESCRIPTION:Grown-ups get their own time on the courts with dedicated Adult Open Play sessions featuring pickleball\, basketball\, and futsal (indoor soccer). A great way to stay active\, play socially\, and enjoy our sports facilities without joining a league. \nLearn More & Register: \nhttps://ecom.roller.app/oodazudecatur/openplay/en-us/products
URL:https://cluboodazu.com/program/adult-open-play-saturday/2026-05-30/
LOCATION:Club OODAZU\, 421 Dekalb Industrial Way\, Decatur\, Georgia\, 30030\, United States
CATEGORIES:Adult Open Play,Open Play
END:VEVENT
BEGIN:VEVENT
DTSTART;TZID=America/New_York:20260531T100000
DTEND;TZID=America/New_York:20260531T180000
DTSTAMP:20260423T203824
CREATED:20260115T040045Z
LAST-MODIFIED:20260407T162040Z
UID:10019586-1780221600-1780250400@cluboodazu.com
SUMMARY:Adult Open Play - Sundays
DESCRIPTION:Grown-ups get their own time on the courts with dedicated Adult Open Play sessions featuring pickleball\, basketball\, and futsal (indoor soccer). A great way to stay active\, play socially\, and enjoy our sports facilities without joining a league. \nLearn More & Register: \nhttps://ecom.roller.app/oodazudecatur/openplay/en-us/products
URL:https://cluboodazu.com/program/adult-open-play-sundays/2026-05-31/
LOCATION:Club OODAZU\, 421 Dekalb Industrial Way\, Decatur\, Georgia\, 30030\, United States
CATEGORIES:Adult Open Play,Open Play
END:VEVENT
BEGIN:VEVENT
DTSTART;TZID=America/New_York:20260601T180000
DTEND;TZID=America/New_York:20260601T210000
DTSTAMP:20260423T203824
CREATED:20260115T035400Z
LAST-MODIFIED:20260407T161922Z
UID:10016685-1780336800-1780347600@cluboodazu.com
SUMMARY:Adult Open Play - Weeknight
DESCRIPTION:Grown-ups get their own time on the courts with dedicated Adult Open Play sessions featuring pickleball\, basketball\, futsal (indoor soccer)\, pickleball\, and volleyball. A great way to stay active\, play socially\, and enjoy our sports facilities without joining a league. \nLearn More & Register: \nhttps://ecom.roller.app/oodazudecatur/openplay/en-us/products
URL:https://cluboodazu.com/program/adult-open-play-weeknight/2026-06-01/
LOCATION:Club OODAZU\, 421 Dekalb Industrial Way\, Decatur\, Georgia\, 30030\, United States
CATEGORIES:Adult Open Play,Open Play
END:VEVENT
BEGIN:VEVENT
DTSTART;TZID=America/New_York:20260602T180000
DTEND;TZID=America/New_York:20260602T210000
DTSTAMP:20260423T203824
CREATED:20260115T035400Z
LAST-MODIFIED:20260407T161922Z
UID:10016686-1780423200-1780434000@cluboodazu.com
SUMMARY:Adult Open Play - Weeknight
DESCRIPTION:Grown-ups get their own time on the courts with dedicated Adult Open Play sessions featuring pickleball\, basketball\, futsal (indoor soccer)\, pickleball\, and volleyball. A great way to stay active\, play socially\, and enjoy our sports facilities without joining a league. \nLearn More & Register: \nhttps://ecom.roller.app/oodazudecatur/openplay/en-us/products
URL:https://cluboodazu.com/program/adult-open-play-weeknight/2026-06-02/
LOCATION:Club OODAZU\, 421 Dekalb Industrial Way\, Decatur\, Georgia\, 30030\, United States
CATEGORIES:Adult Open Play,Open Play
END:VEVENT
BEGIN:VEVENT
DTSTART;TZID=America/New_York:20260603T180000
DTEND;TZID=America/New_York:20260603T210000
DTSTAMP:20260423T203824
CREATED:20260115T035400Z
LAST-MODIFIED:20260407T161922Z
UID:10016687-1780509600-1780520400@cluboodazu.com
SUMMARY:Adult Open Play - Weeknight
DESCRIPTION:Grown-ups get their own time on the courts with dedicated Adult Open Play sessions featuring pickleball\, basketball\, futsal (indoor soccer)\, pickleball\, and volleyball. A great way to stay active\, play socially\, and enjoy our sports facilities without joining a league. \nLearn More & Register: \nhttps://ecom.roller.app/oodazudecatur/openplay/en-us/products
URL:https://cluboodazu.com/program/adult-open-play-weeknight/2026-06-03/
LOCATION:Club OODAZU\, 421 Dekalb Industrial Way\, Decatur\, Georgia\, 30030\, United States
CATEGORIES:Adult Open Play,Open Play
END:VEVENT
BEGIN:VEVENT
DTSTART;TZID=America/New_York:20260604T180000
DTEND;TZID=America/New_York:20260604T210000
DTSTAMP:20260423T203824
CREATED:20260115T035400Z
LAST-MODIFIED:20260407T161922Z
UID:10016688-1780596000-1780606800@cluboodazu.com
SUMMARY:Adult Open Play - Weeknight
DESCRIPTION:Grown-ups get their own time on the courts with dedicated Adult Open Play sessions featuring pickleball\, basketball\, futsal (indoor soccer)\, pickleball\, and volleyball. A great way to stay active\, play socially\, and enjoy our sports facilities without joining a league. \nLearn More & Register: \nhttps://ecom.roller.app/oodazudecatur/openplay/en-us/products
URL:https://cluboodazu.com/program/adult-open-play-weeknight/2026-06-04/
LOCATION:Club OODAZU\, 421 Dekalb Industrial Way\, Decatur\, Georgia\, 30030\, United States
CATEGORIES:Adult Open Play,Open Play
END:VEVENT
BEGIN:VEVENT
DTSTART;TZID=America/New_York:20260605T180000
DTEND;TZID=America/New_York:20260605T210000
DTSTAMP:20260423T203824
CREATED:20260115T035400Z
LAST-MODIFIED:20260407T161922Z
UID:10016689-1780682400-1780693200@cluboodazu.com
SUMMARY:Adult Open Play - Weeknight
DESCRIPTION:Grown-ups get their own time on the courts with dedicated Adult Open Play sessions featuring pickleball\, basketball\, futsal (indoor soccer)\, pickleball\, and volleyball. A great way to stay active\, play socially\, and enjoy our sports facilities without joining a league. \nLearn More & Register: \nhttps://ecom.roller.app/oodazudecatur/openplay/en-us/products
URL:https://cluboodazu.com/program/adult-open-play-weeknight/2026-06-05/
LOCATION:Club OODAZU\, 421 Dekalb Industrial Way\, Decatur\, Georgia\, 30030\, United States
CATEGORIES:Adult Open Play,Open Play
END:VEVENT
BEGIN:VEVENT
DTSTART;TZID=America/New_York:20260606T090000
DTEND;TZID=America/New_York:20260606T200000
DTSTAMP:20260423T203824
CREATED:20260115T035747Z
LAST-MODIFIED:20260129T213307Z
UID:10016335-1780736400-1780776000@cluboodazu.com
SUMMARY:Adult Open Play - Saturdays
DESCRIPTION:Grown-ups get their own time on the courts with dedicated Adult Open Play sessions featuring pickleball\, basketball\, and futsal (indoor soccer). A great way to stay active\, play socially\, and enjoy our sports facilities without joining a league. \nLearn More & Register: \nhttps://ecom.roller.app/oodazudecatur/openplay/en-us/products
URL:https://cluboodazu.com/program/adult-open-play-saturday/2026-06-06/
LOCATION:Club OODAZU\, 421 Dekalb Industrial Way\, Decatur\, Georgia\, 30030\, United States
CATEGORIES:Adult Open Play,Open Play
END:VEVENT
BEGIN:VEVENT
DTSTART;TZID=America/New_York:20260607T100000
DTEND;TZID=America/New_York:20260607T180000
DTSTAMP:20260423T203824
CREATED:20260115T040045Z
LAST-MODIFIED:20260407T162040Z
UID:10019587-1780826400-1780855200@cluboodazu.com
SUMMARY:Adult Open Play - Sundays
DESCRIPTION:Grown-ups get their own time on the courts with dedicated Adult Open Play sessions featuring pickleball\, basketball\, and futsal (indoor soccer). A great way to stay active\, play socially\, and enjoy our sports facilities without joining a league. \nLearn More & Register: \nhttps://ecom.roller.app/oodazudecatur/openplay/en-us/products
URL:https://cluboodazu.com/program/adult-open-play-sundays/2026-06-07/
LOCATION:Club OODAZU\, 421 Dekalb Industrial Way\, Decatur\, Georgia\, 30030\, United States
CATEGORIES:Adult Open Play,Open Play
END:VEVENT
BEGIN:VEVENT
DTSTART;TZID=America/New_York:20260608T180000
DTEND;TZID=America/New_York:20260608T210000
DTSTAMP:20260423T203824
CREATED:20260115T035400Z
LAST-MODIFIED:20260407T161922Z
UID:10016690-1780941600-1780952400@cluboodazu.com
SUMMARY:Adult Open Play - Weeknight
DESCRIPTION:Grown-ups get their own time on the courts with dedicated Adult Open Play sessions featuring pickleball\, basketball\, futsal (indoor soccer)\, pickleball\, and volleyball. A great way to stay active\, play socially\, and enjoy our sports facilities without joining a league. \nLearn More & Register: \nhttps://ecom.roller.app/oodazudecatur/openplay/en-us/products
URL:https://cluboodazu.com/program/adult-open-play-weeknight/2026-06-08/
LOCATION:Club OODAZU\, 421 Dekalb Industrial Way\, Decatur\, Georgia\, 30030\, United States
CATEGORIES:Adult Open Play,Open Play
END:VEVENT
BEGIN:VEVENT
DTSTART;TZID=America/New_York:20260609T180000
DTEND;TZID=America/New_York:20260609T210000
DTSTAMP:20260423T203824
CREATED:20260115T035400Z
LAST-MODIFIED:20260407T161922Z
UID:10016691-1781028000-1781038800@cluboodazu.com
SUMMARY:Adult Open Play - Weeknight
DESCRIPTION:Grown-ups get their own time on the courts with dedicated Adult Open Play sessions featuring pickleball\, basketball\, futsal (indoor soccer)\, pickleball\, and volleyball. A great way to stay active\, play socially\, and enjoy our sports facilities without joining a league. \nLearn More & Register: \nhttps://ecom.roller.app/oodazudecatur/openplay/en-us/products
URL:https://cluboodazu.com/program/adult-open-play-weeknight/2026-06-09/
LOCATION:Club OODAZU\, 421 Dekalb Industrial Way\, Decatur\, Georgia\, 30030\, United States
CATEGORIES:Adult Open Play,Open Play
END:VEVENT
BEGIN:VEVENT
DTSTART;TZID=America/New_York:20260610T180000
DTEND;TZID=America/New_York:20260610T210000
DTSTAMP:20260423T203824
CREATED:20260115T035400Z
LAST-MODIFIED:20260407T161922Z
UID:10016692-1781114400-1781125200@cluboodazu.com
SUMMARY:Adult Open Play - Weeknight
DESCRIPTION:Grown-ups get their own time on the courts with dedicated Adult Open Play sessions featuring pickleball\, basketball\, futsal (indoor soccer)\, pickleball\, and volleyball. A great way to stay active\, play socially\, and enjoy our sports facilities without joining a league. \nLearn More & Register: \nhttps://ecom.roller.app/oodazudecatur/openplay/en-us/products
URL:https://cluboodazu.com/program/adult-open-play-weeknight/2026-06-10/
LOCATION:Club OODAZU\, 421 Dekalb Industrial Way\, Decatur\, Georgia\, 30030\, United States
CATEGORIES:Adult Open Play,Open Play
END:VEVENT
BEGIN:VEVENT
DTSTART;TZID=America/New_York:20260611T180000
DTEND;TZID=America/New_York:20260611T210000
DTSTAMP:20260423T203824
CREATED:20260115T035400Z
LAST-MODIFIED:20260407T161922Z
UID:10016693-1781200800-1781211600@cluboodazu.com
SUMMARY:Adult Open Play - Weeknight
DESCRIPTION:Grown-ups get their own time on the courts with dedicated Adult Open Play sessions featuring pickleball\, basketball\, futsal (indoor soccer)\, pickleball\, and volleyball. A great way to stay active\, play socially\, and enjoy our sports facilities without joining a league. \nLearn More & Register: \nhttps://ecom.roller.app/oodazudecatur/openplay/en-us/products
URL:https://cluboodazu.com/program/adult-open-play-weeknight/2026-06-11/
LOCATION:Club OODAZU\, 421 Dekalb Industrial Way\, Decatur\, Georgia\, 30030\, United States
CATEGORIES:Adult Open Play,Open Play
END:VEVENT
BEGIN:VEVENT
DTSTART;TZID=America/New_York:20260612T180000
DTEND;TZID=America/New_York:20260612T210000
DTSTAMP:20260423T203824
CREATED:20260115T035400Z
LAST-MODIFIED:20260407T161922Z
UID:10016694-1781287200-1781298000@cluboodazu.com
SUMMARY:Adult Open Play - Weeknight
DESCRIPTION:Grown-ups get their own time on the courts with dedicated Adult Open Play sessions featuring pickleball\, basketball\, futsal (indoor soccer)\, pickleball\, and volleyball. A great way to stay active\, play socially\, and enjoy our sports facilities without joining a league. \nLearn More & Register: \nhttps://ecom.roller.app/oodazudecatur/openplay/en-us/products
URL:https://cluboodazu.com/program/adult-open-play-weeknight/2026-06-12/
LOCATION:Club OODAZU\, 421 Dekalb Industrial Way\, Decatur\, Georgia\, 30030\, United States
CATEGORIES:Adult Open Play,Open Play
END:VEVENT
BEGIN:VEVENT
DTSTART;TZID=America/New_York:20260613T090000
DTEND;TZID=America/New_York:20260613T200000
DTSTAMP:20260423T203824
CREATED:20260115T035747Z
LAST-MODIFIED:20260129T213307Z
UID:10016336-1781341200-1781380800@cluboodazu.com
SUMMARY:Adult Open Play - Saturdays
DESCRIPTION:Grown-ups get their own time on the courts with dedicated Adult Open Play sessions featuring pickleball\, basketball\, and futsal (indoor soccer). A great way to stay active\, play socially\, and enjoy our sports facilities without joining a league. \nLearn More & Register: \nhttps://ecom.roller.app/oodazudecatur/openplay/en-us/products
URL:https://cluboodazu.com/program/adult-open-play-saturday/2026-06-13/
LOCATION:Club OODAZU\, 421 Dekalb Industrial Way\, Decatur\, Georgia\, 30030\, United States
CATEGORIES:Adult Open Play,Open Play
END:VEVENT
BEGIN:VEVENT
DTSTART;TZID=America/New_York:20260614T100000
DTEND;TZID=America/New_York:20260614T180000
DTSTAMP:20260423T203824
CREATED:20260115T040045Z
LAST-MODIFIED:20260407T162040Z
UID:10019588-1781431200-1781460000@cluboodazu.com
SUMMARY:Adult Open Play - Sundays
DESCRIPTION:Grown-ups get their own time on the courts with dedicated Adult Open Play sessions featuring pickleball\, basketball\, and futsal (indoor soccer). A great way to stay active\, play socially\, and enjoy our sports facilities without joining a league. \nLearn More & Register: \nhttps://ecom.roller.app/oodazudecatur/openplay/en-us/products
URL:https://cluboodazu.com/program/adult-open-play-sundays/2026-06-14/
LOCATION:Club OODAZU\, 421 Dekalb Industrial Way\, Decatur\, Georgia\, 30030\, United States
CATEGORIES:Adult Open Play,Open Play
END:VEVENT
BEGIN:VEVENT
DTSTART;TZID=America/New_York:20260615T180000
DTEND;TZID=America/New_York:20260615T210000
DTSTAMP:20260423T203824
CREATED:20260115T035400Z
LAST-MODIFIED:20260407T161922Z
UID:10016695-1781546400-1781557200@cluboodazu.com
SUMMARY:Adult Open Play - Weeknight
DESCRIPTION:Grown-ups get their own time on the courts with dedicated Adult Open Play sessions featuring pickleball\, basketball\, futsal (indoor soccer)\, pickleball\, and volleyball. A great way to stay active\, play socially\, and enjoy our sports facilities without joining a league. \nLearn More & Register: \nhttps://ecom.roller.app/oodazudecatur/openplay/en-us/products
URL:https://cluboodazu.com/program/adult-open-play-weeknight/2026-06-15/
LOCATION:Club OODAZU\, 421 Dekalb Industrial Way\, Decatur\, Georgia\, 30030\, United States
CATEGORIES:Adult Open Play,Open Play
END:VEVENT
BEGIN:VEVENT
DTSTART;TZID=America/New_York:20260616T180000
DTEND;TZID=America/New_York:20260616T210000
DTSTAMP:20260423T203824
CREATED:20260115T035400Z
LAST-MODIFIED:20260407T161922Z
UID:10016696-1781632800-1781643600@cluboodazu.com
SUMMARY:Adult Open Play - Weeknight
DESCRIPTION:Grown-ups get their own time on the courts with dedicated Adult Open Play sessions featuring pickleball\, basketball\, futsal (indoor soccer)\, pickleball\, and volleyball. A great way to stay active\, play socially\, and enjoy our sports facilities without joining a league. \nLearn More & Register: \nhttps://ecom.roller.app/oodazudecatur/openplay/en-us/products
URL:https://cluboodazu.com/program/adult-open-play-weeknight/2026-06-16/
LOCATION:Club OODAZU\, 421 Dekalb Industrial Way\, Decatur\, Georgia\, 30030\, United States
CATEGORIES:Adult Open Play,Open Play
END:VEVENT
BEGIN:VEVENT
DTSTART;TZID=America/New_York:20260617T180000
DTEND;TZID=America/New_York:20260617T210000
DTSTAMP:20260423T203824
CREATED:20260115T035400Z
LAST-MODIFIED:20260407T161922Z
UID:10016697-1781719200-1781730000@cluboodazu.com
SUMMARY:Adult Open Play - Weeknight
DESCRIPTION:Grown-ups get their own time on the courts with dedicated Adult Open Play sessions featuring pickleball\, basketball\, futsal (indoor soccer)\, pickleball\, and volleyball. A great way to stay active\, play socially\, and enjoy our sports facilities without joining a league. \nLearn More & Register: \nhttps://ecom.roller.app/oodazudecatur/openplay/en-us/products
URL:https://cluboodazu.com/program/adult-open-play-weeknight/2026-06-17/
LOCATION:Club OODAZU\, 421 Dekalb Industrial Way\, Decatur\, Georgia\, 30030\, United States
CATEGORIES:Adult Open Play,Open Play
END:VEVENT
BEGIN:VEVENT
DTSTART;TZID=America/New_York:20260618T180000
DTEND;TZID=America/New_York:20260618T210000
DTSTAMP:20260423T203824
CREATED:20260115T035400Z
LAST-MODIFIED:20260407T161922Z
UID:10016698-1781805600-1781816400@cluboodazu.com
SUMMARY:Adult Open Play - Weeknight
DESCRIPTION:Grown-ups get their own time on the courts with dedicated Adult Open Play sessions featuring pickleball\, basketball\, futsal (indoor soccer)\, pickleball\, and volleyball. A great way to stay active\, play socially\, and enjoy our sports facilities without joining a league. \nLearn More & Register: \nhttps://ecom.roller.app/oodazudecatur/openplay/en-us/products
URL:https://cluboodazu.com/program/adult-open-play-weeknight/2026-06-18/
LOCATION:Club OODAZU\, 421 Dekalb Industrial Way\, Decatur\, Georgia\, 30030\, United States
CATEGORIES:Adult Open Play,Open Play
END:VEVENT
BEGIN:VEVENT
DTSTART;TZID=America/New_York:20260619T180000
DTEND;TZID=America/New_York:20260619T210000
DTSTAMP:20260423T203824
CREATED:20260115T035400Z
LAST-MODIFIED:20260407T161922Z
UID:10016699-1781892000-1781902800@cluboodazu.com
SUMMARY:Adult Open Play - Weeknight
DESCRIPTION:Grown-ups get their own time on the courts with dedicated Adult Open Play sessions featuring pickleball\, basketball\, futsal (indoor soccer)\, pickleball\, and volleyball. A great way to stay active\, play socially\, and enjoy our sports facilities without joining a league. \nLearn More & Register: \nhttps://ecom.roller.app/oodazudecatur/openplay/en-us/products
URL:https://cluboodazu.com/program/adult-open-play-weeknight/2026-06-19/
LOCATION:Club OODAZU\, 421 Dekalb Industrial Way\, Decatur\, Georgia\, 30030\, United States
CATEGORIES:Adult Open Play,Open Play
END:VEVENT
BEGIN:VEVENT
DTSTART;TZID=America/New_York:20260620T090000
DTEND;TZID=America/New_York:20260620T200000
DTSTAMP:20260423T203824
CREATED:20260115T035747Z
LAST-MODIFIED:20260129T213307Z
UID:10016337-1781946000-1781985600@cluboodazu.com
SUMMARY:Adult Open Play - Saturdays
DESCRIPTION:Grown-ups get their own time on the courts with dedicated Adult Open Play sessions featuring pickleball\, basketball\, and futsal (indoor soccer). A great way to stay active\, play socially\, and enjoy our sports facilities without joining a league. \nLearn More & Register: \nhttps://ecom.roller.app/oodazudecatur/openplay/en-us/products
URL:https://cluboodazu.com/program/adult-open-play-saturday/2026-06-20/
LOCATION:Club OODAZU\, 421 Dekalb Industrial Way\, Decatur\, Georgia\, 30030\, United States
CATEGORIES:Adult Open Play,Open Play
END:VEVENT
BEGIN:VEVENT
DTSTART;TZID=America/New_York:20260621T100000
DTEND;TZID=America/New_York:20260621T180000
DTSTAMP:20260423T203824
CREATED:20260115T040045Z
LAST-MODIFIED:20260407T162040Z
UID:10019589-1782036000-1782064800@cluboodazu.com
SUMMARY:Adult Open Play - Sundays
DESCRIPTION:Grown-ups get their own time on the courts with dedicated Adult Open Play sessions featuring pickleball\, basketball\, and futsal (indoor soccer). A great way to stay active\, play socially\, and enjoy our sports facilities without joining a league. \nLearn More & Register: \nhttps://ecom.roller.app/oodazudecatur/openplay/en-us/products
URL:https://cluboodazu.com/program/adult-open-play-sundays/2026-06-21/
LOCATION:Club OODAZU\, 421 Dekalb Industrial Way\, Decatur\, Georgia\, 30030\, United States
CATEGORIES:Adult Open Play,Open Play
END:VEVENT
BEGIN:VEVENT
DTSTART;TZID=America/New_York:20260622T180000
DTEND;TZID=America/New_York:20260622T210000
DTSTAMP:20260423T203824
CREATED:20260115T035400Z
LAST-MODIFIED:20260407T161922Z
UID:10016700-1782151200-1782162000@cluboodazu.com
SUMMARY:Adult Open Play - Weeknight
DESCRIPTION:Grown-ups get their own time on the courts with dedicated Adult Open Play sessions featuring pickleball\, basketball\, futsal (indoor soccer)\, pickleball\, and volleyball. A great way to stay active\, play socially\, and enjoy our sports facilities without joining a league. \nLearn More & Register: \nhttps://ecom.roller.app/oodazudecatur/openplay/en-us/products
URL:https://cluboodazu.com/program/adult-open-play-weeknight/2026-06-22/
LOCATION:Club OODAZU\, 421 Dekalb Industrial Way\, Decatur\, Georgia\, 30030\, United States
CATEGORIES:Adult Open Play,Open Play
END:VEVENT
BEGIN:VEVENT
DTSTART;TZID=America/New_York:20260623T180000
DTEND;TZID=America/New_York:20260623T210000
DTSTAMP:20260423T203824
CREATED:20260115T035400Z
LAST-MODIFIED:20260407T161922Z
UID:10016701-1782237600-1782248400@cluboodazu.com
SUMMARY:Adult Open Play - Weeknight
DESCRIPTION:Grown-ups get their own time on the courts with dedicated Adult Open Play sessions featuring pickleball\, basketball\, futsal (indoor soccer)\, pickleball\, and volleyball. A great way to stay active\, play socially\, and enjoy our sports facilities without joining a league. \nLearn More & Register: \nhttps://ecom.roller.app/oodazudecatur/openplay/en-us/products
URL:https://cluboodazu.com/program/adult-open-play-weeknight/2026-06-23/
LOCATION:Club OODAZU\, 421 Dekalb Industrial Way\, Decatur\, Georgia\, 30030\, United States
CATEGORIES:Adult Open Play,Open Play
END:VEVENT
BEGIN:VEVENT
DTSTART;TZID=America/New_York:20260624T180000
DTEND;TZID=America/New_York:20260624T210000
DTSTAMP:20260423T203824
CREATED:20260115T035400Z
LAST-MODIFIED:20260407T161922Z
UID:10016702-1782324000-1782334800@cluboodazu.com
SUMMARY:Adult Open Play - Weeknight
DESCRIPTION:Grown-ups get their own time on the courts with dedicated Adult Open Play sessions featuring pickleball\, basketball\, futsal (indoor soccer)\, pickleball\, and volleyball. A great way to stay active\, play socially\, and enjoy our sports facilities without joining a league. \nLearn More & Register: \nhttps://ecom.roller.app/oodazudecatur/openplay/en-us/products
URL:https://cluboodazu.com/program/adult-open-play-weeknight/2026-06-24/
LOCATION:Club OODAZU\, 421 Dekalb Industrial Way\, Decatur\, Georgia\, 30030\, United States
CATEGORIES:Adult Open Play,Open Play
END:VEVENT
END:VCALENDAR