BEGIN:VCALENDAR
VERSION:2.0
PRODID:-//Club OODAZU - ECPv6.15.18//NONSGML v1.0//EN
CALSCALE:GREGORIAN
METHOD:PUBLISH
X-WR-CALNAME:Club OODAZU
X-ORIGINAL-URL:https://cluboodazu.com
X-WR-CALDESC:Events for Club OODAZU
REFRESH-INTERVAL;VALUE=DURATION:PT1H
X-Robots-Tag:noindex
X-PUBLISHED-TTL:PT1H
BEGIN:VTIMEZONE
TZID:America/New_York
BEGIN:DAYLIGHT
TZOFFSETFROM:-0500
TZOFFSETTO:-0400
TZNAME:EDT
DTSTART:20250309T070000
END:DAYLIGHT
BEGIN:STANDARD
TZOFFSETFROM:-0400
TZOFFSETTO:-0500
TZNAME:EST
DTSTART:20251102T060000
END:STANDARD
BEGIN:DAYLIGHT
TZOFFSETFROM:-0500
TZOFFSETTO:-0400
TZNAME:EDT
DTSTART:20260308T070000
END:DAYLIGHT
BEGIN:STANDARD
TZOFFSETFROM:-0400
TZOFFSETTO:-0500
TZNAME:EST
DTSTART:20261101T060000
END:STANDARD
BEGIN:DAYLIGHT
TZOFFSETFROM:-0500
TZOFFSETTO:-0400
TZNAME:EDT
DTSTART:20270314T070000
END:DAYLIGHT
BEGIN:STANDARD
TZOFFSETFROM:-0400
TZOFFSETTO:-0500
TZNAME:EST
DTSTART:20271107T060000
END:STANDARD
END:VTIMEZONE
BEGIN:VEVENT
DTSTART;TZID=America/New_York:20260714T180000
DTEND;TZID=America/New_York:20260714T210000
DTSTAMP:20260424T015816
CREATED:20260115T035400Z
LAST-MODIFIED:20260407T161922Z
UID:10016716-1784052000-1784062800@cluboodazu.com
SUMMARY:Adult Open Play - Weeknight
DESCRIPTION:Grown-ups get their own time on the courts with dedicated Adult Open Play sessions featuring pickleball\, basketball\, futsal (indoor soccer)\, pickleball\, and volleyball. A great way to stay active\, play socially\, and enjoy our sports facilities without joining a league. \nLearn More & Register: \nhttps://ecom.roller.app/oodazudecatur/openplay/en-us/products
URL:https://cluboodazu.com/program/adult-open-play-weeknight/2026-07-14/
LOCATION:Club OODAZU\, 421 Dekalb Industrial Way\, Decatur\, Georgia\, 30030\, United States
CATEGORIES:Adult Open Play,Open Play
END:VEVENT
BEGIN:VEVENT
DTSTART;TZID=America/New_York:20260715T180000
DTEND;TZID=America/New_York:20260715T210000
DTSTAMP:20260424T015816
CREATED:20260115T035400Z
LAST-MODIFIED:20260407T161922Z
UID:10016717-1784138400-1784149200@cluboodazu.com
SUMMARY:Adult Open Play - Weeknight
DESCRIPTION:Grown-ups get their own time on the courts with dedicated Adult Open Play sessions featuring pickleball\, basketball\, futsal (indoor soccer)\, pickleball\, and volleyball. A great way to stay active\, play socially\, and enjoy our sports facilities without joining a league. \nLearn More & Register: \nhttps://ecom.roller.app/oodazudecatur/openplay/en-us/products
URL:https://cluboodazu.com/program/adult-open-play-weeknight/2026-07-15/
LOCATION:Club OODAZU\, 421 Dekalb Industrial Way\, Decatur\, Georgia\, 30030\, United States
CATEGORIES:Adult Open Play,Open Play
END:VEVENT
BEGIN:VEVENT
DTSTART;TZID=America/New_York:20260716T180000
DTEND;TZID=America/New_York:20260716T210000
DTSTAMP:20260424T015816
CREATED:20260115T035400Z
LAST-MODIFIED:20260407T161922Z
UID:10016718-1784224800-1784235600@cluboodazu.com
SUMMARY:Adult Open Play - Weeknight
DESCRIPTION:Grown-ups get their own time on the courts with dedicated Adult Open Play sessions featuring pickleball\, basketball\, futsal (indoor soccer)\, pickleball\, and volleyball. A great way to stay active\, play socially\, and enjoy our sports facilities without joining a league. \nLearn More & Register: \nhttps://ecom.roller.app/oodazudecatur/openplay/en-us/products
URL:https://cluboodazu.com/program/adult-open-play-weeknight/2026-07-16/
LOCATION:Club OODAZU\, 421 Dekalb Industrial Way\, Decatur\, Georgia\, 30030\, United States
CATEGORIES:Adult Open Play,Open Play
END:VEVENT
BEGIN:VEVENT
DTSTART;TZID=America/New_York:20260717T180000
DTEND;TZID=America/New_York:20260717T210000
DTSTAMP:20260424T015816
CREATED:20260115T035400Z
LAST-MODIFIED:20260407T161922Z
UID:10016719-1784311200-1784322000@cluboodazu.com
SUMMARY:Adult Open Play - Weeknight
DESCRIPTION:Grown-ups get their own time on the courts with dedicated Adult Open Play sessions featuring pickleball\, basketball\, futsal (indoor soccer)\, pickleball\, and volleyball. A great way to stay active\, play socially\, and enjoy our sports facilities without joining a league. \nLearn More & Register: \nhttps://ecom.roller.app/oodazudecatur/openplay/en-us/products
URL:https://cluboodazu.com/program/adult-open-play-weeknight/2026-07-17/
LOCATION:Club OODAZU\, 421 Dekalb Industrial Way\, Decatur\, Georgia\, 30030\, United States
CATEGORIES:Adult Open Play,Open Play
END:VEVENT
BEGIN:VEVENT
DTSTART;TZID=America/New_York:20260718T090000
DTEND;TZID=America/New_York:20260718T200000
DTSTAMP:20260424T015816
CREATED:20260115T035747Z
LAST-MODIFIED:20260129T213307Z
UID:10016341-1784365200-1784404800@cluboodazu.com
SUMMARY:Adult Open Play - Saturdays
DESCRIPTION:Grown-ups get their own time on the courts with dedicated Adult Open Play sessions featuring pickleball\, basketball\, and futsal (indoor soccer). A great way to stay active\, play socially\, and enjoy our sports facilities without joining a league. \nLearn More & Register: \nhttps://ecom.roller.app/oodazudecatur/openplay/en-us/products
URL:https://cluboodazu.com/program/adult-open-play-saturday/2026-07-18/
LOCATION:Club OODAZU\, 421 Dekalb Industrial Way\, Decatur\, Georgia\, 30030\, United States
CATEGORIES:Adult Open Play,Open Play
END:VEVENT
BEGIN:VEVENT
DTSTART;TZID=America/New_York:20260719T100000
DTEND;TZID=America/New_York:20260719T180000
DTSTAMP:20260424T015816
CREATED:20260115T040045Z
LAST-MODIFIED:20260407T162040Z
UID:10019593-1784455200-1784484000@cluboodazu.com
SUMMARY:Adult Open Play - Sundays
DESCRIPTION:Grown-ups get their own time on the courts with dedicated Adult Open Play sessions featuring pickleball\, basketball\, and futsal (indoor soccer). A great way to stay active\, play socially\, and enjoy our sports facilities without joining a league. \nLearn More & Register: \nhttps://ecom.roller.app/oodazudecatur/openplay/en-us/products
URL:https://cluboodazu.com/program/adult-open-play-sundays/2026-07-19/
LOCATION:Club OODAZU\, 421 Dekalb Industrial Way\, Decatur\, Georgia\, 30030\, United States
CATEGORIES:Adult Open Play,Open Play
END:VEVENT
BEGIN:VEVENT
DTSTART;TZID=America/New_York:20260720T180000
DTEND;TZID=America/New_York:20260720T210000
DTSTAMP:20260424T015816
CREATED:20260115T035400Z
LAST-MODIFIED:20260407T161922Z
UID:10016720-1784570400-1784581200@cluboodazu.com
SUMMARY:Adult Open Play - Weeknight
DESCRIPTION:Grown-ups get their own time on the courts with dedicated Adult Open Play sessions featuring pickleball\, basketball\, futsal (indoor soccer)\, pickleball\, and volleyball. A great way to stay active\, play socially\, and enjoy our sports facilities without joining a league. \nLearn More & Register: \nhttps://ecom.roller.app/oodazudecatur/openplay/en-us/products
URL:https://cluboodazu.com/program/adult-open-play-weeknight/2026-07-20/
LOCATION:Club OODAZU\, 421 Dekalb Industrial Way\, Decatur\, Georgia\, 30030\, United States
CATEGORIES:Adult Open Play,Open Play
END:VEVENT
BEGIN:VEVENT
DTSTART;TZID=America/New_York:20260721T180000
DTEND;TZID=America/New_York:20260721T210000
DTSTAMP:20260424T015816
CREATED:20260115T035400Z
LAST-MODIFIED:20260407T161922Z
UID:10016721-1784656800-1784667600@cluboodazu.com
SUMMARY:Adult Open Play - Weeknight
DESCRIPTION:Grown-ups get their own time on the courts with dedicated Adult Open Play sessions featuring pickleball\, basketball\, futsal (indoor soccer)\, pickleball\, and volleyball. A great way to stay active\, play socially\, and enjoy our sports facilities without joining a league. \nLearn More & Register: \nhttps://ecom.roller.app/oodazudecatur/openplay/en-us/products
URL:https://cluboodazu.com/program/adult-open-play-weeknight/2026-07-21/
LOCATION:Club OODAZU\, 421 Dekalb Industrial Way\, Decatur\, Georgia\, 30030\, United States
CATEGORIES:Adult Open Play,Open Play
END:VEVENT
BEGIN:VEVENT
DTSTART;TZID=America/New_York:20260722T180000
DTEND;TZID=America/New_York:20260722T210000
DTSTAMP:20260424T015816
CREATED:20260115T035400Z
LAST-MODIFIED:20260407T161922Z
UID:10016722-1784743200-1784754000@cluboodazu.com
SUMMARY:Adult Open Play - Weeknight
DESCRIPTION:Grown-ups get their own time on the courts with dedicated Adult Open Play sessions featuring pickleball\, basketball\, futsal (indoor soccer)\, pickleball\, and volleyball. A great way to stay active\, play socially\, and enjoy our sports facilities without joining a league. \nLearn More & Register: \nhttps://ecom.roller.app/oodazudecatur/openplay/en-us/products
URL:https://cluboodazu.com/program/adult-open-play-weeknight/2026-07-22/
LOCATION:Club OODAZU\, 421 Dekalb Industrial Way\, Decatur\, Georgia\, 30030\, United States
CATEGORIES:Adult Open Play,Open Play
END:VEVENT
BEGIN:VEVENT
DTSTART;TZID=America/New_York:20260723T180000
DTEND;TZID=America/New_York:20260723T210000
DTSTAMP:20260424T015816
CREATED:20260115T035400Z
LAST-MODIFIED:20260407T161922Z
UID:10016723-1784829600-1784840400@cluboodazu.com
SUMMARY:Adult Open Play - Weeknight
DESCRIPTION:Grown-ups get their own time on the courts with dedicated Adult Open Play sessions featuring pickleball\, basketball\, futsal (indoor soccer)\, pickleball\, and volleyball. A great way to stay active\, play socially\, and enjoy our sports facilities without joining a league. \nLearn More & Register: \nhttps://ecom.roller.app/oodazudecatur/openplay/en-us/products
URL:https://cluboodazu.com/program/adult-open-play-weeknight/2026-07-23/
LOCATION:Club OODAZU\, 421 Dekalb Industrial Way\, Decatur\, Georgia\, 30030\, United States
CATEGORIES:Adult Open Play,Open Play
END:VEVENT
BEGIN:VEVENT
DTSTART;TZID=America/New_York:20260724T180000
DTEND;TZID=America/New_York:20260724T210000
DTSTAMP:20260424T015816
CREATED:20260115T035400Z
LAST-MODIFIED:20260407T161922Z
UID:10016724-1784916000-1784926800@cluboodazu.com
SUMMARY:Adult Open Play - Weeknight
DESCRIPTION:Grown-ups get their own time on the courts with dedicated Adult Open Play sessions featuring pickleball\, basketball\, futsal (indoor soccer)\, pickleball\, and volleyball. A great way to stay active\, play socially\, and enjoy our sports facilities without joining a league. \nLearn More & Register: \nhttps://ecom.roller.app/oodazudecatur/openplay/en-us/products
URL:https://cluboodazu.com/program/adult-open-play-weeknight/2026-07-24/
LOCATION:Club OODAZU\, 421 Dekalb Industrial Way\, Decatur\, Georgia\, 30030\, United States
CATEGORIES:Adult Open Play,Open Play
END:VEVENT
BEGIN:VEVENT
DTSTART;TZID=America/New_York:20260725T090000
DTEND;TZID=America/New_York:20260725T200000
DTSTAMP:20260424T015816
CREATED:20260115T035747Z
LAST-MODIFIED:20260129T213307Z
UID:10016342-1784970000-1785009600@cluboodazu.com
SUMMARY:Adult Open Play - Saturdays
DESCRIPTION:Grown-ups get their own time on the courts with dedicated Adult Open Play sessions featuring pickleball\, basketball\, and futsal (indoor soccer). A great way to stay active\, play socially\, and enjoy our sports facilities without joining a league. \nLearn More & Register: \nhttps://ecom.roller.app/oodazudecatur/openplay/en-us/products
URL:https://cluboodazu.com/program/adult-open-play-saturday/2026-07-25/
LOCATION:Club OODAZU\, 421 Dekalb Industrial Way\, Decatur\, Georgia\, 30030\, United States
CATEGORIES:Adult Open Play,Open Play
END:VEVENT
BEGIN:VEVENT
DTSTART;TZID=America/New_York:20260726T100000
DTEND;TZID=America/New_York:20260726T180000
DTSTAMP:20260424T015816
CREATED:20260115T040045Z
LAST-MODIFIED:20260407T162040Z
UID:10019594-1785060000-1785088800@cluboodazu.com
SUMMARY:Adult Open Play - Sundays
DESCRIPTION:Grown-ups get their own time on the courts with dedicated Adult Open Play sessions featuring pickleball\, basketball\, and futsal (indoor soccer). A great way to stay active\, play socially\, and enjoy our sports facilities without joining a league. \nLearn More & Register: \nhttps://ecom.roller.app/oodazudecatur/openplay/en-us/products
URL:https://cluboodazu.com/program/adult-open-play-sundays/2026-07-26/
LOCATION:Club OODAZU\, 421 Dekalb Industrial Way\, Decatur\, Georgia\, 30030\, United States
CATEGORIES:Adult Open Play,Open Play
END:VEVENT
BEGIN:VEVENT
DTSTART;TZID=America/New_York:20260727T180000
DTEND;TZID=America/New_York:20260727T210000
DTSTAMP:20260424T015816
CREATED:20260115T035400Z
LAST-MODIFIED:20260407T161922Z
UID:10016725-1785175200-1785186000@cluboodazu.com
SUMMARY:Adult Open Play - Weeknight
DESCRIPTION:Grown-ups get their own time on the courts with dedicated Adult Open Play sessions featuring pickleball\, basketball\, futsal (indoor soccer)\, pickleball\, and volleyball. A great way to stay active\, play socially\, and enjoy our sports facilities without joining a league. \nLearn More & Register: \nhttps://ecom.roller.app/oodazudecatur/openplay/en-us/products
URL:https://cluboodazu.com/program/adult-open-play-weeknight/2026-07-27/
LOCATION:Club OODAZU\, 421 Dekalb Industrial Way\, Decatur\, Georgia\, 30030\, United States
CATEGORIES:Adult Open Play,Open Play
END:VEVENT
BEGIN:VEVENT
DTSTART;TZID=America/New_York:20260728T180000
DTEND;TZID=America/New_York:20260728T210000
DTSTAMP:20260424T015816
CREATED:20260115T035400Z
LAST-MODIFIED:20260407T161922Z
UID:10016726-1785261600-1785272400@cluboodazu.com
SUMMARY:Adult Open Play - Weeknight
DESCRIPTION:Grown-ups get their own time on the courts with dedicated Adult Open Play sessions featuring pickleball\, basketball\, futsal (indoor soccer)\, pickleball\, and volleyball. A great way to stay active\, play socially\, and enjoy our sports facilities without joining a league. \nLearn More & Register: \nhttps://ecom.roller.app/oodazudecatur/openplay/en-us/products
URL:https://cluboodazu.com/program/adult-open-play-weeknight/2026-07-28/
LOCATION:Club OODAZU\, 421 Dekalb Industrial Way\, Decatur\, Georgia\, 30030\, United States
CATEGORIES:Adult Open Play,Open Play
END:VEVENT
BEGIN:VEVENT
DTSTART;TZID=America/New_York:20260729T180000
DTEND;TZID=America/New_York:20260729T210000
DTSTAMP:20260424T015816
CREATED:20260115T035400Z
LAST-MODIFIED:20260407T161922Z
UID:10016727-1785348000-1785358800@cluboodazu.com
SUMMARY:Adult Open Play - Weeknight
DESCRIPTION:Grown-ups get their own time on the courts with dedicated Adult Open Play sessions featuring pickleball\, basketball\, futsal (indoor soccer)\, pickleball\, and volleyball. A great way to stay active\, play socially\, and enjoy our sports facilities without joining a league. \nLearn More & Register: \nhttps://ecom.roller.app/oodazudecatur/openplay/en-us/products
URL:https://cluboodazu.com/program/adult-open-play-weeknight/2026-07-29/
LOCATION:Club OODAZU\, 421 Dekalb Industrial Way\, Decatur\, Georgia\, 30030\, United States
CATEGORIES:Adult Open Play,Open Play
END:VEVENT
BEGIN:VEVENT
DTSTART;TZID=America/New_York:20260730T180000
DTEND;TZID=America/New_York:20260730T210000
DTSTAMP:20260424T015816
CREATED:20260115T035400Z
LAST-MODIFIED:20260407T161922Z
UID:10016728-1785434400-1785445200@cluboodazu.com
SUMMARY:Adult Open Play - Weeknight
DESCRIPTION:Grown-ups get their own time on the courts with dedicated Adult Open Play sessions featuring pickleball\, basketball\, futsal (indoor soccer)\, pickleball\, and volleyball. A great way to stay active\, play socially\, and enjoy our sports facilities without joining a league. \nLearn More & Register: \nhttps://ecom.roller.app/oodazudecatur/openplay/en-us/products
URL:https://cluboodazu.com/program/adult-open-play-weeknight/2026-07-30/
LOCATION:Club OODAZU\, 421 Dekalb Industrial Way\, Decatur\, Georgia\, 30030\, United States
CATEGORIES:Adult Open Play,Open Play
END:VEVENT
BEGIN:VEVENT
DTSTART;TZID=America/New_York:20260731T180000
DTEND;TZID=America/New_York:20260731T210000
DTSTAMP:20260424T015816
CREATED:20260115T035400Z
LAST-MODIFIED:20260407T161922Z
UID:10016729-1785520800-1785531600@cluboodazu.com
SUMMARY:Adult Open Play - Weeknight
DESCRIPTION:Grown-ups get their own time on the courts with dedicated Adult Open Play sessions featuring pickleball\, basketball\, futsal (indoor soccer)\, pickleball\, and volleyball. A great way to stay active\, play socially\, and enjoy our sports facilities without joining a league. \nLearn More & Register: \nhttps://ecom.roller.app/oodazudecatur/openplay/en-us/products
URL:https://cluboodazu.com/program/adult-open-play-weeknight/2026-07-31/
LOCATION:Club OODAZU\, 421 Dekalb Industrial Way\, Decatur\, Georgia\, 30030\, United States
CATEGORIES:Adult Open Play,Open Play
END:VEVENT
BEGIN:VEVENT
DTSTART;TZID=America/New_York:20260801T090000
DTEND;TZID=America/New_York:20260801T200000
DTSTAMP:20260424T015816
CREATED:20260115T035747Z
LAST-MODIFIED:20260129T213307Z
UID:10016343-1785574800-1785614400@cluboodazu.com
SUMMARY:Adult Open Play - Saturdays
DESCRIPTION:Grown-ups get their own time on the courts with dedicated Adult Open Play sessions featuring pickleball\, basketball\, and futsal (indoor soccer). A great way to stay active\, play socially\, and enjoy our sports facilities without joining a league. \nLearn More & Register: \nhttps://ecom.roller.app/oodazudecatur/openplay/en-us/products
URL:https://cluboodazu.com/program/adult-open-play-saturday/2026-08-01/
LOCATION:Club OODAZU\, 421 Dekalb Industrial Way\, Decatur\, Georgia\, 30030\, United States
CATEGORIES:Adult Open Play,Open Play
END:VEVENT
BEGIN:VEVENT
DTSTART;TZID=America/New_York:20260802T100000
DTEND;TZID=America/New_York:20260802T180000
DTSTAMP:20260424T015816
CREATED:20260115T040045Z
LAST-MODIFIED:20260407T162040Z
UID:10019595-1785664800-1785693600@cluboodazu.com
SUMMARY:Adult Open Play - Sundays
DESCRIPTION:Grown-ups get their own time on the courts with dedicated Adult Open Play sessions featuring pickleball\, basketball\, and futsal (indoor soccer). A great way to stay active\, play socially\, and enjoy our sports facilities without joining a league. \nLearn More & Register: \nhttps://ecom.roller.app/oodazudecatur/openplay/en-us/products
URL:https://cluboodazu.com/program/adult-open-play-sundays/2026-08-02/
LOCATION:Club OODAZU\, 421 Dekalb Industrial Way\, Decatur\, Georgia\, 30030\, United States
CATEGORIES:Adult Open Play,Open Play
END:VEVENT
BEGIN:VEVENT
DTSTART;TZID=America/New_York:20260803T180000
DTEND;TZID=America/New_York:20260803T210000
DTSTAMP:20260424T015816
CREATED:20260115T035400Z
LAST-MODIFIED:20260407T161922Z
UID:10016730-1785780000-1785790800@cluboodazu.com
SUMMARY:Adult Open Play - Weeknight
DESCRIPTION:Grown-ups get their own time on the courts with dedicated Adult Open Play sessions featuring pickleball\, basketball\, futsal (indoor soccer)\, pickleball\, and volleyball. A great way to stay active\, play socially\, and enjoy our sports facilities without joining a league. \nLearn More & Register: \nhttps://ecom.roller.app/oodazudecatur/openplay/en-us/products
URL:https://cluboodazu.com/program/adult-open-play-weeknight/2026-08-03/
LOCATION:Club OODAZU\, 421 Dekalb Industrial Way\, Decatur\, Georgia\, 30030\, United States
CATEGORIES:Adult Open Play,Open Play
END:VEVENT
BEGIN:VEVENT
DTSTART;TZID=America/New_York:20260804T180000
DTEND;TZID=America/New_York:20260804T210000
DTSTAMP:20260424T015816
CREATED:20260115T035400Z
LAST-MODIFIED:20260407T161922Z
UID:10016731-1785866400-1785877200@cluboodazu.com
SUMMARY:Adult Open Play - Weeknight
DESCRIPTION:Grown-ups get their own time on the courts with dedicated Adult Open Play sessions featuring pickleball\, basketball\, futsal (indoor soccer)\, pickleball\, and volleyball. A great way to stay active\, play socially\, and enjoy our sports facilities without joining a league. \nLearn More & Register: \nhttps://ecom.roller.app/oodazudecatur/openplay/en-us/products
URL:https://cluboodazu.com/program/adult-open-play-weeknight/2026-08-04/
LOCATION:Club OODAZU\, 421 Dekalb Industrial Way\, Decatur\, Georgia\, 30030\, United States
CATEGORIES:Adult Open Play,Open Play
END:VEVENT
BEGIN:VEVENT
DTSTART;TZID=America/New_York:20260805T180000
DTEND;TZID=America/New_York:20260805T210000
DTSTAMP:20260424T015816
CREATED:20260115T035400Z
LAST-MODIFIED:20260407T161922Z
UID:10016732-1785952800-1785963600@cluboodazu.com
SUMMARY:Adult Open Play - Weeknight
DESCRIPTION:Grown-ups get their own time on the courts with dedicated Adult Open Play sessions featuring pickleball\, basketball\, futsal (indoor soccer)\, pickleball\, and volleyball. A great way to stay active\, play socially\, and enjoy our sports facilities without joining a league. \nLearn More & Register: \nhttps://ecom.roller.app/oodazudecatur/openplay/en-us/products
URL:https://cluboodazu.com/program/adult-open-play-weeknight/2026-08-05/
LOCATION:Club OODAZU\, 421 Dekalb Industrial Way\, Decatur\, Georgia\, 30030\, United States
CATEGORIES:Adult Open Play,Open Play
END:VEVENT
BEGIN:VEVENT
DTSTART;TZID=America/New_York:20260806T180000
DTEND;TZID=America/New_York:20260806T210000
DTSTAMP:20260424T015816
CREATED:20260115T035400Z
LAST-MODIFIED:20260407T161922Z
UID:10016733-1786039200-1786050000@cluboodazu.com
SUMMARY:Adult Open Play - Weeknight
DESCRIPTION:Grown-ups get their own time on the courts with dedicated Adult Open Play sessions featuring pickleball\, basketball\, futsal (indoor soccer)\, pickleball\, and volleyball. A great way to stay active\, play socially\, and enjoy our sports facilities without joining a league. \nLearn More & Register: \nhttps://ecom.roller.app/oodazudecatur/openplay/en-us/products
URL:https://cluboodazu.com/program/adult-open-play-weeknight/2026-08-06/
LOCATION:Club OODAZU\, 421 Dekalb Industrial Way\, Decatur\, Georgia\, 30030\, United States
CATEGORIES:Adult Open Play,Open Play
END:VEVENT
BEGIN:VEVENT
DTSTART;TZID=America/New_York:20260807T180000
DTEND;TZID=America/New_York:20260807T210000
DTSTAMP:20260424T015816
CREATED:20260115T035400Z
LAST-MODIFIED:20260407T161922Z
UID:10016734-1786125600-1786136400@cluboodazu.com
SUMMARY:Adult Open Play - Weeknight
DESCRIPTION:Grown-ups get their own time on the courts with dedicated Adult Open Play sessions featuring pickleball\, basketball\, futsal (indoor soccer)\, pickleball\, and volleyball. A great way to stay active\, play socially\, and enjoy our sports facilities without joining a league. \nLearn More & Register: \nhttps://ecom.roller.app/oodazudecatur/openplay/en-us/products
URL:https://cluboodazu.com/program/adult-open-play-weeknight/2026-08-07/
LOCATION:Club OODAZU\, 421 Dekalb Industrial Way\, Decatur\, Georgia\, 30030\, United States
CATEGORIES:Adult Open Play,Open Play
END:VEVENT
BEGIN:VEVENT
DTSTART;TZID=America/New_York:20260808T090000
DTEND;TZID=America/New_York:20260808T200000
DTSTAMP:20260424T015816
CREATED:20260115T035747Z
LAST-MODIFIED:20260129T213307Z
UID:10016344-1786179600-1786219200@cluboodazu.com
SUMMARY:Adult Open Play - Saturdays
DESCRIPTION:Grown-ups get their own time on the courts with dedicated Adult Open Play sessions featuring pickleball\, basketball\, and futsal (indoor soccer). A great way to stay active\, play socially\, and enjoy our sports facilities without joining a league. \nLearn More & Register: \nhttps://ecom.roller.app/oodazudecatur/openplay/en-us/products
URL:https://cluboodazu.com/program/adult-open-play-saturday/2026-08-08/
LOCATION:Club OODAZU\, 421 Dekalb Industrial Way\, Decatur\, Georgia\, 30030\, United States
CATEGORIES:Adult Open Play,Open Play
END:VEVENT
BEGIN:VEVENT
DTSTART;TZID=America/New_York:20260809T100000
DTEND;TZID=America/New_York:20260809T180000
DTSTAMP:20260424T015816
CREATED:20260115T040045Z
LAST-MODIFIED:20260407T162040Z
UID:10019596-1786269600-1786298400@cluboodazu.com
SUMMARY:Adult Open Play - Sundays
DESCRIPTION:Grown-ups get their own time on the courts with dedicated Adult Open Play sessions featuring pickleball\, basketball\, and futsal (indoor soccer). A great way to stay active\, play socially\, and enjoy our sports facilities without joining a league. \nLearn More & Register: \nhttps://ecom.roller.app/oodazudecatur/openplay/en-us/products
URL:https://cluboodazu.com/program/adult-open-play-sundays/2026-08-09/
LOCATION:Club OODAZU\, 421 Dekalb Industrial Way\, Decatur\, Georgia\, 30030\, United States
CATEGORIES:Adult Open Play,Open Play
END:VEVENT
BEGIN:VEVENT
DTSTART;TZID=America/New_York:20260810T180000
DTEND;TZID=America/New_York:20260810T210000
DTSTAMP:20260424T015816
CREATED:20260115T035400Z
LAST-MODIFIED:20260407T161922Z
UID:10016735-1786384800-1786395600@cluboodazu.com
SUMMARY:Adult Open Play - Weeknight
DESCRIPTION:Grown-ups get their own time on the courts with dedicated Adult Open Play sessions featuring pickleball\, basketball\, futsal (indoor soccer)\, pickleball\, and volleyball. A great way to stay active\, play socially\, and enjoy our sports facilities without joining a league. \nLearn More & Register: \nhttps://ecom.roller.app/oodazudecatur/openplay/en-us/products
URL:https://cluboodazu.com/program/adult-open-play-weeknight/2026-08-10/
LOCATION:Club OODAZU\, 421 Dekalb Industrial Way\, Decatur\, Georgia\, 30030\, United States
CATEGORIES:Adult Open Play,Open Play
END:VEVENT
BEGIN:VEVENT
DTSTART;TZID=America/New_York:20260811T180000
DTEND;TZID=America/New_York:20260811T210000
DTSTAMP:20260424T015816
CREATED:20260115T035400Z
LAST-MODIFIED:20260407T161922Z
UID:10016736-1786471200-1786482000@cluboodazu.com
SUMMARY:Adult Open Play - Weeknight
DESCRIPTION:Grown-ups get their own time on the courts with dedicated Adult Open Play sessions featuring pickleball\, basketball\, futsal (indoor soccer)\, pickleball\, and volleyball. A great way to stay active\, play socially\, and enjoy our sports facilities without joining a league. \nLearn More & Register: \nhttps://ecom.roller.app/oodazudecatur/openplay/en-us/products
URL:https://cluboodazu.com/program/adult-open-play-weeknight/2026-08-11/
LOCATION:Club OODAZU\, 421 Dekalb Industrial Way\, Decatur\, Georgia\, 30030\, United States
CATEGORIES:Adult Open Play,Open Play
END:VEVENT
BEGIN:VEVENT
DTSTART;TZID=America/New_York:20260812T180000
DTEND;TZID=America/New_York:20260812T210000
DTSTAMP:20260424T015816
CREATED:20260115T035400Z
LAST-MODIFIED:20260407T161922Z
UID:10016737-1786557600-1786568400@cluboodazu.com
SUMMARY:Adult Open Play - Weeknight
DESCRIPTION:Grown-ups get their own time on the courts with dedicated Adult Open Play sessions featuring pickleball\, basketball\, futsal (indoor soccer)\, pickleball\, and volleyball. A great way to stay active\, play socially\, and enjoy our sports facilities without joining a league. \nLearn More & Register: \nhttps://ecom.roller.app/oodazudecatur/openplay/en-us/products
URL:https://cluboodazu.com/program/adult-open-play-weeknight/2026-08-12/
LOCATION:Club OODAZU\, 421 Dekalb Industrial Way\, Decatur\, Georgia\, 30030\, United States
CATEGORIES:Adult Open Play,Open Play
END:VEVENT
END:VCALENDAR